Back to Multiple platform build/check report for BioC 3.20:   simplified   long
ABCDEFGHIJKLMNOPQR[S]TUVWXYZ

This page was generated on 2025-02-06 12:10 -0500 (Thu, 06 Feb 2025).

HostnameOSArch (*)R versionInstalled pkgs
nebbiolo2Linux (Ubuntu 24.04.1 LTS)x86_644.4.2 (2024-10-31) -- "Pile of Leaves" 4753
palomino8Windows Server 2022 Datacenterx644.4.2 (2024-10-31 ucrt) -- "Pile of Leaves" 4501
merida1macOS 12.7.5 Montereyx86_644.4.2 (2024-10-31) -- "Pile of Leaves" 4524
kjohnson1macOS 13.6.6 Venturaarm644.4.2 (2024-10-31) -- "Pile of Leaves" 4476
taishanLinux (openEuler 24.03 LTS)aarch644.4.2 (2024-10-31) -- "Pile of Leaves" 4407
Click on any hostname to see more info about the system (e.g. compilers)      (*) as reported by 'uname -p', except on Windows and Mac OS X

Package 1871/2289HostnameOS / ArchINSTALLBUILDCHECKBUILD BIN
scDiagnostics 1.0.0  (landing page)
Anthony Christidis
Snapshot Date: 2025-02-03 13:00 -0500 (Mon, 03 Feb 2025)
git_url: https://git.bioconductor.org/packages/scDiagnostics
git_branch: RELEASE_3_20
git_last_commit: f91e911
git_last_commit_date: 2024-10-29 11:33:29 -0500 (Tue, 29 Oct 2024)
nebbiolo2Linux (Ubuntu 24.04.1 LTS) / x86_64  OK    OK    OK  UNNEEDED, same version is already published
palomino8Windows Server 2022 Datacenter / x64  OK    OK    OK    OK  UNNEEDED, same version is already published
merida1macOS 12.7.5 Monterey / x86_64  OK    OK    OK    NA  
kjohnson1macOS 13.6.6 Ventura / arm64  OK    OK    OK    OK  UNNEEDED, same version is already published
taishanLinux (openEuler 24.03 LTS) / aarch64  OK    ERROR  skipped


CHECK results for scDiagnostics on kjohnson1

To the developers/maintainers of the scDiagnostics package:
- Allow up to 24 hours (and sometimes 48 hours) for your latest push to git@git.bioconductor.org:packages/scDiagnostics.git to reflect on this report. See Troubleshooting Build Report for more information.
- Use the following Renviron settings to reproduce errors and warnings.
- If 'R CMD check' started to fail recently on the Linux builder(s) over a missing dependency, add the missing dependency to 'Suggests:' in your DESCRIPTION file. See Renviron.bioc for more information.

raw results


Summary

Package: scDiagnostics
Version: 1.0.0
Command: /Library/Frameworks/R.framework/Resources/bin/R CMD check --install=check:scDiagnostics.install-out.txt --library=/Library/Frameworks/R.framework/Resources/library --no-vignettes --timings scDiagnostics_1.0.0.tar.gz
StartedAt: 2025-02-05 09:05:26 -0500 (Wed, 05 Feb 2025)
EndedAt: 2025-02-05 09:14:23 -0500 (Wed, 05 Feb 2025)
EllapsedTime: 536.4 seconds
RetCode: 0
Status:   OK  
CheckDir: scDiagnostics.Rcheck
Warnings: 0

Command output

##############################################################################
##############################################################################
###
### Running command:
###
###   /Library/Frameworks/R.framework/Resources/bin/R CMD check --install=check:scDiagnostics.install-out.txt --library=/Library/Frameworks/R.framework/Resources/library --no-vignettes --timings scDiagnostics_1.0.0.tar.gz
###
##############################################################################
##############################################################################


* using log directory ‘/Users/biocbuild/bbs-3.20-bioc/meat/scDiagnostics.Rcheck’
* using R version 4.4.2 (2024-10-31)
* using platform: aarch64-apple-darwin20
* R was compiled by
    Apple clang version 14.0.0 (clang-1400.0.29.202)
    GNU Fortran (GCC) 12.2.0
* running under: macOS Ventura 13.7.1
* using session charset: UTF-8
* using option ‘--no-vignettes’
* checking for file ‘scDiagnostics/DESCRIPTION’ ... OK
* checking extension type ... Package
* this is package ‘scDiagnostics’ version ‘1.0.0’
* package encoding: UTF-8
* checking package namespace information ... OK
* checking package dependencies ... OK
* checking if this is a source package ... OK
* checking if there is a namespace ... OK
* checking for hidden files and directories ... OK
* checking for portable file names ... OK
* checking for sufficient/correct file permissions ... OK
* checking whether package ‘scDiagnostics’ can be installed ... OK
* checking installed package size ... OK
* checking package directory ... OK
* checking ‘build’ directory ... OK
* checking DESCRIPTION meta-information ... OK
* checking top-level files ... OK
* checking for left-over files ... OK
* checking index information ... OK
* checking package subdirectories ... OK
* checking code files for non-ASCII characters ... OK
* checking R files for syntax errors ... OK
* checking whether the package can be loaded ... OK
* checking whether the package can be loaded with stated dependencies ... OK
* checking whether the package can be unloaded cleanly ... OK
* checking whether the namespace can be loaded with stated dependencies ... OK
* checking whether the namespace can be unloaded cleanly ... OK
* checking dependencies in R code ... OK
* checking S3 generic/method consistency ... OK
* checking replacement functions ... OK
* checking foreign function calls ... OK
* checking R code for possible problems ... OK
* checking Rd files ... OK
* checking Rd metadata ... OK
* checking Rd cross-references ... OK
* checking for missing documentation entries ... OK
* checking for code/documentation mismatches ... OK
* checking Rd \usage sections ... OK
* checking Rd contents ... OK
* checking for unstated dependencies in examples ... OK
* checking contents of ‘data’ directory ... OK
* checking data for non-ASCII characters ... OK
* checking LazyData ... NOTE
  'LazyDataCompression' is specified without 'LazyData'
* checking data for ASCII and uncompressed saves ... OK
* checking files in ‘vignettes’ ... OK
* checking examples ... OK
Examples with CPU (user + system) or elapsed time > 5s
                                        user system elapsed
plotCellTypeMDS                       28.490  0.266  29.974
calculateCellDistances                18.135  0.703  19.567
calculateCramerPValue                 14.193  2.186  17.165
calculateDiscriminantSpace             6.356  0.167   4.808
calculateVarImpOverlap                 6.227  0.141   3.899
calculateCellDistancesSimilarity       5.955  0.322   6.605
calculateNearestNeighborProbabilities  5.089  0.182   5.571
* checking for unstated dependencies in ‘tests’ ... OK
* checking tests ...
  Running ‘testthat.R’
 OK
* checking for unstated dependencies in vignettes ... OK
* checking package vignettes ... OK
* checking running R code from vignettes ... SKIPPED
* checking re-building of vignette outputs ... SKIPPED
* checking PDF version of manual ... OK
* DONE

Status: 1 NOTE
See
  ‘/Users/biocbuild/bbs-3.20-bioc/meat/scDiagnostics.Rcheck/00check.log’
for details.


Installation output

scDiagnostics.Rcheck/00install.out

##############################################################################
##############################################################################
###
### Running command:
###
###   /Library/Frameworks/R.framework/Resources/bin/R CMD INSTALL scDiagnostics
###
##############################################################################
##############################################################################


* installing to library ‘/Library/Frameworks/R.framework/Versions/4.4-arm64/Resources/library’
* installing *source* package ‘scDiagnostics’ ...
** using staged installation
** R
** data
** inst
** byte-compile and prepare package for lazy loading
** help
*** installing help indices
** building package indices
** installing vignettes
** testing if installed package can be loaded from temporary location
** testing if installed package can be loaded from final location
** testing if installed package keeps a record of temporary installation path
* DONE (scDiagnostics)

Tests output

scDiagnostics.Rcheck/tests/testthat.Rout


R version 4.4.2 (2024-10-31) -- "Pile of Leaves"
Copyright (C) 2024 The R Foundation for Statistical Computing
Platform: aarch64-apple-darwin20

R is free software and comes with ABSOLUTELY NO WARRANTY.
You are welcome to redistribute it under certain conditions.
Type 'license()' or 'licence()' for distribution details.

R is a collaborative project with many contributors.
Type 'contributors()' for more information and
'citation()' on how to cite R or R packages in publications.

Type 'demo()' for some demos, 'help()' for on-line help, or
'help.start()' for an HTML browser interface to help.
Type 'q()' to quit R.

> # This file is part of the standard setup for testthat.
> # It is recommended that you do not modify it.
> #
> # Where should you do additional test configuration?
> # Learn more about the roles of various files in:
> # * https://r-pkgs.org/testing-design.html#sec-tests-files-overview
> # * https://testthat.r-lib.org/articles/special-files.html
> 
> library(testthat)
> library(scDiagnostics)
> 
> test_check("scDiagnostics")
[ FAIL 0 | WARN 27 | SKIP 0 | PASS 276 ]

[ FAIL 0 | WARN 27 | SKIP 0 | PASS 276 ]
> 
> proc.time()
   user  system elapsed 
179.514   9.329 185.459 

Example timings

scDiagnostics.Rcheck/scDiagnostics-Ex.timings

nameusersystemelapsed
boxplotPCA2.7880.1232.926
calculateAveragePairwiseCorrelation2.9030.1673.135
calculateCategorizationEntropy0.0130.0010.014
calculateCellDistances18.135 0.70319.567
calculateCellDistancesSimilarity5.9550.3226.605
calculateCellSimilarityPCA2.2490.1062.556
calculateCramerPValue14.193 2.18617.165
calculateDiscriminantSpace6.3560.1674.808
calculateHVGOverlap1.5230.0711.673
calculateHotellingPValue1.6220.0751.809
calculateNearestNeighborProbabilities5.0890.1825.571
calculateSIRSpace3.3970.0703.583
calculateVarImpOverlap6.2270.1413.899
calculateWassersteinDistance2.4950.1532.749
compareCCA1.2510.0461.333
comparePCA1.3040.0641.437
comparePCASubspace1.4640.0501.566
detectAnomaly2.8070.1053.034
histQCvsAnnotation0.6470.0280.696
plot.calculateWassersteinDistanceObject2.0330.1182.260
plotCellTypeMDS28.490 0.26629.974
plotCellTypePCA2.6260.1122.826
plotGeneExpressionDimred1.7060.0571.850
plotGeneSetScores1.1230.0261.188
plotMarkerExpression0.7300.0220.790
plotPairwiseDistancesDensity1.3560.1441.556
plotQCvsAnnotation0.2440.0140.281
projectPCA0.4170.0290.494
projectSIR2.0870.0692.264
qc_data0.0540.0070.062
query_data0.0480.0060.056
reference_data0.1100.0070.119
regressPC1.8860.0492.014