| Back to Multiple platform build/check report for BioC 3.20: simplified long |
|
This page was generated on 2024-11-20 12:06 -0500 (Wed, 20 Nov 2024).
| Hostname | OS | Arch (*) | R version | Installed pkgs |
|---|---|---|---|---|
| teran2 | Linux (Ubuntu 24.04.1 LTS) | x86_64 | 4.4.2 (2024-10-31) -- "Pile of Leaves" | 4481 |
| nebbiolo2 | Linux (Ubuntu 24.04.1 LTS) | x86_64 | 4.4.2 (2024-10-31) -- "Pile of Leaves" | 4479 |
| palomino8 | Windows Server 2022 Datacenter | x64 | 4.4.2 (2024-10-31 ucrt) -- "Pile of Leaves" | 4359 |
| lconway | macOS 12.7.1 Monterey | x86_64 | 4.4.1 (2024-06-14) -- "Race for Your Life" | 4539 |
| kunpeng2 | Linux (openEuler 22.03 LTS-SP1) | aarch64 | 4.4.1 (2024-06-14) -- "Race for Your Life" | 4493 |
| Click on any hostname to see more info about the system (e.g. compilers) (*) as reported by 'uname -p', except on Windows and Mac OS X | ||||
| Package 1871/2289 | Hostname | OS / Arch | INSTALL | BUILD | CHECK | BUILD BIN | ||||||||
| scDiagnostics 1.0.0 (landing page) Anthony Christidis
| teran2 | Linux (Ubuntu 24.04.1 LTS) / x86_64 | OK | OK | OK | |||||||||
| nebbiolo2 | Linux (Ubuntu 24.04.1 LTS) / x86_64 | OK | OK | OK | ||||||||||
| palomino8 | Windows Server 2022 Datacenter / x64 | OK | OK | OK | OK | |||||||||
| lconway | macOS 12.7.1 Monterey / x86_64 | OK | OK | OK | OK | |||||||||
| kunpeng2 | Linux (openEuler 22.03 LTS-SP1) / aarch64 | OK | OK | OK | ||||||||||
|
To the developers/maintainers of the scDiagnostics package: - Allow up to 24 hours (and sometimes 48 hours) for your latest push to git@git.bioconductor.org:packages/scDiagnostics.git to reflect on this report. See Troubleshooting Build Report for more information. - Use the following Renviron settings to reproduce errors and warnings. - If 'R CMD check' started to fail recently on the Linux builder(s) over a missing dependency, add the missing dependency to 'Suggests:' in your DESCRIPTION file. See Renviron.bioc for more information. |
| Package: scDiagnostics |
| Version: 1.0.0 |
| Command: /Library/Frameworks/R.framework/Resources/bin/R CMD check --install=check:scDiagnostics.install-out.txt --library=/Library/Frameworks/R.framework/Resources/library --no-vignettes --timings scDiagnostics_1.0.0.tar.gz |
| StartedAt: 2024-11-20 02:21:40 -0500 (Wed, 20 Nov 2024) |
| EndedAt: 2024-11-20 02:31:16 -0500 (Wed, 20 Nov 2024) |
| EllapsedTime: 576.2 seconds |
| RetCode: 0 |
| Status: OK |
| CheckDir: scDiagnostics.Rcheck |
| Warnings: 0 |
##############################################################################
##############################################################################
###
### Running command:
###
### /Library/Frameworks/R.framework/Resources/bin/R CMD check --install=check:scDiagnostics.install-out.txt --library=/Library/Frameworks/R.framework/Resources/library --no-vignettes --timings scDiagnostics_1.0.0.tar.gz
###
##############################################################################
##############################################################################
* using log directory ‘/Users/biocbuild/bbs-3.20-bioc/meat/scDiagnostics.Rcheck’
* using R version 4.4.1 (2024-06-14)
* using platform: x86_64-apple-darwin20
* R was compiled by
Apple clang version 14.0.0 (clang-1400.0.29.202)
GNU Fortran (GCC) 12.2.0
* running under: macOS Monterey 12.7.6
* using session charset: UTF-8
* using option ‘--no-vignettes’
* checking for file ‘scDiagnostics/DESCRIPTION’ ... OK
* checking extension type ... Package
* this is package ‘scDiagnostics’ version ‘1.0.0’
* package encoding: UTF-8
* checking package namespace information ... OK
* checking package dependencies ...Warning: unable to access index for repository https://CRAN.R-project.org/src/contrib:
cannot open URL 'https://CRAN.R-project.org/src/contrib/PACKAGES'
OK
* checking if this is a source package ... OK
* checking if there is a namespace ... OK
* checking for hidden files and directories ... OK
* checking for portable file names ... OK
* checking for sufficient/correct file permissions ... OK
* checking whether package ‘scDiagnostics’ can be installed ... OK
* checking installed package size ... OK
* checking package directory ... OK
* checking ‘build’ directory ... OK
* checking DESCRIPTION meta-information ... OK
* checking top-level files ... OK
* checking for left-over files ... OK
* checking index information ... OK
* checking package subdirectories ... OK
* checking code files for non-ASCII characters ... OK
* checking R files for syntax errors ... OK
* checking whether the package can be loaded ... OK
* checking whether the package can be loaded with stated dependencies ... OK
* checking whether the package can be unloaded cleanly ... OK
* checking whether the namespace can be loaded with stated dependencies ... OK
* checking whether the namespace can be unloaded cleanly ... OK
* checking dependencies in R code ... OK
* checking S3 generic/method consistency ... OK
* checking replacement functions ... OK
* checking foreign function calls ... OK
* checking R code for possible problems ... OK
* checking Rd files ... OK
* checking Rd metadata ... OK
* checking Rd cross-references ... OK
* checking for missing documentation entries ... OK
* checking for code/documentation mismatches ... OK
* checking Rd \usage sections ... OK
* checking Rd contents ... OK
* checking for unstated dependencies in examples ... OK
* checking contents of ‘data’ directory ... OK
* checking data for non-ASCII characters ... OK
* checking LazyData ... NOTE
'LazyDataCompression' is specified without 'LazyData'
* checking data for ASCII and uncompressed saves ... OK
* checking files in ‘vignettes’ ... OK
* checking examples ... OK
Examples with CPU (user + system) or elapsed time > 5s
user system elapsed
plotCellTypeMDS 14.068 0.243 14.379
calculateCellDistances 11.744 0.556 12.445
calculateCramerPValue 9.637 2.325 11.992
calculateCellDistancesSimilarity 4.764 0.233 5.096
* checking for unstated dependencies in ‘tests’ ... OK
* checking tests ...
Running ‘testthat.R’
OK
* checking for unstated dependencies in vignettes ... OK
* checking package vignettes ... OK
* checking running R code from vignettes ... SKIPPED
* checking re-building of vignette outputs ... SKIPPED
* checking PDF version of manual ... OK
* DONE
Status: 1 NOTE
See
‘/Users/biocbuild/bbs-3.20-bioc/meat/scDiagnostics.Rcheck/00check.log’
for details.
scDiagnostics.Rcheck/00install.out
############################################################################## ############################################################################## ### ### Running command: ### ### /Library/Frameworks/R.framework/Resources/bin/R CMD INSTALL scDiagnostics ### ############################################################################## ############################################################################## * installing to library ‘/Library/Frameworks/R.framework/Versions/4.4-x86_64/Resources/library’ * installing *source* package ‘scDiagnostics’ ... ** using staged installation ** R ** data ** inst ** byte-compile and prepare package for lazy loading ** help *** installing help indices ** building package indices ** installing vignettes ** testing if installed package can be loaded from temporary location ** testing if installed package can be loaded from final location ** testing if installed package keeps a record of temporary installation path * DONE (scDiagnostics)
scDiagnostics.Rcheck/tests/testthat.Rout
R version 4.4.1 (2024-06-14) -- "Race for Your Life"
Copyright (C) 2024 The R Foundation for Statistical Computing
Platform: x86_64-apple-darwin20
R is free software and comes with ABSOLUTELY NO WARRANTY.
You are welcome to redistribute it under certain conditions.
Type 'license()' or 'licence()' for distribution details.
R is a collaborative project with many contributors.
Type 'contributors()' for more information and
'citation()' on how to cite R or R packages in publications.
Type 'demo()' for some demos, 'help()' for on-line help, or
'help.start()' for an HTML browser interface to help.
Type 'q()' to quit R.
> # This file is part of the standard setup for testthat.
> # It is recommended that you do not modify it.
> #
> # Where should you do additional test configuration?
> # Learn more about the roles of various files in:
> # * https://r-pkgs.org/testing-design.html#sec-tests-files-overview
> # * https://testthat.r-lib.org/articles/special-files.html
>
> library(testthat)
> library(scDiagnostics)
>
> test_check("scDiagnostics")
'as(<dsCMatrix>, "dgCMatrix")' is deprecated.
Use 'as(., "generalMatrix")' instead.
See help("Deprecated") and help("Matrix-deprecated").
[ FAIL 0 | WARN 27 | SKIP 0 | PASS 276 ]
[ FAIL 0 | WARN 27 | SKIP 0 | PASS 276 ]
>
> proc.time()
user system elapsed
107.831 8.323 111.941
scDiagnostics.Rcheck/scDiagnostics-Ex.timings
| name | user | system | elapsed | |
| boxplotPCA | 1.582 | 0.082 | 1.673 | |
| calculateAveragePairwiseCorrelation | 2.682 | 0.136 | 2.853 | |
| calculateCategorizationEntropy | 0.008 | 0.001 | 0.008 | |
| calculateCellDistances | 11.744 | 0.556 | 12.445 | |
| calculateCellDistancesSimilarity | 4.764 | 0.233 | 5.096 | |
| calculateCellSimilarityPCA | 1.489 | 0.084 | 1.644 | |
| calculateCramerPValue | 9.637 | 2.325 | 11.992 | |
| calculateDiscriminantSpace | 3.732 | 0.168 | 2.753 | |
| calculateHVGOverlap | 1.026 | 0.059 | 1.089 | |
| calculateHotellingPValue | 1.132 | 0.058 | 1.193 | |
| calculateNearestNeighborProbabilities | 2.900 | 0.082 | 2.990 | |
| calculateSIRSpace | 2.166 | 0.037 | 2.211 | |
| calculateVarImpOverlap | 3.695 | 0.126 | 2.196 | |
| calculateWassersteinDistance | 2.661 | 0.299 | 2.984 | |
| compareCCA | 0.839 | 0.026 | 0.869 | |
| comparePCA | 0.914 | 0.052 | 0.974 | |
| comparePCASubspace | 1.023 | 0.033 | 1.062 | |
| detectAnomaly | 1.859 | 0.065 | 2.004 | |
| histQCvsAnnotation | 0.460 | 0.019 | 0.483 | |
| plot.calculateWassersteinDistanceObject | 1.476 | 0.093 | 1.583 | |
| plotCellTypeMDS | 14.068 | 0.243 | 14.379 | |
| plotCellTypePCA | 1.049 | 0.040 | 1.091 | |
| plotGeneExpressionDimred | 1.071 | 0.017 | 1.092 | |
| plotGeneSetScores | 0.835 | 0.055 | 0.902 | |
| plotMarkerExpression | 0.450 | 0.006 | 0.458 | |
| plotPairwiseDistancesDensity | 1.570 | 0.125 | 1.700 | |
| plotQCvsAnnotation | 0.190 | 0.074 | 0.283 | |
| projectPCA | 0.242 | 0.004 | 0.249 | |
| projectSIR | 1.071 | 0.008 | 1.084 | |
| qc_data | 0.029 | 0.002 | 0.031 | |
| query_data | 0.026 | 0.002 | 0.027 | |
| reference_data | 0.059 | 0.001 | 0.061 | |
| regressPC | 1.335 | 0.050 | 1.392 | |