Back to Multiple platform build/check report for BioC 3.20:   simplified   long
ABCDEFGHIJKLMNO[P]QRSTUVWXYZ

This page was generated on 2025-01-30 12:12 -0500 (Thu, 30 Jan 2025).

HostnameOSArch (*)R versionInstalled pkgs
nebbiolo2Linux (Ubuntu 24.04.1 LTS)x86_644.4.2 (2024-10-31) -- "Pile of Leaves" 4746
palomino8Windows Server 2022 Datacenterx644.4.2 (2024-10-31 ucrt) -- "Pile of Leaves" 4494
merida1macOS 12.7.5 Montereyx86_644.4.2 (2024-10-31) -- "Pile of Leaves" 4517
kjohnson1macOS 13.6.6 Venturaarm644.4.2 (2024-10-31) -- "Pile of Leaves" 4469
taishanLinux (openEuler 24.03 LTS)aarch644.4.2 (2024-10-31) -- "Pile of Leaves" 4400
Click on any hostname to see more info about the system (e.g. compilers)      (*) as reported by 'uname -p', except on Windows and Mac OS X

Package 1522/2289HostnameOS / ArchINSTALLBUILDCHECKBUILD BIN
peakPantheR 1.20.0  (landing page)
Arnaud Wolfer
Snapshot Date: 2025-01-27 13:00 -0500 (Mon, 27 Jan 2025)
git_url: https://git.bioconductor.org/packages/peakPantheR
git_branch: RELEASE_3_20
git_last_commit: 89aef90
git_last_commit_date: 2024-10-29 10:40:22 -0500 (Tue, 29 Oct 2024)
nebbiolo2Linux (Ubuntu 24.04.1 LTS) / x86_64  OK    OK    OK  UNNEEDED, same version is already published
palomino8Windows Server 2022 Datacenter / x64  OK    OK    OK    OK  UNNEEDED, same version is already published
merida1macOS 12.7.5 Monterey / x86_64  OK    OK    OK    OK  UNNEEDED, same version is already published
kjohnson1macOS 13.6.6 Ventura / arm64  OK    OK    ERROR    OK  
taishanLinux (openEuler 24.03 LTS) / aarch64  OK    OK    ERROR  


CHECK results for peakPantheR on taishan

To the developers/maintainers of the peakPantheR package:
- Allow up to 24 hours (and sometimes 48 hours) for your latest push to git@git.bioconductor.org:packages/peakPantheR.git to reflect on this report. See Troubleshooting Build Report for more information.
- Use the following Renviron settings to reproduce errors and warnings.
- If 'R CMD check' started to fail recently on the Linux builder(s) over a missing dependency, add the missing dependency to 'Suggests:' in your DESCRIPTION file. See Renviron.bioc for more information.
- See Martin Grigorov's blog post for how to debug Linux ARM64 related issues on a x86_64 host.

raw results


Summary

Package: peakPantheR
Version: 1.20.0
Command: /home/biocbuild/R/R/bin/R CMD check --install=check:peakPantheR.install-out.txt --library=/home/biocbuild/R/R/site-library --no-vignettes --timings peakPantheR_1.20.0.tar.gz
StartedAt: 2025-01-28 09:57:00 -0000 (Tue, 28 Jan 2025)
EndedAt: 2025-01-28 10:18:28 -0000 (Tue, 28 Jan 2025)
EllapsedTime: 1288.3 seconds
RetCode: 1
Status:   ERROR  
CheckDir: peakPantheR.Rcheck
Warnings: NA

Command output

##############################################################################
##############################################################################
###
### Running command:
###
###   /home/biocbuild/R/R/bin/R CMD check --install=check:peakPantheR.install-out.txt --library=/home/biocbuild/R/R/site-library --no-vignettes --timings peakPantheR_1.20.0.tar.gz
###
##############################################################################
##############################################################################


* using log directory ‘/home/biocbuild/bbs-3.20-bioc/meat/peakPantheR.Rcheck’
* using R version 4.4.2 (2024-10-31)
* using platform: aarch64-unknown-linux-gnu
* R was compiled by
    aarch64-unknown-linux-gnu-gcc (GCC) 14.2.0
    GNU Fortran (GCC) 12.3.1 (openEuler 12.3.1-36.oe2403)
* running under: openEuler 24.03 (LTS)
* using session charset: UTF-8
* using option ‘--no-vignettes’
* checking for file ‘peakPantheR/DESCRIPTION’ ... OK
* this is package ‘peakPantheR’ version ‘1.20.0’
* package encoding: UTF-8
* checking package namespace information ... OK
* checking package dependencies ... OK
* checking if this is a source package ... OK
* checking if there is a namespace ... OK
* checking for hidden files and directories ... OK
* checking for portable file names ... OK
* checking for sufficient/correct file permissions ... OK
* checking whether package ‘peakPantheR’ can be installed ... OK
* checking installed package size ... OK
* checking package directory ... OK
* checking ‘build’ directory ... OK
* checking DESCRIPTION meta-information ... OK
* checking top-level files ... OK
* checking for left-over files ... OK
* checking index information ... OK
* checking package subdirectories ... OK
* checking code files for non-ASCII characters ... OK
* checking R files for syntax errors ... OK
* checking whether the package can be loaded ... OK
* checking whether the package can be loaded with stated dependencies ... OK
* checking whether the package can be unloaded cleanly ... OK
* checking whether the namespace can be loaded with stated dependencies ... OK
* checking whether the namespace can be unloaded cleanly ... OK
* checking loading without being on the library search path ... OK
* checking whether startup messages can be suppressed ... OK
* checking dependencies in R code ... OK
* checking S3 generic/method consistency ... OK
* checking replacement functions ... OK
* checking foreign function calls ... OK
* checking R code for possible problems ... OK
* checking Rd files ... OK
* checking Rd metadata ... OK
* checking Rd cross-references ... OK
* checking for missing documentation entries ... OK
* checking for code/documentation mismatches ... OK
* checking Rd \usage sections ... OK
* checking Rd contents ... OK
* checking for unstated dependencies in examples ... OK
* checking files in ‘vignettes’ ... OK
* checking examples ... OK
Examples with CPU (user + system) or elapsed time > 5s
                                                          user system elapsed
peakPantheR_ROIStatistics                               20.006  0.163  20.236
peakPantheR_parallelAnnotation                          14.672  0.020  14.731
EICs-peakPantheRAnnotation-method                       13.726  0.686  14.468
outputAnnotationDiagnostic-peakPantheRAnnotation-method 14.108  0.223  14.426
outputAnnotationResult-peakPantheRAnnotation-method     13.990  0.088  14.115
retentionTimeCorrection-peakPantheRAnnotation-method     9.519  0.028   9.573
* checking for unstated dependencies in ‘tests’ ... OK
* checking tests ...
  Running ‘testthat.R’
 ERROR
Running the tests in ‘tests/testthat.R’ failed.
Last 13 lines of output:
  Error: Test failures
  In addition: Warning messages:
  1: In .Internal(gc(verbose, reset, full)) :
    closing unused connection 10 (/home/biocbuild/tmp/RtmpWnQ6bb/notValidXML.mzML)
  2: In .Internal(gc(verbose, reset, full)) :
    closing unused connection 9 (/home/biocbuild/tmp/RtmpWnQ6bb/notValidXML.mzML)
  3: In .Internal(gc(verbose, reset, full)) :
    closing unused connection 8 (/home/biocbuild/tmp/RtmpWnQ6bb/notValidXML.mzML)
  4: In .Internal(gc(verbose, reset, full)) :
    closing unused connection 7 (/home/biocbuild/tmp/RtmpWnQ6bb/notValidXML.mzML)
  5: In .Internal(gc(verbose, reset, full)) :
    closing unused connection 6 (/home/biocbuild/R/R-4.4.2/site-library/peakPantheR/extdata/test_fakemzML.mzML)
  6: In .Internal(gc(verbose, reset, full)) :
    closing unused connection 5 (/home/biocbuild/R/R-4.4.2/site-library/peakPantheR/extdata/test_fakemzML.mzML)
  Execution halted
* checking for unstated dependencies in vignettes ... OK
* checking package vignettes ... OK
* checking running R code from vignettes ... SKIPPED
* checking re-building of vignette outputs ... SKIPPED
* checking PDF version of manual ... OK
* DONE

Status: 1 ERROR
See
  ‘/home/biocbuild/bbs-3.20-bioc/meat/peakPantheR.Rcheck/00check.log’
for details.


Installation output

peakPantheR.Rcheck/00install.out

##############################################################################
##############################################################################
###
### Running command:
###
###   /home/biocbuild/R/R/bin/R CMD INSTALL peakPantheR
###
##############################################################################
##############################################################################


* installing to library ‘/home/biocbuild/R/R-4.4.2/site-library’
* installing *source* package ‘peakPantheR’ ...
** using staged installation
** R
** inst
** byte-compile and prepare package for lazy loading
** help
*** installing help indices
*** copying figures
** building package indices
** installing vignettes
** testing if installed package can be loaded from temporary location
** testing if installed package can be loaded from final location
** testing if installed package keeps a record of temporary installation path
* DONE (peakPantheR)

Tests output

peakPantheR.Rcheck/tests/testthat.Rout.fail


R version 4.4.2 (2024-10-31) -- "Pile of Leaves"
Copyright (C) 2024 The R Foundation for Statistical Computing
Platform: aarch64-unknown-linux-gnu

R is free software and comes with ABSOLUTELY NO WARRANTY.
You are welcome to redistribute it under certain conditions.
Type 'license()' or 'licence()' for distribution details.

R is a collaborative project with many contributors.
Type 'contributors()' for more information and
'citation()' on how to cite R or R packages in publications.

Type 'demo()' for some demos, 'help()' for on-line help, or
'help.start()' for an HTML browser interface to help.
Type 'q()' to quit R.

> library(testthat)
> library(peakPantheR)

This is peakPantheR version 1.20.0 

> 
> test_check("peakPantheR")
[ FAIL 11 | WARN 0 | SKIP 0 | PASS 1467 ]

══ Failed tests ════════════════════════════════════════════════════════════════
── Failure ('test_findTargetFeatures.R:236:3'): ratio of fit residuals at apex or across maximum is superior to "maxApexResidualRatio", fit is rejected, verbose ──
result_foundPeaks$result not equal to `expected_foundPeaks`.
Component "peakTable": Component "found": 1 element mismatch
Component "peakTable": Component "rtMin": 'is.NA' value mismatch: 1 in current 0 in target
Component "peakTable": Component "rt": 'is.NA' value mismatch: 1 in current 0 in target
Component "peakTable": Component "rtMax": 'is.NA' value mismatch: 1 in current 0 in target
Component "peakTable": Component "mzMin": 'is.NA' value mismatch: 1 in current 0 in target
Component "peakTable": Component "mz": 'is.NA' value mismatch: 1 in current 0 in target
Component "peakTable": Component "mzMax": 'is.NA' value mismatch: 1 in current 0 in target
Component "peakTable": Component "peakArea": 'is.NA' value mismatch: 1 in current 0 in target
Component "peakTable": Component "peakAreaRaw": 'is.NA' value mismatch: 1 in current 0 in target
...
── Failure ('test_findTargetFeatures.R:239:3'): ratio of fit residuals at apex or across maximum is superior to "maxApexResidualRatio", fit is rejected, verbose ──
length(result_foundPeaks$messages) not equal to 5.
1/1 mismatches
[1] 4 - 5 == -1
── Failure ('test_findTargetFeatures.R:240:3'): ratio of fit residuals at apex or across maximum is superior to "maxApexResidualRatio", fit is rejected, verbose ──
result_foundPeaks$messages[1:4] not equal to `expected_messages`.
2/4 mismatches
x[3]: "Warning: rtMin/rtMax outside of ROI; datapoints cannot be used for mzMin/
x[3]: mzMax calculation, approximate mz and returning ROI$mzMin and ROI$mzMax fo
x[3]: r ROI #4\n"
y[3]: "Fit of ROI #3 is unsuccessful (apex residuals is 0.45 of max fit intensit
y[3]: y, max intensity residuals is 0.46 of max fit intensity)\n"

x[4]: "Found 4/4 features in 0.05 secs\n"
y[4]: "Warning: rtMin/rtMax outside of ROI; datapoints cannot be used for mzMin/
y[4]: mzMax calculation, approximate mz and returning ROI$mzMin and ROI$mzMax fo
y[4]: r ROI #4\n"
── Failure ('test_fitCurve.R:55:3'): fit emgGaussian, input params ─────────────
`result_fit` not equal to `expected_fit`.
Component "amplitude": Mean relative difference: 0.0498193
Component "center": Mean relative difference: 8.406796e-05
Component "gamma": Mean relative difference: 0.03903418
── Failure ('test_peakPantheR_ROIStatistics.R:77:3'): 3 files, save EICS, mean IS RT, save IS fit, with sampleColour, verbose, no verbose ──
length(result_ROIstatsV$messages) not equal to 64.
1/1 mismatches
[1] 63 - 64 == -1
── Failure ('test_peakPantheR_ROIStatistics.R:78:3'): 3 files, save EICS, mean IS RT, save IS fit, with sampleColour, verbose, no verbose ──
...[] not equal to `expected_message`.
4/23 mismatches
x[20]: "----------------\n"
y[20]: "Annotation object cannot be reordered by sample acquisition date\n"

x[21]: "Parallel annotation done in: 15.32 secs\n"
y[21]: "----------------\n"

x[22]: "Annotation parameters saved at /home/biocbuild/tmp/RtmpWnQ6bb/IS_search/a
x[22]: nnotationParameters_summary.csv\n"
y[22]: "  0 failure(s)\n"

x[23]: "  Compound 1/4 diagnostic plot saved at /home/biocbuild/tmp/RtmpWnQ6bb/IS
x[23]: _search/cpd_1.png\n"
y[23]: "Saving diagnostic plots:\n"
── Failure ('test_peakPantheR_ROIStatistics.R:156:3'): 3 files, no save EICs, mean IS RT, no IS fit, without sampleColour, verbose, no verbose ──
length(result_ROIstatsV$messages) not equal to 47.
1/1 mismatches
[1] 46 - 47 == -1
── Failure ('test_peakPantheR_ROIStatistics.R:157:3'): 3 files, no save EICs, mean IS RT, no IS fit, without sampleColour, verbose, no verbose ──
result_ROIstatsV$messages[c(1:2, 4:12, 44, 46)] not equal to `expected_message`.
2/13 mismatches
x[12]: "Parallel annotation done in: 15.73 secs\n"
y[12]: "----------------\n"

x[13]: "IS mean RT saved at /home/biocbuild/tmp/RtmpWnQ6bb/IS_mean_RT.csv\n"
y[13]: "  0 failure(s)\n"
── Failure ('test_peakPantheR_parallelAnnotation.R:138:3'): 3 files, 4 compounds, no uROI, no FIR, no getAcquTime, no verbose ──
result_parallelAnnotation$result$annotation not equal to `expected_annotation`.
Attributes: < Component "peakFit": Component 3: Component 3: Modes: list, logical >
Attributes: < Component "peakFit": Component 3: Component 3: names for target but not for current >
Attributes: < Component "peakFit": Component 3: Component 3: Attributes: < Modes: list, NULL > >
Attributes: < Component "peakFit": Component 3: Component 3: Attributes: < names for target but not for current > >
Attributes: < Component "peakFit": Component 3: Component 3: Attributes: < current is not list-like > >
Attributes: < Component "peakFit": Component 3: Component 3: Length mismatch: comparison on first 1 components >
Attributes: < Component "peakFit": Component 3: Component 3: Component 1: Modes: numeric, logical >
Attributes: < Component "peakFit": Component 3: Component 3: Component 1: target is numeric, current is logical >
Attributes: < Component "peakTables": Component 3: Component 1: 1 element mismatch >
...
── Failure ('test_peakPantheR_parallelAnnotation.R:171:3'): 3 files (1 missing), 4 compounds, no uROI, no FIR, no getAcquTime, no verbose ──
result_parallelAnnotation$result$annotation not equal to `expected_annotation`.
Attributes: < Component "peakFit": Component 2: Component 3: Modes: list, logical >
Attributes: < Component "peakFit": Component 2: Component 3: names for target but not for current >
Attributes: < Component "peakFit": Component 2: Component 3: Attributes: < Modes: list, NULL > >
Attributes: < Component "peakFit": Component 2: Component 3: Attributes: < names for target but not for current > >
Attributes: < Component "peakFit": Component 2: Component 3: Attributes: < current is not list-like > >
Attributes: < Component "peakFit": Component 2: Component 3: Length mismatch: comparison on first 1 components >
Attributes: < Component "peakFit": Component 2: Component 3: Component 1: Modes: numeric, logical >
Attributes: < Component "peakFit": Component 2: Component 3: Component 1: target is numeric, current is logical >
Attributes: < Component "peakTables": Component 2: Component 1: 1 element mismatch >
...
── Failure ('test_peakPantheR_parallelAnnotation.R:364:3'): 3 files, 4 compounds, uROI, no FIR, no fitGauss, no getAcquTime, no verbose ──
result_parallelAnnotation$result$annotation not equal to `expected_annotation`.
Attributes: < Component "peakFit": Component 3: Component 3: Modes: list, logical >
Attributes: < Component "peakFit": Component 3: Component 3: names for target but not for current >
Attributes: < Component "peakFit": Component 3: Component 3: Attributes: < Modes: list, NULL > >
Attributes: < Component "peakFit": Component 3: Component 3: Attributes: < names for target but not for current > >
Attributes: < Component "peakFit": Component 3: Component 3: Attributes: < current is not list-like > >
Attributes: < Component "peakFit": Component 3: Component 3: Length mismatch: comparison on first 1 components >
Attributes: < Component "peakFit": Component 3: Component 3: Component 1: Modes: numeric, logical >
Attributes: < Component "peakFit": Component 3: Component 3: Component 1: target is numeric, current is logical >
Attributes: < Component "peakTables": Component 3: Component 1: 1 element mismatch >
...

[ FAIL 11 | WARN 0 | SKIP 0 | PASS 1467 ]
Error: Test failures
In addition: Warning messages:
1: In .Internal(gc(verbose, reset, full)) :
  closing unused connection 10 (/home/biocbuild/tmp/RtmpWnQ6bb/notValidXML.mzML)
2: In .Internal(gc(verbose, reset, full)) :
  closing unused connection 9 (/home/biocbuild/tmp/RtmpWnQ6bb/notValidXML.mzML)
3: In .Internal(gc(verbose, reset, full)) :
  closing unused connection 8 (/home/biocbuild/tmp/RtmpWnQ6bb/notValidXML.mzML)
4: In .Internal(gc(verbose, reset, full)) :
  closing unused connection 7 (/home/biocbuild/tmp/RtmpWnQ6bb/notValidXML.mzML)
5: In .Internal(gc(verbose, reset, full)) :
  closing unused connection 6 (/home/biocbuild/R/R-4.4.2/site-library/peakPantheR/extdata/test_fakemzML.mzML)
6: In .Internal(gc(verbose, reset, full)) :
  closing unused connection 5 (/home/biocbuild/R/R-4.4.2/site-library/peakPantheR/extdata/test_fakemzML.mzML)
Execution halted

Example timings

peakPantheR.Rcheck/peakPantheR-Ex.timings

nameusersystemelapsed
EICs-peakPantheRAnnotation-method13.726 0.68614.468
FIR-peakPantheRAnnotation-method0.0740.0000.075
ROI-peakPantheRAnnotation-method0.0600.0040.065
TIC-peakPantheRAnnotation-method0.0600.0040.065
acquisitionTime-peakPantheRAnnotation-method0.0650.0040.069
annotationDiagnosticPlots-peakPantheRAnnotation-method0.0660.0000.066
annotationParamsDiagnostic-peakPantheRAnnotation-method0.0600.0080.068
annotationTable-peakPantheRAnnotation-method0.0560.0120.068
annotation_diagnostic_multiplot_UI_helper0.1690.0040.173
annotation_fit_summary_UI_helper0.0100.0000.009
annotation_showMethod_UI_helper0.0050.0000.005
annotation_showText_UI_helper0.0010.0000.001
cpdID-peakPantheRAnnotation-method0.0650.0000.065
cpdMetadata-peakPantheRAnnotation-method0.0640.0000.065
cpdName-peakPantheRAnnotation-method0.0640.0000.064
dataPoints-peakPantheRAnnotation-method0.0640.0000.064
filename-peakPantheRAnnotation-method0.0650.0000.065
filepath-peakPantheRAnnotation-method0.0660.0000.067
initialise_annotation_from_files_UI_helper0.0170.0000.017
isAnnotated-peakPantheRAnnotation-method0.0670.0000.067
load_annotation_from_file_UI_helper0.0080.0000.008
nbCompounds-peakPantheRAnnotation-method0.0640.0000.064
nbSamples-peakPantheRAnnotation-method0.0590.0040.063
outputAnnotationDiagnostic-peakPantheRAnnotation-method14.108 0.22314.426
outputAnnotationFeatureMetadata_UI_helper0.0070.0000.006
outputAnnotationParamsCSV-peakPantheRAnnotation-method0.0310.0000.032
outputAnnotationResult-peakPantheRAnnotation-method13.990 0.08814.115
outputAnnotationSpectraMetadata_UI_helper0.0080.0000.008
peakFit-peakPantheRAnnotation-method0.0690.0000.069
peakPantheRAnnotation0.0720.0000.073
peakPantheR_ROIStatistics20.006 0.16320.236
peakPantheR_loadAnnotationParamsCSV0.0090.0000.009
peakPantheR_parallelAnnotation14.672 0.02014.731
peakPantheR_plotEICFit0.4860.0000.487
peakPantheR_plotPeakwidth0.7210.0000.722
peakPantheR_quickEIC4.0320.0164.059
peakPantheR_singleFileSearch4.8910.0244.928
peakPantheR_start_GUI000
peakTables-peakPantheRAnnotation-method0.0650.0040.068
resetAnnotation-peakPantheRAnnotation-method0.0740.0000.074
resetFIR-peakPantheRAnnotation-method0.0070.0000.006
retentionTimeCorrection-peakPantheRAnnotation-method9.5190.0289.573
spectraMetadata-peakPantheRAnnotation-method0.0690.0000.069
spectraPaths_and_metadata_UI_helper0.0020.0000.002
spectra_metadata_colourScheme_UI_helper0.0070.0000.007
uROI-peakPantheRAnnotation-method0.0690.0000.069
uROIExist-peakPantheRAnnotation-method0.0670.0000.068
useFIR-peakPantheRAnnotation-method0.0670.0000.068
useUROI-peakPantheRAnnotation-method0.0650.0040.069