| Back to Multiple platform build/check report for BioC 3.20: simplified long |
|
This page was generated on 2025-04-02 19:29 -0400 (Wed, 02 Apr 2025).
| Hostname | OS | Arch (*) | R version | Installed pkgs |
|---|---|---|---|---|
| nebbiolo2 | Linux (Ubuntu 24.04.1 LTS) | x86_64 | 4.4.3 (2025-02-28) -- "Trophy Case" | 4764 |
| palomino8 | Windows Server 2022 Datacenter | x64 | 4.4.3 (2025-02-28 ucrt) -- "Trophy Case" | 4495 |
| merida1 | macOS 12.7.5 Monterey | x86_64 | 4.4.3 (2025-02-28) -- "Trophy Case" | 4522 |
| kjohnson1 | macOS 13.6.6 Ventura | arm64 | 4.4.3 (2025-02-28) -- "Trophy Case" | 4449 |
| taishan | Linux (openEuler 24.03 LTS) | aarch64 | 4.4.3 (2025-02-28) -- "Trophy Case" | 4426 |
| Click on any hostname to see more info about the system (e.g. compilers) (*) as reported by 'uname -p', except on Windows and Mac OS X | ||||
| Package 1522/2289 | Hostname | OS / Arch | INSTALL | BUILD | CHECK | BUILD BIN | ||||||||
| peakPantheR 1.20.0 (landing page) Arnaud Wolfer
| nebbiolo2 | Linux (Ubuntu 24.04.1 LTS) / x86_64 | OK | OK | OK | |||||||||
| palomino8 | Windows Server 2022 Datacenter / x64 | OK | OK | OK | OK | |||||||||
| merida1 | macOS 12.7.5 Monterey / x86_64 | OK | OK | OK | OK | |||||||||
| kjohnson1 | macOS 13.6.6 Ventura / arm64 | OK | OK | ERROR | OK | |||||||||
| taishan | Linux (openEuler 24.03 LTS) / aarch64 | OK | OK | ERROR | ||||||||||
|
To the developers/maintainers of the peakPantheR package: - Allow up to 24 hours (and sometimes 48 hours) for your latest push to git@git.bioconductor.org:packages/peakPantheR.git to reflect on this report. See Troubleshooting Build Report for more information. - Use the following Renviron settings to reproduce errors and warnings. - If 'R CMD check' started to fail recently on the Linux builder(s) over a missing dependency, add the missing dependency to 'Suggests:' in your DESCRIPTION file. See Renviron.bioc for more information. |
| Package: peakPantheR |
| Version: 1.20.0 |
| Command: /home/biocbuild/bbs-3.20-bioc/R/bin/R CMD check --install=check:peakPantheR.install-out.txt --library=/home/biocbuild/bbs-3.20-bioc/R/site-library --timings peakPantheR_1.20.0.tar.gz |
| StartedAt: 2025-04-01 00:52:36 -0400 (Tue, 01 Apr 2025) |
| EndedAt: 2025-04-01 01:14:21 -0400 (Tue, 01 Apr 2025) |
| EllapsedTime: 1304.4 seconds |
| RetCode: 0 |
| Status: OK |
| CheckDir: peakPantheR.Rcheck |
| Warnings: 0 |
##############################################################################
##############################################################################
###
### Running command:
###
### /home/biocbuild/bbs-3.20-bioc/R/bin/R CMD check --install=check:peakPantheR.install-out.txt --library=/home/biocbuild/bbs-3.20-bioc/R/site-library --timings peakPantheR_1.20.0.tar.gz
###
##############################################################################
##############################################################################
* using log directory ‘/home/biocbuild/bbs-3.20-bioc/meat/peakPantheR.Rcheck’
* using R version 4.4.3 (2025-02-28)
* using platform: x86_64-pc-linux-gnu
* R was compiled by
gcc (Ubuntu 13.3.0-6ubuntu2~24.04) 13.3.0
GNU Fortran (Ubuntu 13.3.0-6ubuntu2~24.04) 13.3.0
* running under: Ubuntu 24.04.2 LTS
* using session charset: UTF-8
* checking for file ‘peakPantheR/DESCRIPTION’ ... OK
* this is package ‘peakPantheR’ version ‘1.20.0’
* package encoding: UTF-8
* checking package namespace information ... OK
* checking package dependencies ... OK
* checking if this is a source package ... OK
* checking if there is a namespace ... OK
* checking for hidden files and directories ... OK
* checking for portable file names ... OK
* checking for sufficient/correct file permissions ... OK
* checking whether package ‘peakPantheR’ can be installed ... OK
* checking installed package size ... OK
* checking package directory ... OK
* checking ‘build’ directory ... OK
* checking DESCRIPTION meta-information ... OK
* checking top-level files ... OK
* checking for left-over files ... OK
* checking index information ... OK
* checking package subdirectories ... OK
* checking code files for non-ASCII characters ... OK
* checking R files for syntax errors ... OK
* checking whether the package can be loaded ... OK
* checking whether the package can be loaded with stated dependencies ... OK
* checking whether the package can be unloaded cleanly ... OK
* checking whether the namespace can be loaded with stated dependencies ... OK
* checking whether the namespace can be unloaded cleanly ... OK
* checking loading without being on the library search path ... OK
* checking whether startup messages can be suppressed ... OK
* checking dependencies in R code ... OK
* checking S3 generic/method consistency ... OK
* checking replacement functions ... OK
* checking foreign function calls ... OK
* checking R code for possible problems ... OK
* checking Rd files ... OK
* checking Rd metadata ... OK
* checking Rd cross-references ... OK
* checking for missing documentation entries ... OK
* checking for code/documentation mismatches ... OK
* checking Rd \usage sections ... OK
* checking Rd contents ... OK
* checking for unstated dependencies in examples ... OK
* checking files in ‘vignettes’ ... OK
* checking examples ... OK
Examples with CPU (user + system) or elapsed time > 5s
user system elapsed
peakPantheR_ROIStatistics 19.233 0.191 19.425
outputAnnotationDiagnostic-peakPantheRAnnotation-method 14.568 0.200 14.780
peakPantheR_parallelAnnotation 14.466 0.123 14.590
outputAnnotationResult-peakPantheRAnnotation-method 13.925 0.065 13.992
EICs-peakPantheRAnnotation-method 10.708 0.590 11.311
retentionTimeCorrection-peakPantheRAnnotation-method 9.940 0.055 9.997
peakPantheR_singleFileSearch 4.982 0.024 5.006
* checking for unstated dependencies in ‘tests’ ... OK
* checking tests ...
Running ‘testthat.R’
OK
* checking for unstated dependencies in vignettes ... OK
* checking package vignettes ... OK
* checking re-building of vignette outputs ... OK
* checking PDF version of manual ... OK
* DONE
Status: OK
peakPantheR.Rcheck/00install.out
############################################################################## ############################################################################## ### ### Running command: ### ### /home/biocbuild/bbs-3.20-bioc/R/bin/R CMD INSTALL peakPantheR ### ############################################################################## ############################################################################## * installing to library ‘/home/biocbuild/bbs-3.20-bioc/R/site-library’ * installing *source* package ‘peakPantheR’ ... ** using staged installation ** R ** inst ** byte-compile and prepare package for lazy loading ** help *** installing help indices *** copying figures ** building package indices ** installing vignettes ** testing if installed package can be loaded from temporary location ** testing if installed package can be loaded from final location ** testing if installed package keeps a record of temporary installation path * DONE (peakPantheR)
peakPantheR.Rcheck/tests/testthat.Rout
R version 4.4.3 (2025-02-28) -- "Trophy Case"
Copyright (C) 2025 The R Foundation for Statistical Computing
Platform: x86_64-pc-linux-gnu
R is free software and comes with ABSOLUTELY NO WARRANTY.
You are welcome to redistribute it under certain conditions.
Type 'license()' or 'licence()' for distribution details.
R is a collaborative project with many contributors.
Type 'contributors()' for more information and
'citation()' on how to cite R or R packages in publications.
Type 'demo()' for some demos, 'help()' for on-line help, or
'help.start()' for an HTML browser interface to help.
Type 'q()' to quit R.
> library(testthat)
> library(peakPantheR)
This is peakPantheR version 1.20.0
>
> test_check("peakPantheR")
[ FAIL 0 | WARN 0 | SKIP 0 | PASS 1478 ]
Warning messages:
1: In .Internal(gc(verbose, reset, full)) :
closing unused connection 10 (/home/biocbuild/bbs-3.20-bioc/tmpdir/Rtmp42u7LO/notValidXML.mzML)
2: In .Internal(gc(verbose, reset, full)) :
closing unused connection 9 (/home/biocbuild/bbs-3.20-bioc/tmpdir/Rtmp42u7LO/notValidXML.mzML)
3: In .Internal(gc(verbose, reset, full)) :
closing unused connection 8 (/home/biocbuild/bbs-3.20-bioc/tmpdir/Rtmp42u7LO/notValidXML.mzML)
4: In .Internal(gc(verbose, reset, full)) :
closing unused connection 7 (/home/biocbuild/bbs-3.20-bioc/tmpdir/Rtmp42u7LO/notValidXML.mzML)
5: In .Internal(gc(verbose, reset, full)) :
closing unused connection 6 (/home/biocbuild/bbs-3.20-bioc/R/site-library/peakPantheR/extdata/test_fakemzML.mzML)
6: In .Internal(gc(verbose, reset, full)) :
closing unused connection 5 (/home/biocbuild/bbs-3.20-bioc/R/site-library/peakPantheR/extdata/test_fakemzML.mzML)
>
> proc.time()
user system elapsed
745.255 15.535 1015.541
peakPantheR.Rcheck/peakPantheR-Ex.timings
| name | user | system | elapsed | |
| EICs-peakPantheRAnnotation-method | 10.708 | 0.590 | 11.311 | |
| FIR-peakPantheRAnnotation-method | 0.051 | 0.002 | 0.053 | |
| ROI-peakPantheRAnnotation-method | 0.044 | 0.001 | 0.045 | |
| TIC-peakPantheRAnnotation-method | 0.041 | 0.002 | 0.042 | |
| acquisitionTime-peakPantheRAnnotation-method | 0.040 | 0.004 | 0.044 | |
| annotationDiagnosticPlots-peakPantheRAnnotation-method | 0.042 | 0.002 | 0.044 | |
| annotationParamsDiagnostic-peakPantheRAnnotation-method | 0.040 | 0.004 | 0.044 | |
| annotationTable-peakPantheRAnnotation-method | 0.046 | 0.003 | 0.049 | |
| annotation_diagnostic_multiplot_UI_helper | 0.126 | 0.001 | 0.127 | |
| annotation_fit_summary_UI_helper | 0.007 | 0.000 | 0.007 | |
| annotation_showMethod_UI_helper | 0.003 | 0.000 | 0.003 | |
| annotation_showText_UI_helper | 0.000 | 0.000 | 0.001 | |
| cpdID-peakPantheRAnnotation-method | 0.046 | 0.001 | 0.048 | |
| cpdMetadata-peakPantheRAnnotation-method | 0.046 | 0.000 | 0.047 | |
| cpdName-peakPantheRAnnotation-method | 0.044 | 0.000 | 0.044 | |
| dataPoints-peakPantheRAnnotation-method | 0.044 | 0.000 | 0.044 | |
| filename-peakPantheRAnnotation-method | 0.047 | 0.001 | 0.048 | |
| filepath-peakPantheRAnnotation-method | 0.046 | 0.001 | 0.047 | |
| initialise_annotation_from_files_UI_helper | 0.012 | 0.000 | 0.012 | |
| isAnnotated-peakPantheRAnnotation-method | 0.044 | 0.002 | 0.046 | |
| load_annotation_from_file_UI_helper | 0.005 | 0.001 | 0.006 | |
| nbCompounds-peakPantheRAnnotation-method | 0.051 | 0.001 | 0.052 | |
| nbSamples-peakPantheRAnnotation-method | 0.052 | 0.002 | 0.054 | |
| outputAnnotationDiagnostic-peakPantheRAnnotation-method | 14.568 | 0.200 | 14.780 | |
| outputAnnotationFeatureMetadata_UI_helper | 0.004 | 0.000 | 0.004 | |
| outputAnnotationParamsCSV-peakPantheRAnnotation-method | 0.02 | 0.00 | 0.02 | |
| outputAnnotationResult-peakPantheRAnnotation-method | 13.925 | 0.065 | 13.992 | |
| outputAnnotationSpectraMetadata_UI_helper | 0.005 | 0.000 | 0.005 | |
| peakFit-peakPantheRAnnotation-method | 0.039 | 0.000 | 0.039 | |
| peakPantheRAnnotation | 0.041 | 0.000 | 0.043 | |
| peakPantheR_ROIStatistics | 19.233 | 0.191 | 19.425 | |
| peakPantheR_loadAnnotationParamsCSV | 0.006 | 0.000 | 0.006 | |
| peakPantheR_parallelAnnotation | 14.466 | 0.123 | 14.590 | |
| peakPantheR_plotEICFit | 0.288 | 0.000 | 0.287 | |
| peakPantheR_plotPeakwidth | 0.474 | 0.001 | 0.475 | |
| peakPantheR_quickEIC | 3.873 | 0.023 | 3.897 | |
| peakPantheR_singleFileSearch | 4.982 | 0.024 | 5.006 | |
| peakPantheR_start_GUI | 0 | 0 | 0 | |
| peakTables-peakPantheRAnnotation-method | 0.045 | 0.000 | 0.046 | |
| resetAnnotation-peakPantheRAnnotation-method | 0.055 | 0.000 | 0.055 | |
| resetFIR-peakPantheRAnnotation-method | 0.004 | 0.000 | 0.004 | |
| retentionTimeCorrection-peakPantheRAnnotation-method | 9.940 | 0.055 | 9.997 | |
| spectraMetadata-peakPantheRAnnotation-method | 0.043 | 0.001 | 0.044 | |
| spectraPaths_and_metadata_UI_helper | 0.002 | 0.000 | 0.003 | |
| spectra_metadata_colourScheme_UI_helper | 0.004 | 0.000 | 0.004 | |
| uROI-peakPantheRAnnotation-method | 0.050 | 0.000 | 0.049 | |
| uROIExist-peakPantheRAnnotation-method | 0.04 | 0.00 | 0.04 | |
| useFIR-peakPantheRAnnotation-method | 0.041 | 0.000 | 0.041 | |
| useUROI-peakPantheRAnnotation-method | 0.042 | 0.000 | 0.042 | |