Back to Multiple platform build/check report for BioC 3.20:   simplified   long
ABCDEFGHIJKLM[N]OPQRSTUVWXYZ

This page was generated on 2025-01-30 12:12 -0500 (Thu, 30 Jan 2025).

HostnameOSArch (*)R versionInstalled pkgs
nebbiolo2Linux (Ubuntu 24.04.1 LTS)x86_644.4.2 (2024-10-31) -- "Pile of Leaves" 4746
palomino8Windows Server 2022 Datacenterx644.4.2 (2024-10-31 ucrt) -- "Pile of Leaves" 4494
merida1macOS 12.7.5 Montereyx86_644.4.2 (2024-10-31) -- "Pile of Leaves" 4517
kjohnson1macOS 13.6.6 Venturaarm644.4.2 (2024-10-31) -- "Pile of Leaves" 4469
taishanLinux (openEuler 24.03 LTS)aarch644.4.2 (2024-10-31) -- "Pile of Leaves" 4400
Click on any hostname to see more info about the system (e.g. compilers)      (*) as reported by 'uname -p', except on Windows and Mac OS X

Package 1434/2289HostnameOS / ArchINSTALLBUILDCHECKBUILD BIN
nullranges 1.12.0  (landing page)
Michael Love
Snapshot Date: 2025-01-27 13:00 -0500 (Mon, 27 Jan 2025)
git_url: https://git.bioconductor.org/packages/nullranges
git_branch: RELEASE_3_20
git_last_commit: 9604c3a
git_last_commit_date: 2024-10-29 11:05:17 -0500 (Tue, 29 Oct 2024)
nebbiolo2Linux (Ubuntu 24.04.1 LTS) / x86_64  OK    OK    OK  UNNEEDED, same version is already published
palomino8Windows Server 2022 Datacenter / x64  OK    OK    OK    OK  UNNEEDED, same version is already published
merida1macOS 12.7.5 Monterey / x86_64  OK    OK    OK    OK  UNNEEDED, same version is already published
kjohnson1macOS 13.6.6 Ventura / arm64  OK    OK    OK    OK  UNNEEDED, same version is already published
taishanLinux (openEuler 24.03 LTS) / aarch64  OK    OK    OK  


CHECK results for nullranges on taishan

To the developers/maintainers of the nullranges package:
- Allow up to 24 hours (and sometimes 48 hours) for your latest push to git@git.bioconductor.org:packages/nullranges.git to reflect on this report. See Troubleshooting Build Report for more information.
- Use the following Renviron settings to reproduce errors and warnings.
- If 'R CMD check' started to fail recently on the Linux builder(s) over a missing dependency, add the missing dependency to 'Suggests:' in your DESCRIPTION file. See Renviron.bioc for more information.
- See Martin Grigorov's blog post for how to debug Linux ARM64 related issues on a x86_64 host.

raw results


Summary

Package: nullranges
Version: 1.12.0
Command: /home/biocbuild/R/R/bin/R CMD check --install=check:nullranges.install-out.txt --library=/home/biocbuild/R/R/site-library --no-vignettes --timings nullranges_1.12.0.tar.gz
StartedAt: 2025-01-28 09:37:15 -0000 (Tue, 28 Jan 2025)
EndedAt: 2025-01-28 09:43:00 -0000 (Tue, 28 Jan 2025)
EllapsedTime: 345.6 seconds
RetCode: 0
Status:   OK  
CheckDir: nullranges.Rcheck
Warnings: 0

Command output

##############################################################################
##############################################################################
###
### Running command:
###
###   /home/biocbuild/R/R/bin/R CMD check --install=check:nullranges.install-out.txt --library=/home/biocbuild/R/R/site-library --no-vignettes --timings nullranges_1.12.0.tar.gz
###
##############################################################################
##############################################################################


* using log directory ‘/home/biocbuild/bbs-3.20-bioc/meat/nullranges.Rcheck’
* using R version 4.4.2 (2024-10-31)
* using platform: aarch64-unknown-linux-gnu
* R was compiled by
    aarch64-unknown-linux-gnu-gcc (GCC) 14.2.0
    GNU Fortran (GCC) 12.3.1 (openEuler 12.3.1-36.oe2403)
* running under: openEuler 24.03 (LTS)
* using session charset: UTF-8
* using option ‘--no-vignettes’
* checking for file ‘nullranges/DESCRIPTION’ ... OK
* this is package ‘nullranges’ version ‘1.12.0’
* package encoding: UTF-8
* checking package namespace information ... OK
* checking package dependencies ... OK
* checking if this is a source package ... OK
* checking if there is a namespace ... OK
* checking for hidden files and directories ... OK
* checking for portable file names ... OK
* checking for sufficient/correct file permissions ... OK
* checking whether package ‘nullranges’ can be installed ... OK
* checking installed package size ... OK
* checking package directory ... OK
* checking ‘build’ directory ... OK
* checking DESCRIPTION meta-information ... OK
* checking top-level files ... OK
* checking for left-over files ... OK
* checking index information ... OK
* checking package subdirectories ... OK
* checking code files for non-ASCII characters ... OK
* checking R files for syntax errors ... OK
* checking whether the package can be loaded ... OK
* checking whether the package can be loaded with stated dependencies ... OK
* checking whether the package can be unloaded cleanly ... OK
* checking whether the namespace can be loaded with stated dependencies ... OK
* checking whether the namespace can be unloaded cleanly ... OK
* checking loading without being on the library search path ... OK
* checking dependencies in R code ... OK
* checking S3 generic/method consistency ... OK
* checking replacement functions ... OK
* checking foreign function calls ... OK
* checking R code for possible problems ... OK
* checking Rd files ... NOTE
checkRd: (-1) MatchedDataFrame.Rd:68: Lost braces in \itemize; meant \describe ?
checkRd: (-1) MatchedDataFrame.Rd:69: Lost braces in \itemize; meant \describe ?
checkRd: (-1) MatchedDataFrame.Rd:70: Lost braces in \itemize; meant \describe ?
checkRd: (-1) MatchedDataFrame.Rd:71: Lost braces in \itemize; meant \describe ?
checkRd: (-1) MatchedDataFrame.Rd:72: Lost braces in \itemize; meant \describe ?
checkRd: (-1) MatchedDataFrame.Rd:83: Lost braces in \itemize; meant \describe ?
checkRd: (-1) MatchedDataFrame.Rd:84: Lost braces in \itemize; meant \describe ?
checkRd: (-1) MatchedDataFrame.Rd:85: Lost braces in \itemize; meant \describe ?
checkRd: (-1) MatchedDataFrame.Rd:86: Lost braces in \itemize; meant \describe ?
checkRd: (-1) MatchedGInteractions.Rd:68: Lost braces in \itemize; meant \describe ?
checkRd: (-1) MatchedGInteractions.Rd:69: Lost braces in \itemize; meant \describe ?
checkRd: (-1) MatchedGInteractions.Rd:70: Lost braces in \itemize; meant \describe ?
checkRd: (-1) MatchedGInteractions.Rd:71: Lost braces in \itemize; meant \describe ?
checkRd: (-1) MatchedGInteractions.Rd:72: Lost braces in \itemize; meant \describe ?
checkRd: (-1) MatchedGInteractions.Rd:83: Lost braces in \itemize; meant \describe ?
checkRd: (-1) MatchedGInteractions.Rd:84: Lost braces in \itemize; meant \describe ?
checkRd: (-1) MatchedGInteractions.Rd:85: Lost braces in \itemize; meant \describe ?
checkRd: (-1) MatchedGInteractions.Rd:86: Lost braces in \itemize; meant \describe ?
checkRd: (-1) MatchedGRanges.Rd:70: Lost braces in \itemize; meant \describe ?
checkRd: (-1) MatchedGRanges.Rd:71: Lost braces in \itemize; meant \describe ?
checkRd: (-1) MatchedGRanges.Rd:72: Lost braces in \itemize; meant \describe ?
checkRd: (-1) MatchedGRanges.Rd:73: Lost braces in \itemize; meant \describe ?
checkRd: (-1) MatchedGRanges.Rd:74: Lost braces in \itemize; meant \describe ?
checkRd: (-1) MatchedGRanges.Rd:85: Lost braces in \itemize; meant \describe ?
checkRd: (-1) MatchedGRanges.Rd:86: Lost braces in \itemize; meant \describe ?
checkRd: (-1) MatchedGRanges.Rd:87: Lost braces in \itemize; meant \describe ?
checkRd: (-1) MatchedGRanges.Rd:88: Lost braces in \itemize; meant \describe ?
checkRd: (-1) matchRanges.Rd:67-70: Lost braces in \itemize; meant \describe ?
checkRd: (-1) matchRanges.Rd:71-73: Lost braces in \itemize; meant \describe ?
checkRd: (-1) matchRanges.Rd:74-77: Lost braces in \itemize; meant \describe ?
checkRd: (-1) matchedClass.Rd:37: Lost braces in \itemize; meant \describe ?
checkRd: (-1) matchedClass.Rd:38: Lost braces in \itemize; meant \describe ?
checkRd: (-1) matchedClass.Rd:39: Lost braces in \itemize; meant \describe ?
checkRd: (-1) matchedClass.Rd:40: Lost braces in \itemize; meant \describe ?
checkRd: (-1) matchedClass.Rd:41: Lost braces in \itemize; meant \describe ?
checkRd: (-1) segmentDensity.Rd:28: Lost braces in \itemize; \value handles \item{}{} directly
checkRd: (-1) segmentDensity.Rd:29: Lost braces in \itemize; \value handles \item{}{} directly
* checking Rd metadata ... OK
* checking Rd cross-references ... OK
* checking for missing documentation entries ... OK
* checking for code/documentation mismatches ... OK
* checking Rd \usage sections ... OK
* checking Rd contents ... OK
* checking for unstated dependencies in examples ... OK
* checking files in ‘vignettes’ ... OK
* checking examples ... OK
* checking for unstated dependencies in ‘tests’ ... OK
* checking tests ...
  Running ‘testthat.R’
 OK
* checking for unstated dependencies in vignettes ... OK
* checking package vignettes ... OK
* checking running R code from vignettes ... SKIPPED
* checking re-building of vignette outputs ... SKIPPED
* checking PDF version of manual ... OK
* DONE

Status: 1 NOTE
See
  ‘/home/biocbuild/bbs-3.20-bioc/meat/nullranges.Rcheck/00check.log’
for details.


Installation output

nullranges.Rcheck/00install.out

##############################################################################
##############################################################################
###
### Running command:
###
###   /home/biocbuild/R/R/bin/R CMD INSTALL nullranges
###
##############################################################################
##############################################################################


* installing to library ‘/home/biocbuild/R/R-4.4.2/site-library’
* installing *source* package ‘nullranges’ ...
** using staged installation
** R
** inst
** byte-compile and prepare package for lazy loading
** help
*** installing help indices
*** copying figures
** building package indices
** installing vignettes
** testing if installed package can be loaded from temporary location
** testing if installed package can be loaded from final location
** testing if installed package keeps a record of temporary installation path
* DONE (nullranges)

Tests output

nullranges.Rcheck/tests/testthat.Rout


R version 4.4.2 (2024-10-31) -- "Pile of Leaves"
Copyright (C) 2024 The R Foundation for Statistical Computing
Platform: aarch64-unknown-linux-gnu

R is free software and comes with ABSOLUTELY NO WARRANTY.
You are welcome to redistribute it under certain conditions.
Type 'license()' or 'licence()' for distribution details.

R is a collaborative project with many contributors.
Type 'contributors()' for more information and
'citation()' on how to cite R or R packages in publications.

Type 'demo()' for some demos, 'help()' for on-line help, or
'help.start()' for an HTML browser interface to help.
Type 'q()' to quit R.

> library(testthat)
> library(nullranges)
> 
> test_check("nullranges")
[ FAIL 0 | WARN 0 | SKIP 0 | PASS 9 ]
> 
> proc.time()
   user  system elapsed 
 19.425   0.611  21.451 

Example timings

nullranges.Rcheck/nullranges-Ex.timings

nameusersystemelapsed
MatchedDataFrame2.5090.0282.577
MatchedGInteractions0.6300.0270.708
MatchedGRanges0.560.000.56
bootRanges0.3900.0000.512
combnCov0.0040.0000.004
covariates0.1710.0000.185
focal0.1840.0000.185
indices0.1940.0000.194
makeExampleMatchedDataSet1.3480.0181.455
matchRanges1.5230.0201.575
matched0.1470.0000.147
matchedClass0.1580.0080.166
matchedData0.1430.0000.154
method0.1560.0000.156
oneRegionSegment0.5220.0081.679
overview0.1800.0000.241
plotCovariate3.1710.0513.372
plotPropensity1.6840.0442.007
plotSegment1.9260.1152.194
pool0.2510.0120.263
reduceSegment0.3110.0080.319
segmentDensity0.6860.0040.693
unmatched0.1580.0040.167
withReplacement0.2050.0120.218