Back to Multiple platform build/check report for BioC 3.20:   simplified   long
ABCDEFGHIJKL[M]NOPQRSTUVWXYZ

This page was generated on 2025-02-06 12:06 -0500 (Thu, 06 Feb 2025).

HostnameOSArch (*)R versionInstalled pkgs
nebbiolo2Linux (Ubuntu 24.04.1 LTS)x86_644.4.2 (2024-10-31) -- "Pile of Leaves" 4753
palomino8Windows Server 2022 Datacenterx644.4.2 (2024-10-31 ucrt) -- "Pile of Leaves" 4501
merida1macOS 12.7.5 Montereyx86_644.4.2 (2024-10-31) -- "Pile of Leaves" 4524
kjohnson1macOS 13.6.6 Venturaarm644.4.2 (2024-10-31) -- "Pile of Leaves" 4476
taishanLinux (openEuler 24.03 LTS)aarch644.4.2 (2024-10-31) -- "Pile of Leaves" 4407
Click on any hostname to see more info about the system (e.g. compilers)      (*) as reported by 'uname -p', except on Windows and Mac OS X

Package 1381/2289HostnameOS / ArchINSTALLBUILDCHECKBUILD BIN
musicatk 2.0.0  (landing page)
Joshua D. Campbell
Snapshot Date: 2025-02-03 13:00 -0500 (Mon, 03 Feb 2025)
git_url: https://git.bioconductor.org/packages/musicatk
git_branch: RELEASE_3_20
git_last_commit: c0c8b45
git_last_commit_date: 2024-10-29 10:52:22 -0500 (Tue, 29 Oct 2024)
nebbiolo2Linux (Ubuntu 24.04.1 LTS) / x86_64  OK    OK    OK  UNNEEDED, same version is already published
palomino8Windows Server 2022 Datacenter / x64  OK    OK    OK    OK  UNNEEDED, same version is already published
merida1macOS 12.7.5 Monterey / x86_64  OK    OK    OK    OK  UNNEEDED, same version is already published
kjohnson1macOS 13.6.6 Ventura / arm64  OK    OK    OK    OK  UNNEEDED, same version is already published
taishanLinux (openEuler 24.03 LTS) / aarch64  OK    OK    OK  


CHECK results for musicatk on palomino8

To the developers/maintainers of the musicatk package:
- Allow up to 24 hours (and sometimes 48 hours) for your latest push to git@git.bioconductor.org:packages/musicatk.git to reflect on this report. See Troubleshooting Build Report for more information.
- Use the following Renviron settings to reproduce errors and warnings.
- If 'R CMD check' started to fail recently on the Linux builder(s) over a missing dependency, add the missing dependency to 'Suggests:' in your DESCRIPTION file. See Renviron.bioc for more information.

raw results


Summary

Package: musicatk
Version: 2.0.0
Command: F:\biocbuild\bbs-3.20-bioc\R\bin\R.exe CMD check --no-multiarch --install=check:musicatk.install-out.txt --library=F:\biocbuild\bbs-3.20-bioc\R\library --no-vignettes --timings musicatk_2.0.0.tar.gz
StartedAt: 2025-02-04 04:15:27 -0500 (Tue, 04 Feb 2025)
EndedAt: 2025-02-04 04:28:56 -0500 (Tue, 04 Feb 2025)
EllapsedTime: 808.9 seconds
RetCode: 0
Status:   OK  
CheckDir: musicatk.Rcheck
Warnings: 0

Command output

##############################################################################
##############################################################################
###
### Running command:
###
###   F:\biocbuild\bbs-3.20-bioc\R\bin\R.exe CMD check --no-multiarch --install=check:musicatk.install-out.txt --library=F:\biocbuild\bbs-3.20-bioc\R\library --no-vignettes --timings musicatk_2.0.0.tar.gz
###
##############################################################################
##############################################################################


* using log directory 'F:/biocbuild/bbs-3.20-bioc/meat/musicatk.Rcheck'
* using R version 4.4.2 (2024-10-31 ucrt)
* using platform: x86_64-w64-mingw32
* R was compiled by
    gcc.exe (GCC) 13.3.0
    GNU Fortran (GCC) 13.3.0
* running under: Windows Server 2022 x64 (build 20348)
* using session charset: UTF-8
* using option '--no-vignettes'
* checking for file 'musicatk/DESCRIPTION' ... OK
* checking extension type ... Package
* this is package 'musicatk' version '2.0.0'
* package encoding: UTF-8
* checking package namespace information ... OK
* checking package dependencies ... OK
* checking if this is a source package ... OK
* checking if there is a namespace ... OK
* checking for hidden files and directories ... OK
* checking for portable file names ... OK
* checking whether package 'musicatk' can be installed ... OK
* checking installed package size ... OK
* checking package directory ... OK
* checking 'build' directory ... OK
* checking DESCRIPTION meta-information ... OK
* checking top-level files ... OK
* checking for left-over files ... OK
* checking index information ... OK
* checking package subdirectories ... OK
* checking code files for non-ASCII characters ... OK
* checking R files for syntax errors ... OK
* checking whether the package can be loaded ... OK
* checking whether the package can be loaded with stated dependencies ... OK
* checking whether the package can be unloaded cleanly ... OK
* checking whether the namespace can be loaded with stated dependencies ... OK
* checking whether the namespace can be unloaded cleanly ... OK
* checking dependencies in R code ... OK
* checking S3 generic/method consistency ... OK
* checking replacement functions ... OK
* checking foreign function calls ... OK
* checking R code for possible problems ... OK
* checking Rd files ... OK
* checking Rd metadata ... OK
* checking Rd cross-references ... OK
* checking for missing documentation entries ... OK
* checking for code/documentation mismatches ... OK
* checking Rd \usage sections ... OK
* checking Rd contents ... OK
* checking for unstated dependencies in examples ... OK
* checking contents of 'data' directory ... OK
* checking data for non-ASCII characters ... OK
* checking LazyData ... OK
* checking data for ASCII and uncompressed saves ... OK
* checking files in 'vignettes' ... OK
* checking examples ... OK
Examples with CPU (user + system) or elapsed time > 5s
                      user system elapsed
plot_k_comparison    85.03   0.53  177.72
compare_k_vals       70.21   0.36  163.92
build_standard_table 10.12   1.75   11.89
plot_cluster          6.12   0.19    6.38
extract_variants      5.86   0.17    6.18
create_umap           5.67   0.11    6.24
plot_umap             5.71   0.05    5.78
compare_cosmic_v2     2.47   0.08    8.12
* checking for unstated dependencies in 'tests' ... OK
* checking tests ...
  Running 'testthat.R'
 OK
* checking for unstated dependencies in vignettes ... OK
* checking package vignettes ... OK
* checking running R code from vignettes ... SKIPPED
* checking re-building of vignette outputs ... SKIPPED
* checking PDF version of manual ... OK
* DONE

Status: OK


Installation output

musicatk.Rcheck/00install.out

##############################################################################
##############################################################################
###
### Running command:
###
###   F:\biocbuild\bbs-3.20-bioc\R\bin\R.exe CMD INSTALL musicatk
###
##############################################################################
##############################################################################


* installing to library 'F:/biocbuild/bbs-3.20-bioc/R/library'
* installing *source* package 'musicatk' ...
** using staged installation
** R
** data
*** moving datasets to lazyload DB
** inst
** byte-compile and prepare package for lazy loading
** help
*** installing help indices
** building package indices
** installing vignettes
** testing if installed package can be loaded from temporary location
** testing if installed package can be loaded from final location
** testing if installed package keeps a record of temporary installation path
* DONE (musicatk)

Tests output

musicatk.Rcheck/tests/testthat.Rout


R version 4.4.2 (2024-10-31 ucrt) -- "Pile of Leaves"
Copyright (C) 2024 The R Foundation for Statistical Computing
Platform: x86_64-w64-mingw32/x64

R is free software and comes with ABSOLUTELY NO WARRANTY.
You are welcome to redistribute it under certain conditions.
Type 'license()' or 'licence()' for distribution details.

R is a collaborative project with many contributors.
Type 'contributors()' for more information and
'citation()' on how to cite R or R packages in publications.

Type 'demo()' for some demos, 'help()' for on-line help, or
'help.start()' for an HTML browser interface to help.
Type 'q()' to quit R.

> library("testthat")
> library("musicatk")
Loading required package: NMF
Loading required package: registry
Loading required package: rngtools
Loading required package: cluster
NMF - BioConductor layer [OK] | Shared memory capabilities [NO: windows] | Cores 2/2

Attaching package: 'NMF'

The following object is masked from 'package:testthat':

    compare

> 
> test_check("musicatk")
[ FAIL 0 | WARN 1 | SKIP 0 | PASS 41 ]

[ FAIL 0 | WARN 1 | SKIP 0 | PASS 41 ]
> 
> proc.time()
   user  system elapsed 
  24.76    2.28   26.18 

Example timings

musicatk.Rcheck/musicatk-Ex.timings

nameusersystemelapsed
add_flank_to_variants3.640.293.94
add_variant_type0.010.000.01
annotate_replication_strand0.110.020.13
annotate_transcript_strand1.530.091.62
annotate_variant_length0.020.000.01
annotate_variant_type0.000.020.02
auto_predict_grid3.860.124.01
build_custom_table1.170.111.27
build_standard_table10.12 1.7511.89
built_tables000
cluster_exposure0.040.000.03
combine_count_tables2.450.352.81
combine_predict_grid0.420.030.55
compare_cosmic_v22.470.088.12
compare_cosmic_v31.700.031.74
compare_k_vals 70.21 0.36163.92
compare_results2.030.032.06
cosmic_v2_subtype_map000
create_musica_from_counts000
create_musica_from_variants1.000.383.08
create_result_model0.010.000.01
create_umap5.670.116.24
credible_intervals0.000.010.01
discover_signatures0.900.161.47
drop_annotation0.010.000.02
exposure_differential_analysis0.020.000.03
exposures0.030.000.03
extract_count_tables000
extract_variants5.860.176.18
extract_variants_from_maf0.160.000.17
extract_variants_from_maf_file0.090.000.10
extract_variants_from_matrix0.140.020.15
extract_variants_from_vcf0.930.060.99
extract_variants_from_vcf_file0.570.000.58
generate_result_grid0.500.030.53
get_modality0.030.000.03
get_model0.000.020.02
get_result_list_entry0.020.000.01
hyperparameter000
k_select1.060.001.07
metrics0.010.000.02
modality000
model_id0.020.000.02
musicatk000
name_signatures0.050.000.04
num_signatures0.010.000.02
other_parameters000
parameter0.020.000.01
pipe000
plot_cluster6.120.196.38
plot_differential_analysis0.160.000.16
plot_exposures0.300.010.31
plot_heatmap2.350.832.05
plot_k_comparison 85.03 0.53177.72
plot_sample_counts0.680.020.70
plot_sample_reconstruction_error1.140.011.19
plot_signatures1.250.001.25
plot_umap5.710.055.78
predict_exposure1.390.201.59
rc000
result_list000
samp_annot0.000.030.03
sample_names0.000.020.02
select_genome000
signatures0.040.010.04
subset_musica_by_annotation0.010.020.04
subset_musica_by_counts0.020.000.01
subset_variant_by_type0.010.000.02
subset_variants_by_samples0.020.000.01
table_selected000
tables0.000.020.02
umap0.000.010.01
variants0.000.020.02