Back to Multiple platform build/check report for BioC 3.20:   simplified   long
ABCDEFGHIJKL[M]NOPQRSTUVWXYZ

This page was generated on 2025-02-06 12:05 -0500 (Thu, 06 Feb 2025).

HostnameOSArch (*)R versionInstalled pkgs
nebbiolo2Linux (Ubuntu 24.04.1 LTS)x86_644.4.2 (2024-10-31) -- "Pile of Leaves" 4753
palomino8Windows Server 2022 Datacenterx644.4.2 (2024-10-31 ucrt) -- "Pile of Leaves" 4501
merida1macOS 12.7.5 Montereyx86_644.4.2 (2024-10-31) -- "Pile of Leaves" 4524
kjohnson1macOS 13.6.6 Venturaarm644.4.2 (2024-10-31) -- "Pile of Leaves" 4476
taishanLinux (openEuler 24.03 LTS)aarch644.4.2 (2024-10-31) -- "Pile of Leaves" 4407
Click on any hostname to see more info about the system (e.g. compilers)      (*) as reported by 'uname -p', except on Windows and Mac OS X

Package 1381/2289HostnameOS / ArchINSTALLBUILDCHECKBUILD BIN
musicatk 2.0.0  (landing page)
Joshua D. Campbell
Snapshot Date: 2025-02-03 13:00 -0500 (Mon, 03 Feb 2025)
git_url: https://git.bioconductor.org/packages/musicatk
git_branch: RELEASE_3_20
git_last_commit: c0c8b45
git_last_commit_date: 2024-10-29 10:52:22 -0500 (Tue, 29 Oct 2024)
nebbiolo2Linux (Ubuntu 24.04.1 LTS) / x86_64  OK    OK    OK  UNNEEDED, same version is already published
palomino8Windows Server 2022 Datacenter / x64  OK    OK    OK    OK  UNNEEDED, same version is already published
merida1macOS 12.7.5 Monterey / x86_64  OK    OK    OK    OK  UNNEEDED, same version is already published
kjohnson1macOS 13.6.6 Ventura / arm64  OK    OK    OK    OK  UNNEEDED, same version is already published
taishanLinux (openEuler 24.03 LTS) / aarch64  OK    OK    OK  


CHECK results for musicatk on nebbiolo2

To the developers/maintainers of the musicatk package:
- Allow up to 24 hours (and sometimes 48 hours) for your latest push to git@git.bioconductor.org:packages/musicatk.git to reflect on this report. See Troubleshooting Build Report for more information.
- Use the following Renviron settings to reproduce errors and warnings.
- If 'R CMD check' started to fail recently on the Linux builder(s) over a missing dependency, add the missing dependency to 'Suggests:' in your DESCRIPTION file. See Renviron.bioc for more information.

raw results


Summary

Package: musicatk
Version: 2.0.0
Command: /home/biocbuild/bbs-3.20-bioc/R/bin/R CMD check --install=check:musicatk.install-out.txt --library=/home/biocbuild/bbs-3.20-bioc/R/site-library --timings musicatk_2.0.0.tar.gz
StartedAt: 2025-02-04 00:36:01 -0500 (Tue, 04 Feb 2025)
EndedAt: 2025-02-04 00:53:07 -0500 (Tue, 04 Feb 2025)
EllapsedTime: 1026.2 seconds
RetCode: 0
Status:   OK  
CheckDir: musicatk.Rcheck
Warnings: 0

Command output

##############################################################################
##############################################################################
###
### Running command:
###
###   /home/biocbuild/bbs-3.20-bioc/R/bin/R CMD check --install=check:musicatk.install-out.txt --library=/home/biocbuild/bbs-3.20-bioc/R/site-library --timings musicatk_2.0.0.tar.gz
###
##############################################################################
##############################################################################


* using log directory ‘/home/biocbuild/bbs-3.20-bioc/meat/musicatk.Rcheck’
* using R version 4.4.2 (2024-10-31)
* using platform: x86_64-pc-linux-gnu
* R was compiled by
    gcc (Ubuntu 13.2.0-23ubuntu4) 13.2.0
    GNU Fortran (Ubuntu 13.2.0-23ubuntu4) 13.2.0
* running under: Ubuntu 24.04.1 LTS
* using session charset: UTF-8
* checking for file ‘musicatk/DESCRIPTION’ ... OK
* checking extension type ... Package
* this is package ‘musicatk’ version ‘2.0.0’
* package encoding: UTF-8
* checking package namespace information ... OK
* checking package dependencies ... OK
* checking if this is a source package ... OK
* checking if there is a namespace ... OK
* checking for hidden files and directories ... OK
* checking for portable file names ... OK
* checking for sufficient/correct file permissions ... OK
* checking whether package ‘musicatk’ can be installed ... OK
* checking installed package size ... OK
* checking package directory ... OK
* checking ‘build’ directory ... OK
* checking DESCRIPTION meta-information ... OK
* checking top-level files ... OK
* checking for left-over files ... OK
* checking index information ... OK
* checking package subdirectories ... OK
* checking code files for non-ASCII characters ... OK
* checking R files for syntax errors ... OK
* checking whether the package can be loaded ... OK
* checking whether the package can be loaded with stated dependencies ... OK
* checking whether the package can be unloaded cleanly ... OK
* checking whether the namespace can be loaded with stated dependencies ... OK
* checking whether the namespace can be unloaded cleanly ... OK
* checking loading without being on the library search path ... OK
* checking dependencies in R code ... OK
* checking S3 generic/method consistency ... OK
* checking replacement functions ... OK
* checking foreign function calls ... OK
* checking R code for possible problems ... OK
* checking Rd files ... OK
* checking Rd metadata ... OK
* checking Rd cross-references ... OK
* checking for missing documentation entries ... OK
* checking for code/documentation mismatches ... OK
* checking Rd \usage sections ... OK
* checking Rd contents ... OK
* checking for unstated dependencies in examples ... OK
* checking contents of ‘data’ directory ... OK
* checking data for non-ASCII characters ... OK
* checking LazyData ... OK
* checking data for ASCII and uncompressed saves ... OK
* checking files in ‘vignettes’ ... OK
* checking examples ... OK
Examples with CPU (user + system) or elapsed time > 5s
                        user system elapsed
plot_k_comparison    199.330  6.524 205.857
compare_k_vals       180.813  6.591 187.391
build_standard_table   6.312  0.388   6.699
plot_cluster           5.765  0.167   5.941
create_umap            5.430  0.361   5.803
plot_umap              5.026  0.176   5.211
* checking for unstated dependencies in ‘tests’ ... OK
* checking tests ...
  Running ‘testthat.R’
 OK
* checking for unstated dependencies in vignettes ... OK
* checking package vignettes ... OK
* checking re-building of vignette outputs ... OK
* checking PDF version of manual ... OK
* DONE

Status: OK


Installation output

musicatk.Rcheck/00install.out

##############################################################################
##############################################################################
###
### Running command:
###
###   /home/biocbuild/bbs-3.20-bioc/R/bin/R CMD INSTALL musicatk
###
##############################################################################
##############################################################################


* installing to library ‘/home/biocbuild/bbs-3.20-bioc/R/site-library’
* installing *source* package ‘musicatk’ ...
** using staged installation
** R
** data
*** moving datasets to lazyload DB
** inst
** byte-compile and prepare package for lazy loading
** help
*** installing help indices
** building package indices
** installing vignettes
** testing if installed package can be loaded from temporary location
** testing if installed package can be loaded from final location
** testing if installed package keeps a record of temporary installation path
* DONE (musicatk)

Tests output

musicatk.Rcheck/tests/testthat.Rout


R version 4.4.2 (2024-10-31) -- "Pile of Leaves"
Copyright (C) 2024 The R Foundation for Statistical Computing
Platform: x86_64-pc-linux-gnu

R is free software and comes with ABSOLUTELY NO WARRANTY.
You are welcome to redistribute it under certain conditions.
Type 'license()' or 'licence()' for distribution details.

R is a collaborative project with many contributors.
Type 'contributors()' for more information and
'citation()' on how to cite R or R packages in publications.

Type 'demo()' for some demos, 'help()' for on-line help, or
'help.start()' for an HTML browser interface to help.
Type 'q()' to quit R.

> library("testthat")
> library("musicatk")
Loading required package: NMF
Loading required package: registry
Loading required package: rngtools
Loading required package: cluster
NMF - BioConductor layer [OK] | Shared memory capabilities [NO: bigmemory] | Cores 2/2
  To enable shared memory capabilities, try: install.extras('
NMF
')

Attaching package: 'NMF'

The following object is masked from 'package:testthat':

    compare

> 
> test_check("musicatk")
[ FAIL 0 | WARN 1 | SKIP 0 | PASS 41 ]

[ FAIL 0 | WARN 1 | SKIP 0 | PASS 41 ]
> 
> proc.time()
   user  system elapsed 
 20.808   1.261  22.068 

Example timings

musicatk.Rcheck/musicatk-Ex.timings

nameusersystemelapsed
add_flank_to_variants2.7710.2583.030
add_variant_type0.0160.0000.015
annotate_replication_strand0.1110.0260.137
annotate_transcript_strand1.1200.0241.144
annotate_variant_length0.0110.0010.012
annotate_variant_type0.0020.0000.002
auto_predict_grid2.8480.0922.941
build_custom_table0.8290.0140.842
build_standard_table6.3120.3886.699
built_tables0.0010.0010.002
cluster_exposure0.0130.0000.013
combine_count_tables2.0660.0862.152
combine_predict_grid0.4070.0170.425
compare_cosmic_v22.4410.0172.458
compare_cosmic_v31.3590.0181.376
compare_k_vals180.813 6.591187.391
compare_results1.6780.1031.780
cosmic_v2_subtype_map0.0010.0000.001
create_musica_from_counts0.0030.0010.004
create_musica_from_variants0.7320.0820.792
create_result_model0.0010.0000.002
create_umap5.4300.3615.803
credible_intervals0.0030.0000.003
discover_signatures0.6480.0390.686
drop_annotation0.0010.0010.002
exposure_differential_analysis0.0100.0010.011
exposures0.0180.0000.018
extract_count_tables0.0030.0000.004
extract_variants4.0980.1804.229
extract_variants_from_maf0.1190.0040.099
extract_variants_from_maf_file0.1050.0030.085
extract_variants_from_matrix0.1240.0000.100
extract_variants_from_vcf0.6250.0130.638
extract_variants_from_vcf_file0.4410.0260.466
generate_result_grid0.3550.0010.356
get_modality0.0060.0000.006
get_model0.0040.0000.004
get_result_list_entry0.0050.0000.005
hyperparameter0.0020.0000.002
k_select0.700.010.71
metrics0.0020.0010.003
modality0.0020.0000.002
model_id0.0020.0000.002
musicatk000
name_signatures0.0300.0000.031
num_signatures0.0020.0000.002
other_parameters0.0010.0010.002
parameter0.0020.0000.001
pipe0.0030.0000.002
plot_cluster5.7650.1675.941
plot_differential_analysis0.1590.0000.159
plot_exposures0.3050.0040.309
plot_heatmap0.7170.0070.725
plot_k_comparison199.330 6.524205.857
plot_sample_counts0.4900.0210.512
plot_sample_reconstruction_error0.6750.0160.691
plot_signatures0.6900.0080.699
plot_umap5.0260.1765.211
predict_exposure1.0040.0331.037
rc0.0020.0000.002
result_list0.0030.0000.003
samp_annot0.0070.0000.007
sample_names0.0020.0010.003
select_genome000
signatures0.0180.0000.018
subset_musica_by_annotation0.0040.0010.005
subset_musica_by_counts0.0090.0000.009
subset_variant_by_type0.0060.0000.006
subset_variants_by_samples0.0050.0000.005
table_selected0.0020.0000.002
tables0.0040.0000.003
umap0.0010.0010.002
variants0.0040.0000.004