| Back to Multiple platform build/check report for BioC 3.20: simplified long |
|
This page was generated on 2024-07-05 11:40 -0400 (Fri, 05 Jul 2024).
| Hostname | OS | Arch (*) | R version | Installed pkgs |
|---|---|---|---|---|
| nebbiolo2 | Linux (Ubuntu 22.04.3 LTS) | x86_64 | 4.4.1 (2024-06-14) -- "Race for Your Life" | 4593 |
| palomino6 | Windows Server 2022 Datacenter | x64 | 4.4.1 (2024-06-14 ucrt) -- "Race for Your Life" | 4414 |
| lconway | macOS 12.7.1 Monterey | x86_64 | 4.4.1 (2024-06-14) -- "Race for Your Life" | 4399 |
| kjohnson3 | macOS 13.6.5 Ventura | arm64 | 4.4.1 (2024-06-14) -- "Race for Your Life" | 4391 |
| kunpeng2 | Linux (openEuler 22.03 LTS-SP1) | aarch64 | 4.4.1 (2024-06-14) -- "Race for Your Life" | 3688 |
| Click on any hostname to see more info about the system (e.g. compilers) (*) as reported by 'uname -p', except on Windows and Mac OS X | ||||
| Package 1342/2243 | Hostname | OS / Arch | INSTALL | BUILD | CHECK | BUILD BIN | ||||||||
| multiGSEA 1.15.0 (landing page) Sebastian Canzler
| nebbiolo2 | Linux (Ubuntu 22.04.3 LTS) / x86_64 | OK | OK | OK | |||||||||
| palomino6 | Windows Server 2022 Datacenter / x64 | OK | OK | ERROR | ERROR | |||||||||
| lconway | macOS 12.7.1 Monterey / x86_64 | OK | OK | OK | OK | |||||||||
| kjohnson3 | macOS 13.6.5 Ventura / arm64 | OK | OK | OK | OK | |||||||||
| kunpeng2 | Linux (openEuler 22.03 LTS-SP1) / aarch64 | ERROR | ERROR | skipped | ||||||||||
|
To the developers/maintainers of the multiGSEA package: - Allow up to 24 hours (and sometimes 48 hours) for your latest push to git@git.bioconductor.org:packages/multiGSEA.git to reflect on this report. See Troubleshooting Build Report for more information. - Use the following Renviron settings to reproduce errors and warnings. - If 'R CMD check' started to fail recently on the Linux builder(s) over a missing dependency, add the missing dependency to 'Suggests:' in your DESCRIPTION file. See Renviron.bioc for more information. |
| Package: multiGSEA |
| Version: 1.15.0 |
| Command: rm -rf multiGSEA.buildbin-libdir && mkdir multiGSEA.buildbin-libdir && C:\Users\biocbuild\bbs-3.20-bioc\R\bin\R.exe CMD INSTALL --build --library=multiGSEA.buildbin-libdir multiGSEA_1.15.0.tar.gz |
| StartedAt: 2024-07-05 06:52:55 -0400 (Fri, 05 Jul 2024) |
| EndedAt: 2024-07-05 06:53:09 -0400 (Fri, 05 Jul 2024) |
| EllapsedTime: 14.3 seconds |
| RetCode: 1 |
| Status: ERROR |
| PackageFile: None |
| PackageFileSize: NA |
############################################################################## ############################################################################## ### ### Running command: ### ### rm -rf multiGSEA.buildbin-libdir && mkdir multiGSEA.buildbin-libdir && C:\Users\biocbuild\bbs-3.20-bioc\R\bin\R.exe CMD INSTALL --build --library=multiGSEA.buildbin-libdir multiGSEA_1.15.0.tar.gz ### ############################################################################## ############################################################################## * installing *source* package 'multiGSEA' ... ** using staged installation ** R ** data ** inst ** byte-compile and prepare package for lazy loading loading from cache Warning: file '3c9857939b4_98538' has magic number 'SQLit' Use of save versions prior to 2 is deprecated Error: .onLoad failed in loadNamespace() for 'metaboliteIDmapping', details: call: NULL error: failed to load resource name: AH91792 title: Mapping table of metabolite IDs and common names reason: error in evaluating the argument 'x' in selecting a method for function 'get': bad restore file magic number (file may be corrupted) -- no data loaded Execution halted ERROR: lazy loading failed for package 'multiGSEA' * removing 'C:/Users/biocbuild/bbs-3.20-bioc/meat/multiGSEA.buildbin-libdir/multiGSEA'