| Back to Multiple platform build/check report for BioC 3.20: simplified long |
|
This page was generated on 2024-07-16 11:40 -0400 (Tue, 16 Jul 2024).
| Hostname | OS | Arch (*) | R version | Installed pkgs |
|---|---|---|---|---|
| nebbiolo2 | Linux (Ubuntu 22.04.3 LTS) | x86_64 | 4.4.1 (2024-06-14) -- "Race for Your Life" | 4677 |
| palomino6 | Windows Server 2022 Datacenter | x64 | 4.4.1 (2024-06-14 ucrt) -- "Race for Your Life" | 4416 |
| lconway | macOS 12.7.1 Monterey | x86_64 | 4.4.1 (2024-06-14) -- "Race for Your Life" | 4444 |
| kjohnson3 | macOS 13.6.5 Ventura | arm64 | 4.4.1 (2024-06-14) -- "Race for Your Life" | 4393 |
| palomino8 | Windows Server 2022 Datacenter | x64 | 4.4.1 (2024-06-14 ucrt) -- "Race for Your Life" | 4373 |
| Click on any hostname to see more info about the system (e.g. compilers) (*) as reported by 'uname -p', except on Windows and Mac OS X | ||||
| Package 1342/2243 | Hostname | OS / Arch | INSTALL | BUILD | CHECK | BUILD BIN | ||||||||
| multiGSEA 1.15.0 (landing page) Sebastian Canzler
| nebbiolo2 | Linux (Ubuntu 22.04.3 LTS) / x86_64 | OK | OK | TIMEOUT | |||||||||
| palomino6 | Windows Server 2022 Datacenter / x64 | ERROR | ERROR | skipped | skipped | |||||||||
| lconway | macOS 12.7.1 Monterey / x86_64 | OK | OK | OK | OK | |||||||||
| kjohnson3 | macOS 13.6.5 Ventura / arm64 | OK | OK | OK | OK | |||||||||
| palomino8 | Windows Server 2022 Datacenter / x64 | OK | OK | OK | OK | |||||||||
|
To the developers/maintainers of the multiGSEA package: - Allow up to 24 hours (and sometimes 48 hours) for your latest push to git@git.bioconductor.org:packages/multiGSEA.git to reflect on this report. See Troubleshooting Build Report for more information. - Use the following Renviron settings to reproduce errors and warnings. - If 'R CMD check' started to fail recently on the Linux builder(s) over a missing dependency, add the missing dependency to 'Suggests:' in your DESCRIPTION file. See Renviron.bioc for more information. |
| Package: multiGSEA |
| Version: 1.15.0 |
| Command: chmod a+r multiGSEA -R && C:\Users\biocbuild\bbs-3.20-bioc\R\bin\R.exe CMD build --keep-empty-dirs --no-resave-data multiGSEA |
| StartedAt: 2024-07-15 19:28:02 -0400 (Mon, 15 Jul 2024) |
| EndedAt: 2024-07-15 19:28:14 -0400 (Mon, 15 Jul 2024) |
| EllapsedTime: 11.7 seconds |
| RetCode: 1 |
| Status: ERROR |
| PackageFile: None |
| PackageFileSize: NA |
##############################################################################
##############################################################################
###
### Running command:
###
### chmod a+r multiGSEA -R && C:\Users\biocbuild\bbs-3.20-bioc\R\bin\R.exe CMD build --keep-empty-dirs --no-resave-data multiGSEA
###
##############################################################################
##############################################################################
* checking for file 'multiGSEA/DESCRIPTION' ... OK
* preparing 'multiGSEA':
* checking DESCRIPTION meta-information ... OK
* installing the package to build vignettes
-----------------------------------
* installing *source* package 'multiGSEA' ...
** using staged installation
** R
** data
** inst
** byte-compile and prepare package for lazy loading
loading from cache
Warning: file '3c9857939b4_98538' has magic number 'SQLit'
Use of save versions prior to 2 is deprecated
Error: .onLoad failed in loadNamespace() for 'metaboliteIDmapping', details:
call: NULL
error: failed to load resource
name: AH91792
title: Mapping table of metabolite IDs and common names
reason: error in evaluating the argument 'x' in selecting a method for function 'get': bad restore file magic number (file may be corrupted) -- no data loaded
Execution halted
ERROR: lazy loading failed for package 'multiGSEA'
* removing 'C:/Users/biocbuild/bbs-3.20-bioc/tmpdir/RtmpSSY5By/Rinst21ac455125e41/multiGSEA'
-----------------------------------
ERROR: package installation failed