Back to Multiple platform build/check report for BioC 3.20: simplified long |
|
This page was generated on 2025-02-06 12:08 -0500 (Thu, 06 Feb 2025).
Hostname | OS | Arch (*) | R version | Installed pkgs |
---|---|---|---|---|
nebbiolo2 | Linux (Ubuntu 24.04.1 LTS) | x86_64 | 4.4.2 (2024-10-31) -- "Pile of Leaves" | 4753 |
palomino8 | Windows Server 2022 Datacenter | x64 | 4.4.2 (2024-10-31 ucrt) -- "Pile of Leaves" | 4501 |
merida1 | macOS 12.7.5 Monterey | x86_64 | 4.4.2 (2024-10-31) -- "Pile of Leaves" | 4524 |
kjohnson1 | macOS 13.6.6 Ventura | arm64 | 4.4.2 (2024-10-31) -- "Pile of Leaves" | 4476 |
taishan | Linux (openEuler 24.03 LTS) | aarch64 | 4.4.2 (2024-10-31) -- "Pile of Leaves" | 4407 |
Click on any hostname to see more info about the system (e.g. compilers) (*) as reported by 'uname -p', except on Windows and Mac OS X |
Package 1347/2289 | Hostname | OS / Arch | INSTALL | BUILD | CHECK | BUILD BIN | ||||||||
msPurity 1.32.0 (landing page) Thomas N. Lawson
| nebbiolo2 | Linux (Ubuntu 24.04.1 LTS) / x86_64 | OK | OK | OK | ![]() | ||||||||
palomino8 | Windows Server 2022 Datacenter / x64 | OK | OK | OK | OK | ![]() | ||||||||
merida1 | macOS 12.7.5 Monterey / x86_64 | OK | OK | OK | OK | ![]() | ||||||||
kjohnson1 | macOS 13.6.6 Ventura / arm64 | OK | OK | OK | OK | ![]() | ||||||||
taishan | Linux (openEuler 24.03 LTS) / aarch64 | OK | OK | OK | ||||||||||
To the developers/maintainers of the msPurity package: - Allow up to 24 hours (and sometimes 48 hours) for your latest push to git@git.bioconductor.org:packages/msPurity.git to reflect on this report. See Troubleshooting Build Report for more information. - Use the following Renviron settings to reproduce errors and warnings. - If 'R CMD check' started to fail recently on the Linux builder(s) over a missing dependency, add the missing dependency to 'Suggests:' in your DESCRIPTION file. See Renviron.bioc for more information. |
Package: msPurity |
Version: 1.32.0 |
Command: /Library/Frameworks/R.framework/Resources/bin/R CMD check --install=check:msPurity.install-out.txt --library=/Library/Frameworks/R.framework/Resources/library --no-vignettes --timings msPurity_1.32.0.tar.gz |
StartedAt: 2025-02-04 06:54:24 -0500 (Tue, 04 Feb 2025) |
EndedAt: 2025-02-04 07:26:21 -0500 (Tue, 04 Feb 2025) |
EllapsedTime: 1916.9 seconds |
RetCode: 0 |
Status: OK |
CheckDir: msPurity.Rcheck |
Warnings: 0 |
############################################################################## ############################################################################## ### ### Running command: ### ### /Library/Frameworks/R.framework/Resources/bin/R CMD check --install=check:msPurity.install-out.txt --library=/Library/Frameworks/R.framework/Resources/library --no-vignettes --timings msPurity_1.32.0.tar.gz ### ############################################################################## ############################################################################## * using log directory ‘/Users/biocbuild/bbs-3.20-bioc/meat/msPurity.Rcheck’ * using R version 4.4.2 (2024-10-31) * using platform: x86_64-apple-darwin20 * R was compiled by Apple clang version 14.0.0 (clang-1400.0.29.202) GNU Fortran (GCC) 12.2.0 * running under: macOS Monterey 12.7.6 * using session charset: UTF-8 * using option ‘--no-vignettes’ * checking for file ‘msPurity/DESCRIPTION’ ... OK * checking extension type ... Package * this is package ‘msPurity’ version ‘1.32.0’ * package encoding: UTF-8 * checking package namespace information ... NOTE Found export directive that requires package ‘methods’: ‘exportMethods’ Remove all such namespace directives (if obsolete) or ensure that the DESCRIPTION Depends or Imports field contains ‘methods’. * checking package dependencies ... OK * checking if this is a source package ... OK * checking if there is a namespace ... OK * checking for hidden files and directories ... NOTE Found the following hidden files and directories: .travis.yml These were most likely included in error. See section ‘Package structure’ in the ‘Writing R Extensions’ manual. * checking for portable file names ... OK * checking for sufficient/correct file permissions ... OK * checking whether package ‘msPurity’ can be installed ... OK * checking installed package size ... NOTE installed size is 19.6Mb sub-directories of 1Mb or more: extdata 18.8Mb * checking package directory ... OK * checking ‘build’ directory ... OK * checking DESCRIPTION meta-information ... OK * checking top-level files ... OK * checking for left-over files ... OK * checking index information ... OK * checking package subdirectories ... OK * checking code files for non-ASCII characters ... OK * checking R files for syntax errors ... OK * checking whether the package can be loaded ... OK * checking whether the package can be loaded with stated dependencies ... OK * checking whether the package can be unloaded cleanly ... OK * checking whether the namespace can be loaded with stated dependencies ... OK * checking whether the namespace can be unloaded cleanly ... OK * checking dependencies in R code ... NOTE Package in Depends field not imported from: ‘Rcpp’ These packages need to be imported from (in the NAMESPACE file) for when this namespace is loaded but not attached. package 'methods' is used but not declared * checking S3 generic/method consistency ... OK * checking replacement functions ... OK * checking foreign function calls ... OK * checking R code for possible problems ... NOTE addGenericMS1LookupResults: no visible global function definition for ‘count.fields’ addMetFragResults: no visible global function definition for ‘count.fields’ addSiriusResults: no visible global function definition for ‘count.fields’ assessPuritySingle: no visible binding for global variable ‘parallel’ combineAnnotations: no visible binding for global variable ‘compoundDbname’ createDatabase: no visible global function definition for ‘featureValues’ create_database : getxcmsSetObject: no visible global function definition for ‘sampclass<-’ dimsPredictPuritySingleMz: no visible binding for global variable ‘mtchi’ dimsPredictPuritySingleMz: no visible binding for global variable ‘alli’ dimsPredictPuritySingleMz: no visible binding for global variable ‘mtch’ filterPrecursors: no visible binding for global variable ‘l_speakmetaFiltered’ filterSMeta: no visible binding for global variable ‘accession’ filterSMeta: no visible binding for global variable ‘inPurity’ filterSMeta: no visible global function definition for ‘lower’ filterSMeta: no visible binding for global variable ‘polarity’ filterSMeta: no visible binding for global variable ‘instrument_type’ filterSMeta: no visible binding for global variable ‘instrument’ filterSMeta: no visible binding for global variable ‘name.y’ filterSMeta: no visible binding for global variable ‘retention_time’ filterSMeta: no visible binding for global variable ‘grpid’ filterSMeta: no visible binding for global variable ‘pid’ filterSMeta: no visible binding for global variable ‘spectrum_type’ flag_remove: no visible global function definition for ‘PeakDensityParam’ flag_remove: no visible global function definition for ‘chromPeaks<-’ flag_remove: no visible global function definition for ‘chromPeaks’ getScanPeaksSqlite: no visible binding for global variable ‘pid’ getScanPeaksSqlite: no visible binding for global variable ‘library_spectra_meta_id’ getScanPeaksSqlite: no visible binding for global variable ‘pass_flag’ getScanPeaksSqlite: no visible binding for global variable ‘type’ getScanPeaksSqlite: no visible binding for global variable ‘spectraType’ getScanPeaksSqlite: no visible binding for global variable ‘ra’ getSmeta: no visible binding for global variable ‘pid’ get_topn: no visible binding for global variable ‘topn’ matchi: no visible global function definition for ‘match_factor’ plotPurity: no visible binding for global variable ‘idx’ plotPurity: no visible binding for global variable ‘purity’ plotPurity: no visible binding for global variable ‘variable’ purityA: no visible binding for global variable ‘i’ queryVlibrary: no visible binding for global variable ‘precursor_mz’ queryVlibrary: no visible binding for global variable ‘retention_time’ queryVlibrarySingle: no visible binding for global variable ‘pid’ queryVlibrarySingle: no visible binding for global variable ‘library_spectra_meta_id’ sum_calc_peaklist: no visible global function definition for ‘phenoData’ averageSpectra,purityD: no visible binding for global variable ‘i’ subtract,purityD: no visible binding for global variable ‘i’ Undefined global functions or variables: PeakDensityParam accession alli chromPeaks chromPeaks<- compoundDbname count.fields featureValues grpid i idx inPurity instrument instrument_type l_speakmetaFiltered library_spectra_meta_id lower match_factor mtch mtchi name.y parallel pass_flag phenoData pid polarity precursor_mz purity ra retention_time sampclass<- spectraType spectrum_type topn type variable Consider adding importFrom("utils", "count.fields") to your NAMESPACE file. * checking Rd files ... NOTE checkRd: (-1) createMSP-purityA-method.Rd:25: Lost braces; missing escapes or markup? 25 | \item{msp_file_pth}{character; Name of the output msp file, if NULL the file "frag_spectra_{time stamp}.msp" will be created in the current directory} | ^ * checking Rd metadata ... OK * checking Rd cross-references ... OK * checking for missing documentation entries ... OK * checking for code/documentation mismatches ... OK * checking Rd \usage sections ... OK * checking Rd contents ... OK * checking for unstated dependencies in examples ... OK * checking files in ‘vignettes’ ... OK * checking examples ... OK Examples with CPU (user + system) or elapsed time > 5s user system elapsed createDatabase 504.164 14.015 445.890 frag4feature-purityA-method 456.358 12.377 384.291 flag_remove 83.797 15.128 51.162 purityX 84.424 3.726 90.043 dimsPredictPurity-purityD-method 84.047 2.669 95.714 assessPuritySingle 22.996 0.252 24.913 purityA 22.749 0.196 23.678 combineAnnotations 22.157 0.609 23.685 spectralMatching 12.650 2.798 16.324 groupPeaks-purityD-method 10.233 1.203 11.570 subtract-purityD-method 7.771 0.546 8.395 groupPeaksEx 6.708 0.438 7.208 averageSpectra-purityD-method 5.657 1.359 7.304 filterp-purityD-method 4.631 0.844 5.716 * checking for unstated dependencies in ‘tests’ ... OK * checking tests ... Running ‘testthat.R’ OK * checking for unstated dependencies in vignettes ... OK * checking package vignettes ... OK * checking running R code from vignettes ... SKIPPED * checking re-building of vignette outputs ... SKIPPED * checking PDF version of manual ... OK * DONE Status: 6 NOTEs See ‘/Users/biocbuild/bbs-3.20-bioc/meat/msPurity.Rcheck/00check.log’ for details.
msPurity.Rcheck/00install.out
############################################################################## ############################################################################## ### ### Running command: ### ### /Library/Frameworks/R.framework/Resources/bin/R CMD INSTALL msPurity ### ############################################################################## ############################################################################## * installing to library ‘/Library/Frameworks/R.framework/Versions/4.4-x86_64/Resources/library’ * installing *source* package ‘msPurity’ ... ** using staged installation ** R ** inst ** byte-compile and prepare package for lazy loading ** help *** installing help indices ** building package indices ** installing vignettes ** testing if installed package can be loaded from temporary location ** testing if installed package can be loaded from final location ** testing if installed package keeps a record of temporary installation path * DONE (msPurity)
msPurity.Rcheck/tests/testthat.Rout
R version 4.4.2 (2024-10-31) -- "Pile of Leaves" Copyright (C) 2024 The R Foundation for Statistical Computing Platform: x86_64-apple-darwin20 R is free software and comes with ABSOLUTELY NO WARRANTY. You are welcome to redistribute it under certain conditions. Type 'license()' or 'licence()' for distribution details. R is a collaborative project with many contributors. Type 'contributors()' for more information and 'citation()' on how to cite R or R packages in publications. Type 'demo()' for some demos, 'help()' for on-line help, or 'help.start()' for an HTML browser interface to help. Type 'q()' to quit R. > library(testthat) > library(msPurity) Loading required package: Rcpp > Sys.setenv("R_TESTS" = "") > test_check("msPurity") [1] "\n" [1] "########################################################" [1] "## Checking pcalc functions ##" [1] "########################################################" [1] "\n" [1] "########################################################" [1] "## Checking purityA ##" [1] "########################################################" [1] "\n" [1] "########################################################" [1] "## Checking frag4feature ##" [1] "########################################################" [1] "\n" [1] "########################################################" [1] "## Checking frag4feature (fillpeaks) ##" [1] "########################################################" [1] "/Library/Frameworks/R.framework/Versions/4.4-x86_64/Resources/library/msPurity/extdata/tests/xcms/msms_only_xcmsnexp.rds" [1] "/Library/Frameworks/R.framework/Versions/4.4-x86_64/Resources/library/msPurity/extdata/tests/xcms/msms_only_xset.rds" [1] "\n" [1] "########################################################" [1] "## Checking filterFragSpectra ##" [1] "########################################################" [1] "\n" [1] "########################################################" [1] "## Checking averageIntraFragSpectra ##" [1] "########################################################" [1] "\n" [1] "########################################################" [1] "## Checking averageInterFragSpectra ##" [1] "########################################################" [1] "\n" [1] "########################################################" [1] "## Checking averageAllFragSpectra ##" [1] "########################################################" [1] "\n" [1] "########################################################" [1] "## Checking averageIntraFragSpectra (with filter) ##" [1] "########################################################" [1] "\n" [1] "########################################################" [1] "## Checking averageInterFragSpectra (with filter) ##" [1] "########################################################" [1] "\n" [1] "########################################################" [1] "## Checking averageAllFragSpectra (with filter) ##" [1] "########################################################" [1] "\n" [1] "########################################################" [1] "## Checking createMSP functions ##" [1] "########################################################" [1] "\n" [1] "########################################################" [1] "## Checking frag4feature (xcms v2 functions) ##" [1] "########################################################" [1] "\n" [1] "####################################################################" [1] "## Checking frag4feature (fillpeaks) (xcms v2 functions) ##" [1] "####################################################################" [1] "\n" [1] "########################################################" [1] "## Checking filterFragSpectra (xcms v2 functions) ##" [1] "########################################################" [1] "\n" [1] "##############################################################" [1] "## Checking averageIntraFragSpectra (xcms v2 functions) ##" [1] "##############################################################" [1] "\n" [1] "#############################################################" [1] "## Checking averageInterFragSpectra (xcms v2 functions) #" [1] "#############################################################" [1] "\n" [1] "########################################################" [1] "## Checking averageAllFragSpectra (xcms v2 functions) #" [1] "########################################################" [1] "\n" [1] "###########################################################################" [1] "## Checking averageIntraFragSpectra (with filter) (xcms v2 functions) ##" [1] "###########################################################################" [1] "\n" [1] "############################################################################" [1] "## Checking averageInterFragSpectra (with filter) (xcms v2 functions) ##" [1] "############################################################################" [1] "\n" [1] "#########################################################################" [1] "## Checking averageAllFragSpectra (with filter) (xcms v2 functions) ##" [1] "#########################################################################" [1] "\n" [1] "########################################################" [1] "## Checking createMSP functions (xcms v2 functions) ##" [1] "########################################################" [1] "\n" [1] "########################################################" [1] "## checking flag and remove (lc-ms) ##" [1] "########################################################" [1] "\n" [1] "#######################################################" [1] "## Checking database (new schema) ##" [1] "#######################################################" [1] "\n" [1] "###############################################################" [1] "## Checking database (new schema) (xcms v2 functions) ##" [1] "###############################################################" [1] "\n" [1] "########################################################" [1] "## Checking database (old schema) ##" [1] "########################################################" [1] "\n" [1] "########################################################" [1] "## Testing spectral matching (spectralMatching) qvl ##" [1] "########################################################" [1] "\n" [1] "########################################################" [1] "## Testing spectral matching (spectralMatching) lvl ##" [1] "########################################################" [1] "\n" [1] "########################################################" [1] "## Testing spectral matching (spectralMatching) qvq ##" [1] "########################################################" [1] "\n" [1] "#################################################################" [1] "## Testing spectral matching (spectralMatching) q(scan) v q ##" [1] "#################################################################" [1] "\n" [1] "############################################################################" [1] "## Testing spectral matching (spectralMatching) qvl (xcms v2 functions) ##" [1] "############################################################################" [1] "\n" [1] "############################################################################" [1] "## Testing spectral matching (spectralMatching) qvq (xcms v2 functions) ##" [1] "############################################################################" [1] "\n" [1] "######################################################################################" [1] "## Testing spectral matching (spectralMatching) q(scan) v q (xcms v2 functions) ##" [1] "######################################################################################" [1] "\n" [1] "########################################################" [1] "## Checking combine annotations based functions ##" [1] "########################################################" [1] "\n" [1] "########################################################" [1] "## Checking purityX (grouped) ##" [1] "########################################################" [1] "\n" [1] "########################################################" [1] "## Checking purityX (single file) ##" [1] "########################################################" [1] "\n" [1] "########################################################" [1] "## Checking file list function ##" [1] "########################################################" [1] "=== check for using csv ===" [1] "=== check for using mzML ===" [1] "########################################################" [1] "## Check average spectra (function only) ##" [1] "########################################################" [1] "=== check single core ===" [1] "=== check simple clustering ===" [1] "=== check using MsFileReader output (median SNR thres) ===" snmeth: median[1] "=== check using MsFileReader output (precalc SNR thres) ===" snmeth: precalc[1] "########################################################" [1] "## Check mz subtraction (function only) ##" [1] "########################################################" [1] "########################################################" [1] "## Check predict purity (function only) ##" [1] "########################################################" [1] "=== Check predicted purity for mzML files ===" [1] "########################################################" [1] "## Check groupPeaks (function only) ##" [1] "########################################################" [1] "=== check single core ===" [1] "########################################################" [1] "## Check mzML Workflow ##" [1] "########################################################" [1] "averaging spectra" [1] "filtering spectra" [1] "subtracting" [1] "purity prediction" [ FAIL 0 | WARN 0 | SKIP 0 | PASS 306 ] Warning message: call dbDisconnect() when finished working with a connection > > proc.time() user system elapsed 491.142 39.233 538.170
msPurity.Rcheck/msPurity-Ex.timings
name | user | system | elapsed | |
Getfiles | 0.006 | 0.001 | 0.010 | |
assessPuritySingle | 22.996 | 0.252 | 24.913 | |
averageAllFragSpectra-purityA-method | 0.455 | 0.006 | 0.510 | |
averageInterFragSpectra-purityA-method | 1.005 | 0.013 | 1.028 | |
averageIntraFragSpectra-purityA-method | 1.235 | 0.015 | 1.269 | |
averageSpectra-purityD-method | 5.657 | 1.359 | 7.304 | |
averageSpectraSingle | 2.307 | 0.181 | 2.511 | |
combineAnnotations | 22.157 | 0.609 | 23.685 | |
createDatabase | 504.164 | 14.015 | 445.890 | |
createMSP-purityA-method | 0.233 | 0.029 | 0.271 | |
create_database | 2.773 | 0.090 | 3.216 | |
dimsPredictPurity-purityD-method | 84.047 | 2.669 | 95.714 | |
dimsPredictPuritySingle | 0.079 | 0.002 | 0.084 | |
filterFragSpectra-purityA-method | 0.175 | 0.003 | 0.190 | |
filterp-purityD-method | 4.631 | 0.844 | 5.716 | |
flag_remove | 83.797 | 15.128 | 51.162 | |
frag4feature-purityA-method | 456.358 | 12.377 | 384.291 | |
getP-purityD-method | 0.005 | 0.001 | 0.006 | |
get_additional_mzml_meta | 0.038 | 0.002 | 0.040 | |
groupPeaks-purityD-method | 10.233 | 1.203 | 11.570 | |
groupPeaksEx | 6.708 | 0.438 | 7.208 | |
initialize-purityD-method | 0.005 | 0.001 | 0.006 | |
iwNormGauss | 0.002 | 0.001 | 0.003 | |
iwNormQE.5 | 0.001 | 0.001 | 0.003 | |
iwNormRcosine | 0.002 | 0.000 | 0.002 | |
pcalc | 0.009 | 0.001 | 0.009 | |
purityA | 22.749 | 0.196 | 23.678 | |
purityD-class | 0.005 | 0.001 | 0.005 | |
purityX | 84.424 | 3.726 | 90.043 | |
spectralMatching | 12.650 | 2.798 | 16.324 | |
spectral_matching | 0.000 | 0.001 | 0.002 | |
subtract-purityD-method | 7.771 | 0.546 | 8.395 | |
subtractMZ | 0.001 | 0.000 | 0.001 | |