| Back to Multiple platform build/check report for BioC 3.20: simplified long |
|
This page was generated on 2024-11-20 12:06 -0500 (Wed, 20 Nov 2024).
| Hostname | OS | Arch (*) | R version | Installed pkgs |
|---|---|---|---|---|
| teran2 | Linux (Ubuntu 24.04.1 LTS) | x86_64 | 4.4.2 (2024-10-31) -- "Pile of Leaves" | 4481 |
| nebbiolo2 | Linux (Ubuntu 24.04.1 LTS) | x86_64 | 4.4.2 (2024-10-31) -- "Pile of Leaves" | 4479 |
| palomino8 | Windows Server 2022 Datacenter | x64 | 4.4.2 (2024-10-31 ucrt) -- "Pile of Leaves" | 4359 |
| lconway | macOS 12.7.1 Monterey | x86_64 | 4.4.1 (2024-06-14) -- "Race for Your Life" | 4539 |
| kunpeng2 | Linux (openEuler 22.03 LTS-SP1) | aarch64 | 4.4.1 (2024-06-14) -- "Race for Your Life" | 4493 |
| Click on any hostname to see more info about the system (e.g. compilers) (*) as reported by 'uname -p', except on Windows and Mac OS X | ||||
| Package 1288/2289 | Hostname | OS / Arch | INSTALL | BUILD | CHECK | BUILD BIN | ||||||||
| mixOmics 6.30.0 (landing page) Eva Hamrud
| teran2 | Linux (Ubuntu 24.04.1 LTS) / x86_64 | OK | OK | OK | |||||||||
| nebbiolo2 | Linux (Ubuntu 24.04.1 LTS) / x86_64 | OK | OK | OK | ||||||||||
| palomino8 | Windows Server 2022 Datacenter / x64 | OK | OK | OK | OK | |||||||||
| lconway | macOS 12.7.1 Monterey / x86_64 | OK | OK | OK | OK | |||||||||
| kunpeng2 | Linux (openEuler 22.03 LTS-SP1) / aarch64 | OK | OK | ERROR | ||||||||||
|
To the developers/maintainers of the mixOmics package: - Allow up to 24 hours (and sometimes 48 hours) for your latest push to git@git.bioconductor.org:packages/mixOmics.git to reflect on this report. See Troubleshooting Build Report for more information. - Use the following Renviron settings to reproduce errors and warnings. - If 'R CMD check' started to fail recently on the Linux builder(s) over a missing dependency, add the missing dependency to 'Suggests:' in your DESCRIPTION file. See Renviron.bioc for more information. |
| Package: mixOmics |
| Version: 6.30.0 |
| Command: /Library/Frameworks/R.framework/Resources/bin/R CMD check --install=check:mixOmics.install-out.txt --library=/Library/Frameworks/R.framework/Resources/library --no-vignettes --timings mixOmics_6.30.0.tar.gz |
| StartedAt: 2024-11-20 00:08:41 -0500 (Wed, 20 Nov 2024) |
| EndedAt: 2024-11-20 00:17:14 -0500 (Wed, 20 Nov 2024) |
| EllapsedTime: 513.0 seconds |
| RetCode: 0 |
| Status: OK |
| CheckDir: mixOmics.Rcheck |
| Warnings: 0 |
##############################################################################
##############################################################################
###
### Running command:
###
### /Library/Frameworks/R.framework/Resources/bin/R CMD check --install=check:mixOmics.install-out.txt --library=/Library/Frameworks/R.framework/Resources/library --no-vignettes --timings mixOmics_6.30.0.tar.gz
###
##############################################################################
##############################################################################
* using log directory ‘/Users/biocbuild/bbs-3.20-bioc/meat/mixOmics.Rcheck’
* using R version 4.4.1 (2024-06-14)
* using platform: x86_64-apple-darwin20
* R was compiled by
Apple clang version 14.0.0 (clang-1400.0.29.202)
GNU Fortran (GCC) 12.2.0
* running under: macOS Monterey 12.7.6
* using session charset: UTF-8
* using option ‘--no-vignettes’
* checking for file ‘mixOmics/DESCRIPTION’ ... OK
* checking extension type ... Package
* this is package ‘mixOmics’ version ‘6.30.0’
* package encoding: UTF-8
* checking package namespace information ... OK
* checking package dependencies ...Warning: unable to access index for repository https://CRAN.R-project.org/src/contrib:
cannot open URL 'https://CRAN.R-project.org/src/contrib/PACKAGES'
OK
* checking if this is a source package ... OK
* checking if there is a namespace ... OK
* checking for hidden files and directories ... OK
* checking for portable file names ... OK
* checking for sufficient/correct file permissions ... OK
* checking whether package ‘mixOmics’ can be installed ... OK
* checking installed package size ... NOTE
installed size is 6.2Mb
sub-directories of 1Mb or more:
R 1.4Mb
data 3.3Mb
* checking package directory ... OK
* checking DESCRIPTION meta-information ... OK
* checking top-level files ... OK
* checking for left-over files ... OK
* checking index information ... OK
* checking package subdirectories ... OK
* checking code files for non-ASCII characters ... OK
* checking R files for syntax errors ... OK
* checking whether the package can be loaded ... OK
* checking whether the package can be loaded with stated dependencies ... OK
* checking whether the package can be unloaded cleanly ... OK
* checking whether the namespace can be loaded with stated dependencies ... OK
* checking whether the namespace can be unloaded cleanly ... OK
* checking whether startup messages can be suppressed ... OK
* checking dependencies in R code ... NOTE
Namespace in Imports field not imported from: ‘gsignal’
All declared Imports should be used.
* checking S3 generic/method consistency ... OK
* checking replacement functions ... OK
* checking foreign function calls ... OK
* checking R code for possible problems ... OK
* checking Rd files ... OK
* checking Rd metadata ... OK
* checking Rd cross-references ... OK
* checking for missing documentation entries ... OK
* checking for code/documentation mismatches ... OK
* checking Rd \usage sections ... OK
* checking Rd contents ... OK
* checking for unstated dependencies in examples ... OK
* checking contents of ‘data’ directory ... OK
* checking data for non-ASCII characters ... OK
* checking data for ASCII and uncompressed saves ... OK
* checking files in ‘vignettes’ ... OK
* checking examples ... OK
Examples with CPU (user + system) or elapsed time > 5s
user system elapsed
biplot 10.357 0.077 10.468
background.predict 5.563 1.274 6.886
block.splsda 5.126 0.084 5.231
circosPlot 4.996 0.101 5.125
* checking for unstated dependencies in ‘tests’ ... OK
* checking tests ...
Running ‘testthat.R’
OK
* checking for unstated dependencies in vignettes ... OK
* checking package vignettes ... OK
* checking running R code from vignettes ... SKIPPED
* checking re-building of vignette outputs ... SKIPPED
* checking PDF version of manual ... OK
* DONE
Status: 2 NOTEs
See
‘/Users/biocbuild/bbs-3.20-bioc/meat/mixOmics.Rcheck/00check.log’
for details.
mixOmics.Rcheck/00install.out
############################################################################## ############################################################################## ### ### Running command: ### ### /Library/Frameworks/R.framework/Resources/bin/R CMD INSTALL mixOmics ### ############################################################################## ############################################################################## * installing to library ‘/Library/Frameworks/R.framework/Versions/4.4-x86_64/Resources/library’ * installing *source* package ‘mixOmics’ ... ** using staged installation ** R ** data ** inst ** byte-compile and prepare package for lazy loading ** help *** installing help indices ** building package indices ** installing vignettes ** testing if installed package can be loaded from temporary location ** testing if installed package can be loaded from final location ** testing if installed package keeps a record of temporary installation path * DONE (mixOmics)
mixOmics.Rcheck/tests/testthat.Rout
R version 4.4.1 (2024-06-14) -- "Race for Your Life"
Copyright (C) 2024 The R Foundation for Statistical Computing
Platform: x86_64-apple-darwin20
R is free software and comes with ABSOLUTELY NO WARRANTY.
You are welcome to redistribute it under certain conditions.
Type 'license()' or 'licence()' for distribution details.
R is a collaborative project with many contributors.
Type 'contributors()' for more information and
'citation()' on how to cite R or R packages in publications.
Type 'demo()' for some demos, 'help()' for on-line help, or
'help.start()' for an HTML browser interface to help.
Type 'q()' to quit R.
> library(testthat)
> library(mixOmics)
Loading required package: MASS
Loading required package: lattice
Loading required package: ggplot2
Loaded mixOmics 6.30.0
Thank you for using mixOmics!
Tutorials: http://mixomics.org
Bookdown vignette: https://mixomicsteam.github.io/Bookdown
Questions, issues: Follow the prompts at http://mixomics.org/contact-us
Cite us: citation('mixOmics')
>
> test_check("mixOmics")
2024-11-20 00:15:23.711 R[78205:460235544] XType: com.apple.fonts is not accessible.
2024-11-20 00:15:23.711 R[78205:460235544] XType: XTFontStaticRegistry is enabled.
[ FAIL 0 | WARN 1 | SKIP 0 | PASS 236 ]
[ FAIL 0 | WARN 1 | SKIP 0 | PASS 236 ]
Warning messages:
1: In for (i in seq_len(n)) { :
closing unused connection 6 (<-localhost:11777)
2: In for (i in seq_len(n)) { :
closing unused connection 5 (<-localhost:11777)
>
> proc.time()
user system elapsed
81.308 4.334 110.224
mixOmics.Rcheck/mixOmics-Ex.timings
| name | user | system | elapsed | |
| S3methods-print | 0.015 | 0.004 | 0.019 | |
| auroc | 0.831 | 0.042 | 0.876 | |
| background.predict | 5.563 | 1.274 | 6.886 | |
| biplot | 10.357 | 0.077 | 10.468 | |
| block.pls | 0.400 | 0.010 | 0.413 | |
| block.plsda | 0.519 | 0.005 | 0.526 | |
| block.spls | 4.292 | 0.065 | 4.377 | |
| block.splsda | 5.126 | 0.084 | 5.231 | |
| cim | 0.031 | 0.006 | 0.038 | |
| cimDiablo | 0.218 | 0.011 | 0.230 | |
| circosPlot | 4.996 | 0.101 | 5.125 | |
| colors | 0.024 | 0.001 | 0.025 | |
| explained_variance | 0.072 | 0.003 | 0.074 | |
| get.confusion_matrix | 0.113 | 0.007 | 0.120 | |
| image.tune.rcc | 1.697 | 0.046 | 1.747 | |
| imgCor | 0.052 | 0.010 | 0.063 | |
| impute.nipals | 0.008 | 0.004 | 0.013 | |
| ipca | 0.832 | 0.037 | 0.872 | |
| logratio-transformations | 0.053 | 0.005 | 0.057 | |
| map | 0.003 | 0.005 | 0.008 | |
| mat.rank | 0.001 | 0.000 | 0.001 | |
| mint.block.pls | 0.110 | 0.004 | 0.115 | |
| mint.block.plsda | 0.099 | 0.006 | 0.105 | |
| mint.block.spls | 0.128 | 0.003 | 0.132 | |
| mint.block.splsda | 0.111 | 0.007 | 0.118 | |
| mint.pca | 0.306 | 0.008 | 0.315 | |
| mint.pls | 0.434 | 0.008 | 0.449 | |
| mint.plsda | 0.527 | 0.016 | 0.549 | |
| mint.spls | 0.424 | 0.004 | 0.434 | |
| mint.splsda | 0.498 | 0.006 | 0.508 | |
| mixOmics | 0.267 | 0.028 | 0.298 | |
| nearZeroVar | 0.558 | 0.012 | 0.571 | |
| network | 0.011 | 0.005 | 0.015 | |
| pca | 3.971 | 0.070 | 4.069 | |
| perf | 2.137 | 0.118 | 2.271 | |
| plot.rcc | 0.012 | 0.006 | 0.018 | |
| plot.tune | 0.000 | 0.001 | 0.001 | |
| plotArrow | 2.916 | 0.060 | 2.996 | |
| plotDiablo | 0.150 | 0.006 | 0.157 | |
| plotIndiv | 0.237 | 0.011 | 0.248 | |
| plotLoadings | 0.085 | 0.006 | 0.092 | |
| plotMarkers | 0 | 0 | 0 | |
| plotVar | 0.463 | 0.013 | 0.479 | |
| pls | 0.005 | 0.001 | 0.006 | |
| plsda | 0.281 | 0.008 | 0.290 | |
| predict | 0.135 | 0.005 | 0.140 | |
| rcc | 0.002 | 0.001 | 0.003 | |
| selectVar | 0.324 | 0.045 | 0.369 | |
| sipca | 0.379 | 0.011 | 0.391 | |
| spca | 2.569 | 0.106 | 2.686 | |
| spls | 0.169 | 0.018 | 0.190 | |
| splsda | 0.283 | 0.013 | 0.298 | |
| study_split | 0.003 | 0.001 | 0.005 | |
| summary | 0.020 | 0.005 | 0.025 | |
| tune | 3.446 | 0.364 | 3.835 | |
| tune.block.splsda | 0.000 | 0.001 | 0.001 | |
| tune.mint.splsda | 1.902 | 0.090 | 2.003 | |
| tune.pca | 0.149 | 0.014 | 0.165 | |
| tune.rcc | 1.931 | 0.067 | 2.005 | |
| tune.spca | 0.592 | 0.017 | 0.615 | |
| tune.spls | 0 | 0 | 0 | |
| tune.splsda | 3.155 | 0.321 | 3.501 | |
| tune.splslevel | 0.639 | 0.038 | 0.679 | |
| unmap | 0.003 | 0.005 | 0.008 | |
| vip | 0.008 | 0.003 | 0.011 | |
| withinVariation | 0.713 | 0.020 | 0.739 | |
| wrapper.rgcca | 0.050 | 0.002 | 0.053 | |
| wrapper.sgcca | 0.097 | 0.005 | 0.103 | |