| Back to Multiple platform build/check report for BioC 3.20: simplified long |
|
This page was generated on 2025-04-02 19:28 -0400 (Wed, 02 Apr 2025).
| Hostname | OS | Arch (*) | R version | Installed pkgs |
|---|---|---|---|---|
| nebbiolo2 | Linux (Ubuntu 24.04.1 LTS) | x86_64 | 4.4.3 (2025-02-28) -- "Trophy Case" | 4764 |
| palomino8 | Windows Server 2022 Datacenter | x64 | 4.4.3 (2025-02-28 ucrt) -- "Trophy Case" | 4495 |
| merida1 | macOS 12.7.5 Monterey | x86_64 | 4.4.3 (2025-02-28) -- "Trophy Case" | 4522 |
| kjohnson1 | macOS 13.6.6 Ventura | arm64 | 4.4.3 (2025-02-28) -- "Trophy Case" | 4449 |
| taishan | Linux (openEuler 24.03 LTS) | aarch64 | 4.4.3 (2025-02-28) -- "Trophy Case" | 4426 |
| Click on any hostname to see more info about the system (e.g. compilers) (*) as reported by 'uname -p', except on Windows and Mac OS X | ||||
| Package 1288/2289 | Hostname | OS / Arch | INSTALL | BUILD | CHECK | BUILD BIN | ||||||||
| mixOmics 6.30.0 (landing page) Eva Hamrud
| nebbiolo2 | Linux (Ubuntu 24.04.1 LTS) / x86_64 | OK | OK | OK | |||||||||
| palomino8 | Windows Server 2022 Datacenter / x64 | OK | OK | OK | OK | |||||||||
| merida1 | macOS 12.7.5 Monterey / x86_64 | OK | OK | OK | OK | |||||||||
| kjohnson1 | macOS 13.6.6 Ventura / arm64 | OK | OK | OK | OK | |||||||||
| taishan | Linux (openEuler 24.03 LTS) / aarch64 | OK | OK | OK | ||||||||||
|
To the developers/maintainers of the mixOmics package: - Allow up to 24 hours (and sometimes 48 hours) for your latest push to git@git.bioconductor.org:packages/mixOmics.git to reflect on this report. See Troubleshooting Build Report for more information. - Use the following Renviron settings to reproduce errors and warnings. - If 'R CMD check' started to fail recently on the Linux builder(s) over a missing dependency, add the missing dependency to 'Suggests:' in your DESCRIPTION file. See Renviron.bioc for more information. |
| Package: mixOmics |
| Version: 6.30.0 |
| Command: /home/biocbuild/bbs-3.20-bioc/R/bin/R CMD check --install=check:mixOmics.install-out.txt --library=/home/biocbuild/bbs-3.20-bioc/R/site-library --timings mixOmics_6.30.0.tar.gz |
| StartedAt: 2025-04-01 00:01:14 -0400 (Tue, 01 Apr 2025) |
| EndedAt: 2025-04-01 00:14:31 -0400 (Tue, 01 Apr 2025) |
| EllapsedTime: 796.8 seconds |
| RetCode: 0 |
| Status: OK |
| CheckDir: mixOmics.Rcheck |
| Warnings: 0 |
##############################################################################
##############################################################################
###
### Running command:
###
### /home/biocbuild/bbs-3.20-bioc/R/bin/R CMD check --install=check:mixOmics.install-out.txt --library=/home/biocbuild/bbs-3.20-bioc/R/site-library --timings mixOmics_6.30.0.tar.gz
###
##############################################################################
##############################################################################
* using log directory ‘/home/biocbuild/bbs-3.20-bioc/meat/mixOmics.Rcheck’
* using R version 4.4.3 (2025-02-28)
* using platform: x86_64-pc-linux-gnu
* R was compiled by
gcc (Ubuntu 13.3.0-6ubuntu2~24.04) 13.3.0
GNU Fortran (Ubuntu 13.3.0-6ubuntu2~24.04) 13.3.0
* running under: Ubuntu 24.04.2 LTS
* using session charset: UTF-8
* checking for file ‘mixOmics/DESCRIPTION’ ... OK
* checking extension type ... Package
* this is package ‘mixOmics’ version ‘6.30.0’
* package encoding: UTF-8
* checking package namespace information ... OK
* checking package dependencies ... OK
* checking if this is a source package ... OK
* checking if there is a namespace ... OK
* checking for hidden files and directories ... OK
* checking for portable file names ... OK
* checking for sufficient/correct file permissions ... OK
* checking whether package ‘mixOmics’ can be installed ... OK
* checking installed package size ... NOTE
installed size is 6.3Mb
sub-directories of 1Mb or more:
R 1.4Mb
data 3.3Mb
* checking package directory ... OK
* checking DESCRIPTION meta-information ... OK
* checking top-level files ... OK
* checking for left-over files ... OK
* checking index information ... OK
* checking package subdirectories ... OK
* checking code files for non-ASCII characters ... OK
* checking R files for syntax errors ... OK
* checking whether the package can be loaded ... OK
* checking whether the package can be loaded with stated dependencies ... OK
* checking whether the package can be unloaded cleanly ... OK
* checking whether the namespace can be loaded with stated dependencies ... OK
* checking whether the namespace can be unloaded cleanly ... OK
* checking loading without being on the library search path ... OK
* checking whether startup messages can be suppressed ... OK
* checking dependencies in R code ... NOTE
Namespace in Imports field not imported from: ‘gsignal’
All declared Imports should be used.
* checking S3 generic/method consistency ... OK
* checking replacement functions ... OK
* checking foreign function calls ... OK
* checking R code for possible problems ... OK
* checking Rd files ... OK
* checking Rd metadata ... OK
* checking Rd cross-references ... OK
* checking for missing documentation entries ... OK
* checking for code/documentation mismatches ... OK
* checking Rd \usage sections ... OK
* checking Rd contents ... OK
* checking for unstated dependencies in examples ... OK
* checking contents of ‘data’ directory ... OK
* checking data for non-ASCII characters ... OK
* checking data for ASCII and uncompressed saves ... OK
* checking files in ‘vignettes’ ... OK
* checking examples ... OK
Examples with CPU (user + system) or elapsed time > 5s
user system elapsed
biplot 14.314 0.129 14.444
background.predict 6.539 0.098 6.637
block.splsda 6.336 0.099 6.437
circosPlot 5.643 0.014 5.658
* checking for unstated dependencies in ‘tests’ ... OK
* checking tests ...
Running ‘testthat.R’
OK
* checking for unstated dependencies in vignettes ... OK
* checking package vignettes ... OK
* checking re-building of vignette outputs ... OK
* checking PDF version of manual ... OK
* DONE
Status: 2 NOTEs
See
‘/home/biocbuild/bbs-3.20-bioc/meat/mixOmics.Rcheck/00check.log’
for details.
mixOmics.Rcheck/00install.out
############################################################################## ############################################################################## ### ### Running command: ### ### /home/biocbuild/bbs-3.20-bioc/R/bin/R CMD INSTALL mixOmics ### ############################################################################## ############################################################################## * installing to library ‘/home/biocbuild/bbs-3.20-bioc/R/site-library’ * installing *source* package ‘mixOmics’ ... ** using staged installation ** R ** data ** inst ** byte-compile and prepare package for lazy loading ** help *** installing help indices ** building package indices ** installing vignettes ** testing if installed package can be loaded from temporary location ** testing if installed package can be loaded from final location ** testing if installed package keeps a record of temporary installation path * DONE (mixOmics)
mixOmics.Rcheck/tests/testthat.Rout
R version 4.4.3 (2025-02-28) -- "Trophy Case"
Copyright (C) 2025 The R Foundation for Statistical Computing
Platform: x86_64-pc-linux-gnu
R is free software and comes with ABSOLUTELY NO WARRANTY.
You are welcome to redistribute it under certain conditions.
Type 'license()' or 'licence()' for distribution details.
R is a collaborative project with many contributors.
Type 'contributors()' for more information and
'citation()' on how to cite R or R packages in publications.
Type 'demo()' for some demos, 'help()' for on-line help, or
'help.start()' for an HTML browser interface to help.
Type 'q()' to quit R.
> library(testthat)
> library(mixOmics)
Loading required package: MASS
Loading required package: lattice
Loading required package: ggplot2
Loaded mixOmics 6.30.0
Thank you for using mixOmics!
Tutorials: http://mixomics.org
Bookdown vignette: https://mixomicsteam.github.io/Bookdown
Questions, issues: Follow the prompts at http://mixomics.org/contact-us
Cite us: citation('mixOmics')
>
> test_check("mixOmics")
[ FAIL 0 | WARN 1 | SKIP 0 | PASS 236 ]
[ FAIL 0 | WARN 1 | SKIP 0 | PASS 236 ]
Warning messages:
1: closing unused connection 6 (<-localhost:11163)
2: closing unused connection 5 (<-localhost:11163)
>
> proc.time()
user system elapsed
100.406 3.401 118.136
mixOmics.Rcheck/mixOmics-Ex.timings
| name | user | system | elapsed | |
| S3methods-print | 0.016 | 0.000 | 0.016 | |
| auroc | 0.957 | 0.037 | 0.994 | |
| background.predict | 6.539 | 0.098 | 6.637 | |
| biplot | 14.314 | 0.129 | 14.444 | |
| block.pls | 0.464 | 0.006 | 0.470 | |
| block.plsda | 0.621 | 0.000 | 0.620 | |
| block.spls | 4.969 | 0.031 | 5.000 | |
| block.splsda | 6.336 | 0.099 | 6.437 | |
| cim | 0.035 | 0.000 | 0.035 | |
| cimDiablo | 0.244 | 0.002 | 0.246 | |
| circosPlot | 5.643 | 0.014 | 5.658 | |
| colors | 0.027 | 0.001 | 0.028 | |
| explained_variance | 0.100 | 0.008 | 0.108 | |
| get.confusion_matrix | 0.433 | 0.002 | 0.435 | |
| image.tune.rcc | 1.819 | 0.002 | 1.820 | |
| imgCor | 0.058 | 0.002 | 0.060 | |
| impute.nipals | 0.008 | 0.002 | 0.010 | |
| ipca | 0.744 | 0.008 | 0.752 | |
| logratio-transformations | 0.058 | 0.005 | 0.063 | |
| map | 0.004 | 0.000 | 0.004 | |
| mat.rank | 0.002 | 0.000 | 0.002 | |
| mint.block.pls | 0.156 | 0.002 | 0.159 | |
| mint.block.plsda | 0.111 | 0.002 | 0.113 | |
| mint.block.spls | 0.154 | 0.001 | 0.154 | |
| mint.block.splsda | 0.130 | 0.002 | 0.132 | |
| mint.pca | 0.355 | 0.000 | 0.356 | |
| mint.pls | 0.471 | 0.000 | 0.473 | |
| mint.plsda | 0.566 | 0.000 | 0.567 | |
| mint.spls | 0.491 | 0.000 | 0.492 | |
| mint.splsda | 0.564 | 0.000 | 0.565 | |
| mixOmics | 0.297 | 0.007 | 0.305 | |
| nearZeroVar | 0.626 | 0.002 | 0.627 | |
| network | 0.011 | 0.001 | 0.011 | |
| pca | 4.190 | 0.007 | 4.197 | |
| perf | 2.400 | 0.069 | 2.468 | |
| plot.rcc | 0.012 | 0.001 | 0.013 | |
| plot.tune | 0.000 | 0.000 | 0.001 | |
| plotArrow | 3.199 | 0.015 | 3.215 | |
| plotDiablo | 0.165 | 0.001 | 0.166 | |
| plotIndiv | 0.279 | 0.000 | 0.279 | |
| plotLoadings | 0.089 | 0.001 | 0.090 | |
| plotMarkers | 0 | 0 | 0 | |
| plotVar | 0.516 | 0.000 | 0.516 | |
| pls | 0.006 | 0.000 | 0.006 | |
| plsda | 0.320 | 0.001 | 0.321 | |
| predict | 0.150 | 0.000 | 0.149 | |
| rcc | 0.002 | 0.001 | 0.002 | |
| selectVar | 0.392 | 0.005 | 0.397 | |
| sipca | 0.433 | 0.003 | 0.436 | |
| spca | 3.068 | 0.034 | 3.102 | |
| spls | 0.450 | 0.028 | 0.478 | |
| splsda | 0.321 | 0.000 | 0.321 | |
| study_split | 0.005 | 0.000 | 0.005 | |
| summary | 0.014 | 0.000 | 0.014 | |
| tune | 3.896 | 0.014 | 3.910 | |
| tune.block.splsda | 0 | 0 | 0 | |
| tune.mint.splsda | 2.181 | 0.002 | 2.182 | |
| tune.pca | 0.162 | 0.010 | 0.172 | |
| tune.rcc | 1.795 | 0.001 | 1.796 | |
| tune.spca | 0.605 | 0.000 | 0.606 | |
| tune.spls | 0 | 0 | 0 | |
| tune.splsda | 4.558 | 0.009 | 4.566 | |
| tune.splslevel | 0.866 | 0.102 | 0.968 | |
| unmap | 0.002 | 0.004 | 0.007 | |
| vip | 0.014 | 0.010 | 0.023 | |
| withinVariation | 0.891 | 0.084 | 0.974 | |
| wrapper.rgcca | 0.079 | 0.005 | 0.084 | |
| wrapper.sgcca | 0.104 | 0.012 | 0.115 | |