| Back to Multiple platform build/check report for BioC 3.20: simplified long |
|
This page was generated on 2024-07-08 11:45 -0400 (Mon, 08 Jul 2024).
| Hostname | OS | Arch (*) | R version | Installed pkgs |
|---|---|---|---|---|
| nebbiolo2 | Linux (Ubuntu 22.04.3 LTS) | x86_64 | 4.4.1 (2024-06-14) -- "Race for Your Life" | 4643 |
| palomino6 | Windows Server 2022 Datacenter | x64 | 4.4.1 (2024-06-14 ucrt) -- "Race for Your Life" | 4414 |
| lconway | macOS 12.7.1 Monterey | x86_64 | 4.4.1 (2024-06-14) -- "Race for Your Life" | 4442 |
| kjohnson3 | macOS 13.6.5 Ventura | arm64 | 4.4.1 (2024-06-14) -- "Race for Your Life" | 4391 |
| kunpeng2 | Linux (openEuler 22.03 LTS-SP1) | aarch64 | 4.4.1 (2024-06-14) -- "Race for Your Life" | 3833 |
| Click on any hostname to see more info about the system (e.g. compilers) (*) as reported by 'uname -p', except on Windows and Mac OS X | ||||
| Package 1176/2243 | Hostname | OS / Arch | INSTALL | BUILD | CHECK | BUILD BIN | ||||||||
| metabinR 1.7.0 (landing page) Anestis Gkanogiannis
| nebbiolo2 | Linux (Ubuntu 22.04.3 LTS) / x86_64 | OK | OK | OK | |||||||||
| palomino6 | Windows Server 2022 Datacenter / x64 | OK | OK | OK | OK | |||||||||
| lconway | macOS 12.7.1 Monterey / x86_64 | OK | OK | OK | OK | |||||||||
| kjohnson3 | macOS 13.6.5 Ventura / arm64 | OK | OK | OK | OK | |||||||||
| kunpeng2 | Linux (openEuler 22.03 LTS-SP1) / aarch64 | NA | OK | OK | ||||||||||
|
To the developers/maintainers of the metabinR package: - Allow up to 24 hours (and sometimes 48 hours) for your latest push to git@git.bioconductor.org:packages/metabinR.git to reflect on this report. See Troubleshooting Build Report for more information. - Use the following Renviron settings to reproduce errors and warnings. - If 'R CMD check' started to fail recently on the Linux builder(s) over a missing dependency, add the missing dependency to 'Suggests:' in your DESCRIPTION file. See Renviron.bioc for more information. - See Martin Grigorov's blog post for how to debug Linux ARM64 related issues on a x86_64 host. |
| Package: metabinR |
| Version: 1.7.0 |
| Command: /home/biocbuild/R/R/bin/R CMD check --install=check:metabinR.install-out.txt --library=/home/biocbuild/R/R/site-library --no-vignettes --timings metabinR_1.7.0.tar.gz |
| StartedAt: 2024-07-06 06:16:08 -0000 (Sat, 06 Jul 2024) |
| EndedAt: 2024-07-06 06:17:06 -0000 (Sat, 06 Jul 2024) |
| EllapsedTime: 58.1 seconds |
| RetCode: 0 |
| Status: OK |
| CheckDir: metabinR.Rcheck |
| Warnings: 0 |
##############################################################################
##############################################################################
###
### Running command:
###
### /home/biocbuild/R/R/bin/R CMD check --install=check:metabinR.install-out.txt --library=/home/biocbuild/R/R/site-library --no-vignettes --timings metabinR_1.7.0.tar.gz
###
##############################################################################
##############################################################################
* using log directory ‘/home/biocbuild/bbs-3.20-bioc/meat/metabinR.Rcheck’
* using R version 4.4.1 (2024-06-14)
* using platform: aarch64-unknown-linux-gnu
* R was compiled by
gcc (GCC) 12.2.1 20220819 (openEuler 12.2.1-14)
GNU Fortran (GCC) 10.3.1
* running under: openEuler 22.03 (LTS-SP1)
* using session charset: UTF-8
* using option ‘--no-vignettes’
* checking for file ‘metabinR/DESCRIPTION’ ... OK
* checking extension type ... Package
* this is package ‘metabinR’ version ‘1.7.0’
* package encoding: UTF-8
* checking package namespace information ... OK
* checking package dependencies ... OK
* checking if this is a source package ... OK
* checking if there is a namespace ... OK
* checking for hidden files and directories ... OK
* checking for portable file names ... OK
* checking for sufficient/correct file permissions ... OK
* checking whether package ‘metabinR’ can be installed ... OK
* checking installed package size ... OK
* checking package directory ... OK
* checking ‘build’ directory ... OK
* checking DESCRIPTION meta-information ... OK
* checking top-level files ... OK
* checking for left-over files ... OK
* checking index information ... OK
* checking package subdirectories ... OK
* checking code files for non-ASCII characters ... OK
* checking R files for syntax errors ... OK
* checking whether the package can be loaded ... OK
* checking whether the package can be loaded with stated dependencies ... OK
* checking whether the package can be unloaded cleanly ... OK
* checking whether the namespace can be loaded with stated dependencies ... OK
* checking whether the namespace can be unloaded cleanly ... OK
* checking loading without being on the library search path ... OK
* checking whether startup messages can be suppressed ... OK
* checking dependencies in R code ... OK
* checking S3 generic/method consistency ... OK
* checking replacement functions ... OK
* checking foreign function calls ... OK
* checking R code for possible problems ... OK
* checking Rd files ... OK
* checking Rd metadata ... OK
* checking Rd cross-references ... OK
* checking for missing documentation entries ... OK
* checking for code/documentation mismatches ... OK
* checking Rd \usage sections ... OK
* checking Rd contents ... OK
* checking for unstated dependencies in examples ... OK
* checking files in ‘vignettes’ ... OK
* checking examples ... OK
Examples with CPU (user + system) or elapsed time > 5s
user system elapsed
abundance_based_binning 7.953 0.399 5.572
* checking for unstated dependencies in ‘tests’ ... OK
* checking tests ...
Running ‘spelling.R’
Running ‘testthat.R’
OK
* checking for unstated dependencies in vignettes ... OK
* checking package vignettes ... OK
* checking running R code from vignettes ... SKIPPED
* checking re-building of vignette outputs ... SKIPPED
* checking PDF version of manual ... OK
* DONE
Status: OK
metabinR.Rcheck/00install.out
############################################################################## ############################################################################## ### ### Running command: ### ### /home/biocbuild/R/R/bin/R CMD INSTALL metabinR ### ############################################################################## ############################################################################## * installing to library ‘/home/biocbuild/R/R-4.4.1/site-library’ * installing *source* package ‘metabinR’ ... ** using staged installation ** R ** inst ** byte-compile and prepare package for lazy loading ** help *** installing help indices ** building package indices ** installing vignettes ** testing if installed package can be loaded from temporary location ** testing if installed package can be loaded from final location ** testing if installed package keeps a record of temporary installation path * DONE (metabinR)
metabinR.Rcheck/tests/spelling.Rout
R version 4.4.1 (2024-06-14) -- "Race for Your Life"
Copyright (C) 2024 The R Foundation for Statistical Computing
Platform: aarch64-unknown-linux-gnu
R is free software and comes with ABSOLUTELY NO WARRANTY.
You are welcome to redistribute it under certain conditions.
Type 'license()' or 'licence()' for distribution details.
R is a collaborative project with many contributors.
Type 'contributors()' for more information and
'citation()' on how to cite R or R packages in publications.
Type 'demo()' for some demos, 'help()' for on-line help, or
'help.start()' for an HTML browser interface to help.
Type 'q()' to quit R.
> if(requireNamespace('spelling', quietly = TRUE))
+ spelling::spell_check_test(vignettes = TRUE, error = FALSE,
+ skip_on_cran = TRUE)
NULL
>
> proc.time()
user system elapsed
0.183 0.040 0.208
metabinR.Rcheck/tests/testthat.Rout
R version 4.4.1 (2024-06-14) -- "Race for Your Life"
Copyright (C) 2024 The R Foundation for Statistical Computing
Platform: aarch64-unknown-linux-gnu
R is free software and comes with ABSOLUTELY NO WARRANTY.
You are welcome to redistribute it under certain conditions.
Type 'license()' or 'licence()' for distribution details.
R is a collaborative project with many contributors.
Type 'contributors()' for more information and
'citation()' on how to cite R or R packages in publications.
Type 'demo()' for some demos, 'help()' for on-line help, or
'help.start()' for an HTML browser interface to help.
Type 'q()' to quit R.
> library(testthat)
> library(metabinR)
>
> test_check("metabinR")
version MTxAB =Fri Jul 05 19:46:12 UTC 2024
cpus=32
using=1
2024/07/06 06:16:42 Using Dictionary ORIGINAL
2024/07/06 06:16:42 START of AB Counting
2024/07/06 06:16:42 FastaManager: START READ
2024/07/06 06:16:42 SequenceProcessor: 0 AB_KMERCOUNT START
CHUNK_SIZE=67108864
2024/07/06 06:16:42 FastaManager: lines read 53328
2024/07/06 06:16:43 FastaManager: END READ
2024/07/06 06:16:43 FastaManager: FASTA
2024/07/06 06:16:44 SequenceProcessor: 0 AB_KMERCOUNT EXIT
2024/07/06 06:16:44 END of AB Counting
2024/07/06 06:16:44 Loaded sequences: 26664
2024/07/06 06:16:44 Total kmers(before remove): 65536
##### Heap utilization statistics [GB] #####
Max Memory=0.5
Current Total Memory=0.5
Current Used Memory=0.289
Current Free Memory=0.211
############################################
2024/07/06 06:16:44
Unique: 0
Distinct: 65536
Total: 7625904
MaxCount: 1574
2024/07/06 06:16:44 START of EMsync
Run=1
Run=2
Run=3
Run=4
Run=5
Run=6
Run=7
Run=8
Run=9
Run=10
Run=11
Run=12
Run=13
Run=14
Run=15
Run=16
Run=17
Run=18
Run=19
Run=20
Run=21
Run=22
Run=23
Run=24
Run=25
2024/07/06 06:16:44 Runs=25
2024/07/06 06:16:44 END of EMsync
2024/07/06 06:16:44 START of Creating AB Cluster Vectors
Cluster 1 Abundance=241.01134335779187 Length=16168.173737759447 LowLimit=163 HighLimit=318
Cluster 2 Abundance=75.538888587297 Length=49367.82626224055 LowLimit=32 HighLimit=118
2024/07/06 06:16:44 Trove size/4=18022
2024/07/06 06:16:44 Trove size/4=18022
2024/07/06 06:16:44 Cluster 2 size in kmers=65536 norm=221.81983091435748
2024/07/06 06:16:44 Cluster 1 size in kmers=65536 norm=126.50589485137961
2024/07/06 06:16:44 END of Creating AB Cluster Vectors
cpus=32
using=1
2024/07/06 06:16:44 START of AB Binning
2024/07/06 06:16:44 FastaManager: START READ
2024/07/06 06:16:44 SequenceProcessor: 0 AB_BINNING START
2024/07/06 06:16:45 FastaManager: lines read 53328
2024/07/06 06:16:45 FastaManager: END READ
2024/07/06 06:16:45 FastaManager: FASTA
2024/07/06 06:16:47 SequenceProcessor: 0 AB_BINNING EXIT
2024/07/06 06:16:47 END of AB Binning
Clustered reads:
AB Cluster 1: 19871
AB Cluster 2: 6793
##### Heap utilization statistics [GB] #####
Max Memory=0.5
Current Total Memory=0.5
Current Used Memory=0.285
Current Free Memory=0.215
############################################
version MTxCB =Fri Jul 05 19:46:12 UTC 2024
cpus=32
using=1
2024/07/06 06:16:47 START of CB Counting
2024/07/06 06:16:47 FastaManager: START READ
2024/07/06 06:16:47 SequenceProcessor: 0 CB_SEQUENCEVECTORBUILD START
2024/07/06 06:16:47 FastaManager: lines read 53328
2024/07/06 06:16:47 FastaManager: END READ
2024/07/06 06:16:47 FastaManager: FASTA
2024/07/06 06:16:48 SequenceProcessor: 0 CB_SEQUENCEVECTORBUILD EXIT
2024/07/06 06:16:48 END of CB Counting
2024/07/06 06:16:48 Loaded sequences: 26664
##### Heap utilization statistics [GB] #####
Max Memory=0.5
Current Total Memory=0.358
Current Used Memory=0.222
Current Free Memory=0.136
############################################
cpus=32
using=1
2024/07/06 06:16:48 START of Creating CB Clusters Size=26664
K-Means clustering started
... centers initialized
... concurrent processing mode with 1 subtask threads
... iteration 1 moves = 6800
... iteration 2 moves = 2452
... iteration 3 moves = 509
... iteration 4 moves = 136
... iteration 5 moves = 57
... iteration 6 moves = 33
... iteration 7 moves = 31
... iteration 8 moves = 25
... iteration 9 moves = 18
... iteration 10 moves = 9
... iteration 11 moves = 10
... iteration 12 moves = 8
... iteration 13 moves = 4
... iteration 14 moves = 2
... iteration 15 moves = 0
...end. 6.353 seconds.
2024/07/06 06:16:54 : kMeans cleanup.
2024/07/06 06:16:54 END of Creating CB Clusters.
cpus=32
using=1
2024/07/06 06:16:54 START of CB Binning
2024/07/06 06:16:54 FastaManager: START READ
2024/07/06 06:16:54 SequenceProcessor: 0 CB_BINNING START
2024/07/06 06:16:54 FastaManager: lines read 53328
2024/07/06 06:16:54 FastaManager: END READ
2024/07/06 06:16:54 FastaManager: FASTA
2024/07/06 06:16:55 SequenceProcessor: 0 CB_BINNING EXIT
Clustered reads:
CB Cluster 1: 17373
CB Cluster 2: 9291
##### Heap utilization statistics [GB] #####
Max Memory=0.5
Current Total Memory=0.412
Current Used Memory=0.313
Current Free Memory=0.099
############################################
version MTxABxCB =Fri Jul 05 19:46:12 UTC 2024
cpus=32
using=1
2024/07/06 06:16:55 Using Dictionary ORIGINAL
2024/07/06 06:16:55 START of AB Counting
2024/07/06 06:16:55 FastaManager: START READ
2024/07/06 06:16:55 SequenceProcessor: 0 AB_KMERCOUNT START
2024/07/06 06:16:55 FastaManager: lines read 53328
2024/07/06 06:16:55 FastaManager: END READ
2024/07/06 06:16:55 FastaManager: FASTA
2024/07/06 06:16:57 SequenceProcessor: 0 AB_KMERCOUNT EXIT
2024/07/06 06:16:57 END of AB Counting
2024/07/06 06:16:57 Loaded sequences: 26664
2024/07/06 06:16:57 Distinct kmers(before remove): 65536
##### Heap utilization statistics [GB] #####
Max Memory=0.5
Current Total Memory=0.431
Current Used Memory=0.299
Current Free Memory=0.132
############################################
2024/07/06 06:16:57
Unique: 0
Distinct: 65536
Total: 7625904
MaxCount: 1574
2024/07/06 06:16:57 START of EMsync
Run=1
Run=2
Run=3
Run=4
Run=5
Run=6
Run=7
Run=8
Run=9
Run=10
Run=11
Run=12
Run=13
Run=14
Run=15
Run=16
Run=17
Run=18
Run=19
Run=20
Run=21
Run=22
Run=23
Run=24
Run=25
2024/07/06 06:16:57 Runs=25
2024/07/06 06:16:57 END of EMsync
2024/07/06 06:16:57 Filter before=2
2024/07/06 06:16:57 Filter after=2
2024/07/06 06:16:57 START of Creating AB Cluster Vectors
Cluster 1 Abundance=75.538888587297 Length=49367.82626224055 LowLimit=32 HighLimit=118
Cluster 2 Abundance=241.01134335779187 Length=16168.173737759447 LowLimit=163 HighLimit=318
2024/07/06 06:16:57 Trove size/4=18022
2024/07/06 06:16:57 Trove size/4=18022
2024/07/06 06:16:57 Cluster 1 size in kmers=65536 norm=221.81983091435748
2024/07/06 06:16:57 Cluster 2 size in kmers=65536 norm=126.50589485137961
2024/07/06 06:16:57 END of Creating AB Cluster Vectors
cpus=32
using=1
2024/07/06 06:16:57 START of AB Binning
2024/07/06 06:16:57 FastaManager: START READ
2024/07/06 06:16:57 SequenceProcessor: 0 AB_BINNING START
2024/07/06 06:16:57 FastaManager: lines read 53328
2024/07/06 06:16:57 FastaManager: END READ
2024/07/06 06:16:57 FastaManager: FASTA
2024/07/06 06:16:59 SequenceProcessor: 0 AB_BINNING EXIT
2024/07/06 06:16:59 END of AB Binning
cpus=32
using=1
2024/07/06 06:16:59 START of CB Counting
2024/07/06 06:16:59 FastaManager: START READ
2024/07/06 06:16:59 SequenceProcessor: 0 CB_SEQUENCEVECTORBUILD START
2024/07/06 06:16:59 FastaManager: lines read 53328
2024/07/06 06:16:59 FastaManager: END READ
2024/07/06 06:16:59 FastaManager: FASTA
2024/07/06 06:16:59 SequenceProcessor: 0 CB_SEQUENCEVECTORBUILD EXIT
2024/07/06 06:16:59 END of CB Counting
2024/07/06 06:16:59 Loaded sequences: 26664
##### Heap utilization statistics [GB] #####
Max Memory=0.5
Current Total Memory=0.438
Current Used Memory=0.238
Current Free Memory=0.2
############################################
2024/07/06 06:16:59 AB Cluster=1 Size=6793
2024/07/06 06:16:59 AB Cluster=2 Size=19871
cpus=32
using=1
ABid size abundance EMLength newLength EMspecies newspecies
----- ---- --------- -------- --------- --------- ----------
1 6,793 75.53889 49,367 13,489 1 1
2024/07/06 06:16:59 START of Creating CB Clusters for AB Cluster=1 Size=6793
K-Means clustering started
... centers initialized
... concurrent processing mode with 1 subtask threads
... iteration 1 moves = 0
...end. 0.818 seconds.
2024/07/06 06:17:00 : kMeans cleanup.
2024/07/06 06:17:00 END of Creating CB Clusters for AB Cluster=1
cpus=32
using=1
ABid size abundance EMLength newLength EMspecies newspecies
----- ---- --------- -------- --------- --------- ----------
2 19,871 241.01134 16,168 12,367 1 1
2024/07/06 06:17:00 START of Creating CB Clusters for AB Cluster=2 Size=19871
K-Means clustering started
... centers initialized
... concurrent processing mode with 1 subtask threads
... iteration 1 moves = 0
...end. 2.314 seconds.
2024/07/06 06:17:03 : kMeans cleanup.
2024/07/06 06:17:03 END of Creating CB Clusters for AB Cluster=2
##### Heap utilization statistics [GB] #####
Max Memory=0.5
Current Total Memory=0.438
Current Used Memory=0.297
Current Free Memory=0.14
############################################
cpus=32
using=1
2024/07/06 06:17:03 START of CB Binning
2024/07/06 06:17:03 FastaManager: START READ
2024/07/06 06:17:03 SequenceProcessor: 0 CB_BINNING START
2024/07/06 06:17:03 FastaManager: lines read 53328
2024/07/06 06:17:03 FastaManager: END READ
2024/07/06 06:17:03 FastaManager: FASTA
2024/07/06 06:17:03 SequenceProcessor: 0 CB_BINNING EXIT
Clustered reads:
ABxCB Cluster 1: 6793
ABxCB Cluster 2: 19871
##### Heap utilization statistics [GB] #####
Max Memory=0.5
Current Total Memory=0.5
Current Used Memory=0.322
Current Free Memory=0.178
############################################
[ FAIL 0 | WARN 0 | SKIP 0 | PASS 52 ]
>
> proc.time()
user system elapsed
30.762 1.004 22.176
metabinR.Rcheck/metabinR-Ex.timings
| name | user | system | elapsed | |
| abundance_based_binning | 7.953 | 0.399 | 5.572 | |
| composition_based_binning | 4.334 | 0.203 | 1.657 | |
| hierarchical_binning | 4.541 | 0.105 | 3.040 | |