| Back to Multiple platform build/check report for BioC 3.20: simplified long |
|
This page was generated on 2024-11-20 12:06 -0500 (Wed, 20 Nov 2024).
| Hostname | OS | Arch (*) | R version | Installed pkgs |
|---|---|---|---|---|
| teran2 | Linux (Ubuntu 24.04.1 LTS) | x86_64 | 4.4.2 (2024-10-31) -- "Pile of Leaves" | 4481 |
| nebbiolo2 | Linux (Ubuntu 24.04.1 LTS) | x86_64 | 4.4.2 (2024-10-31) -- "Pile of Leaves" | 4479 |
| palomino8 | Windows Server 2022 Datacenter | x64 | 4.4.2 (2024-10-31 ucrt) -- "Pile of Leaves" | 4359 |
| lconway | macOS 12.7.1 Monterey | x86_64 | 4.4.1 (2024-06-14) -- "Race for Your Life" | 4539 |
| kunpeng2 | Linux (openEuler 22.03 LTS-SP1) | aarch64 | 4.4.1 (2024-06-14) -- "Race for Your Life" | 4493 |
| Click on any hostname to see more info about the system (e.g. compilers) (*) as reported by 'uname -p', except on Windows and Mac OS X | ||||
| Package 1198/2289 | Hostname | OS / Arch | INSTALL | BUILD | CHECK | BUILD BIN | ||||||||
| metabinR 1.8.0 (landing page) Anestis Gkanogiannis
| teran2 | Linux (Ubuntu 24.04.1 LTS) / x86_64 | OK | OK | OK | |||||||||
| nebbiolo2 | Linux (Ubuntu 24.04.1 LTS) / x86_64 | OK | OK | OK | ||||||||||
| palomino8 | Windows Server 2022 Datacenter / x64 | OK | OK | OK | OK | |||||||||
| lconway | macOS 12.7.1 Monterey / x86_64 | OK | OK | OK | OK | |||||||||
| kunpeng2 | Linux (openEuler 22.03 LTS-SP1) / aarch64 | ERROR | ERROR | skipped | ||||||||||
|
To the developers/maintainers of the metabinR package: - Allow up to 24 hours (and sometimes 48 hours) for your latest push to git@git.bioconductor.org:packages/metabinR.git to reflect on this report. See Troubleshooting Build Report for more information. - Use the following Renviron settings to reproduce errors and warnings. - If 'R CMD check' started to fail recently on the Linux builder(s) over a missing dependency, add the missing dependency to 'Suggests:' in your DESCRIPTION file. See Renviron.bioc for more information. |
| Package: metabinR |
| Version: 1.8.0 |
| Command: /Library/Frameworks/R.framework/Resources/bin/R CMD check --install=check:metabinR.install-out.txt --library=/Library/Frameworks/R.framework/Resources/library --no-vignettes --timings metabinR_1.8.0.tar.gz |
| StartedAt: 2024-11-19 23:47:53 -0500 (Tue, 19 Nov 2024) |
| EndedAt: 2024-11-19 23:52:35 -0500 (Tue, 19 Nov 2024) |
| EllapsedTime: 281.6 seconds |
| RetCode: 0 |
| Status: OK |
| CheckDir: metabinR.Rcheck |
| Warnings: 0 |
##############################################################################
##############################################################################
###
### Running command:
###
### /Library/Frameworks/R.framework/Resources/bin/R CMD check --install=check:metabinR.install-out.txt --library=/Library/Frameworks/R.framework/Resources/library --no-vignettes --timings metabinR_1.8.0.tar.gz
###
##############################################################################
##############################################################################
* using log directory ‘/Users/biocbuild/bbs-3.20-bioc/meat/metabinR.Rcheck’
* using R version 4.4.1 (2024-06-14)
* using platform: x86_64-apple-darwin20
* R was compiled by
Apple clang version 14.0.0 (clang-1400.0.29.202)
GNU Fortran (GCC) 12.2.0
* running under: macOS Monterey 12.7.6
* using session charset: UTF-8
* using option ‘--no-vignettes’
* checking for file ‘metabinR/DESCRIPTION’ ... OK
* checking extension type ... Package
* this is package ‘metabinR’ version ‘1.8.0’
* package encoding: UTF-8
* checking package namespace information ... OK
* checking package dependencies ...Warning: unable to access index for repository https://CRAN.R-project.org/src/contrib:
cannot open URL 'https://CRAN.R-project.org/src/contrib/PACKAGES'
OK
* checking if this is a source package ... OK
* checking if there is a namespace ... OK
* checking for hidden files and directories ... OK
* checking for portable file names ... OK
* checking for sufficient/correct file permissions ... OK
* checking whether package ‘metabinR’ can be installed ... OK
* checking installed package size ... OK
* checking package directory ... OK
* checking ‘build’ directory ... OK
* checking DESCRIPTION meta-information ... OK
* checking top-level files ... OK
* checking for left-over files ... OK
* checking index information ... OK
* checking package subdirectories ... OK
* checking code files for non-ASCII characters ... OK
* checking R files for syntax errors ... OK
* checking whether the package can be loaded ... OK
* checking whether the package can be loaded with stated dependencies ... OK
* checking whether the package can be unloaded cleanly ... OK
* checking whether the namespace can be loaded with stated dependencies ... OK
* checking whether the namespace can be unloaded cleanly ... OK
* checking whether startup messages can be suppressed ... OK
* checking dependencies in R code ... OK
* checking S3 generic/method consistency ... OK
* checking replacement functions ... OK
* checking foreign function calls ... OK
* checking R code for possible problems ... OK
* checking Rd files ... OK
* checking Rd metadata ... OK
* checking Rd cross-references ... OK
* checking for missing documentation entries ... OK
* checking for code/documentation mismatches ... OK
* checking Rd \usage sections ... OK
* checking Rd contents ... OK
* checking for unstated dependencies in examples ... OK
* checking files in ‘vignettes’ ... OK
* checking examples ... OK
Examples with CPU (user + system) or elapsed time > 5s
user system elapsed
abundance_based_binning 5.564 0.806 4.523
composition_based_binning 4.328 0.712 1.751
* checking for unstated dependencies in ‘tests’ ... OK
* checking tests ...
Running ‘spelling.R’
Running ‘testthat.R’
OK
* checking for unstated dependencies in vignettes ... OK
* checking package vignettes ... OK
* checking running R code from vignettes ... SKIPPED
* checking re-building of vignette outputs ... SKIPPED
* checking PDF version of manual ... OK
* DONE
Status: OK
metabinR.Rcheck/00install.out
############################################################################## ############################################################################## ### ### Running command: ### ### /Library/Frameworks/R.framework/Resources/bin/R CMD INSTALL metabinR ### ############################################################################## ############################################################################## * installing to library ‘/Library/Frameworks/R.framework/Versions/4.4-x86_64/Resources/library’ * installing *source* package ‘metabinR’ ... ** using staged installation ** R ** inst ** byte-compile and prepare package for lazy loading ** help *** installing help indices ** building package indices ** installing vignettes ** testing if installed package can be loaded from temporary location ** testing if installed package can be loaded from final location ** testing if installed package keeps a record of temporary installation path * DONE (metabinR)
metabinR.Rcheck/tests/spelling.Rout
R version 4.4.1 (2024-06-14) -- "Race for Your Life"
Copyright (C) 2024 The R Foundation for Statistical Computing
Platform: x86_64-apple-darwin20
R is free software and comes with ABSOLUTELY NO WARRANTY.
You are welcome to redistribute it under certain conditions.
Type 'license()' or 'licence()' for distribution details.
R is a collaborative project with many contributors.
Type 'contributors()' for more information and
'citation()' on how to cite R or R packages in publications.
Type 'demo()' for some demos, 'help()' for on-line help, or
'help.start()' for an HTML browser interface to help.
Type 'q()' to quit R.
> if(requireNamespace('spelling', quietly = TRUE))
+ spelling::spell_check_test(vignettes = TRUE, error = FALSE,
+ skip_on_cran = TRUE)
NULL
>
> proc.time()
user system elapsed
0.151 0.055 0.208
metabinR.Rcheck/tests/testthat.Rout
R version 4.4.1 (2024-06-14) -- "Race for Your Life"
Copyright (C) 2024 The R Foundation for Statistical Computing
Platform: x86_64-apple-darwin20
R is free software and comes with ABSOLUTELY NO WARRANTY.
You are welcome to redistribute it under certain conditions.
Type 'license()' or 'licence()' for distribution details.
R is a collaborative project with many contributors.
Type 'contributors()' for more information and
'citation()' on how to cite R or R packages in publications.
Type 'demo()' for some demos, 'help()' for on-line help, or
'help.start()' for an HTML browser interface to help.
Type 'q()' to quit R.
> library(testthat)
> library(metabinR)
>
> test_check("metabinR")
version MTxAB =Tue Nov 19 15:06:20 EST 2024
cpus=48
using=1
2024/11/19 23:52:10 Using Dictionary ORIGINAL
2024/11/19 23:52:10 START of AB Counting
2024/11/19 23:52:10 FastaManager: START READ
2024/11/19 23:52:10 SequenceProcessor: 0 AB_KMERCOUNT START
CHUNK_SIZE=67108864
2024/11/19 23:52:10 FastaManager: lines read 53328
2024/11/19 23:52:11 FastaManager: END READ
2024/11/19 23:52:11 FastaManager: FASTA
2024/11/19 23:52:12 SequenceProcessor: 0 AB_KMERCOUNT EXIT
2024/11/19 23:52:12 END of AB Counting
2024/11/19 23:52:12 Loaded sequences: 26664
2024/11/19 23:52:12 Total kmers(before remove): 65536
##### Heap utilization statistics [GB] #####
Max Memory=0.5
Current Total Memory=0.5
Current Used Memory=0.285
Current Free Memory=0.215
############################################
2024/11/19 23:52:12
Unique: 0
Distinct: 65536
Total: 7625904
MaxCount: 1574
2024/11/19 23:52:12 START of EMsync
Run=1
Run=2
Run=3
Run=4
Run=5
Run=6
Run=7
Run=8
Run=9
Run=10
Run=11
Run=12
Run=13
Run=14
Run=15
Run=16
Run=17
Run=18
Run=19
Run=20
Run=21
Run=22
Run=23
Run=24
Run=25
2024/11/19 23:52:12 Runs=25
2024/11/19 23:52:12 END of EMsync
2024/11/19 23:52:12 START of Creating AB Cluster Vectors
Cluster 1 Abundance=241.01134335779187 Length=16168.173737759438 LowLimit=163 HighLimit=318
Cluster 2 Abundance=75.53888858729701 Length=49367.826262240575 LowLimit=32 HighLimit=118
2024/11/19 23:52:12 Trove size/4=18022
2024/11/19 23:52:12 Trove size/4=18022
2024/11/19 23:52:12 Cluster 1 size in kmers=65536 norm=126.5058948513796
2024/11/19 23:52:12 Cluster 2 size in kmers=65536 norm=221.81983091435748
2024/11/19 23:52:12 END of Creating AB Cluster Vectors
cpus=48
using=1
2024/11/19 23:52:12 START of AB Binning
2024/11/19 23:52:12 FastaManager: START READ
2024/11/19 23:52:12 SequenceProcessor: 0 AB_BINNING START
2024/11/19 23:52:12 FastaManager: lines read 53328
2024/11/19 23:52:12 FastaManager: END READ
2024/11/19 23:52:12 FastaManager: FASTA
2024/11/19 23:52:14 SequenceProcessor: 0 AB_BINNING EXIT
2024/11/19 23:52:14 END of AB Binning
Clustered reads:
AB Cluster 1: 19871
AB Cluster 2: 6793
##### Heap utilization statistics [GB] #####
Max Memory=0.5
Current Total Memory=0.5
Current Used Memory=0.369
Current Free Memory=0.131
############################################
version MTxCB =Tue Nov 19 15:06:20 EST 2024
cpus=48
using=1
2024/11/19 23:52:14 START of CB Counting
2024/11/19 23:52:14 FastaManager: START READ
2024/11/19 23:52:14 SequenceProcessor: 0 CB_SEQUENCEVECTORBUILD START
2024/11/19 23:52:14 FastaManager: lines read 53328
2024/11/19 23:52:14 FastaManager: END READ
2024/11/19 23:52:14 FastaManager: FASTA
2024/11/19 23:52:15 SequenceProcessor: 0 CB_SEQUENCEVECTORBUILD EXIT
2024/11/19 23:52:15 END of CB Counting
2024/11/19 23:52:15 Loaded sequences: 26664
##### Heap utilization statistics [GB] #####
Max Memory=0.5
Current Total Memory=0.5
Current Used Memory=0.377
Current Free Memory=0.123
############################################
cpus=48
using=1
2024/11/19 23:52:15 START of Creating CB Clusters Size=26664
K-Means clustering started
... centers initialized
... concurrent processing mode with 1 subtask threads
... iteration 1 moves = 4982
... iteration 2 moves = 1879
... iteration 3 moves = 715
... iteration 4 moves = 349
... iteration 5 moves = 199
... iteration 6 moves = 115
... iteration 7 moves = 138
... iteration 8 moves = 141
... iteration 9 moves = 122
... iteration 10 moves = 144
... iteration 11 moves = 147
... iteration 12 moves = 117
... iteration 13 moves = 89
... iteration 14 moves = 69
... iteration 15 moves = 59
... iteration 16 moves = 48
... iteration 17 moves = 32
... iteration 18 moves = 24
... iteration 19 moves = 19
... iteration 20 moves = 18
... iteration 21 moves = 9
... iteration 22 moves = 12
... iteration 23 moves = 0
...end. 5.157 seconds.
2024/11/19 23:52:20 : kMeans cleanup.
2024/11/19 23:52:20 END of Creating CB Clusters.
cpus=48
using=1
2024/11/19 23:52:20 START of CB Binning
2024/11/19 23:52:20 FastaManager: START READ
2024/11/19 23:52:20 SequenceProcessor: 0 CB_BINNING START
2024/11/19 23:52:20 FastaManager: lines read 53328
2024/11/19 23:52:20 FastaManager: END READ
2024/11/19 23:52:20 FastaManager: FASTA
2024/11/19 23:52:21 SequenceProcessor: 0 CB_BINNING EXIT
Clustered reads:
CB Cluster 1: 7058
CB Cluster 2: 19606
##### Heap utilization statistics [GB] #####
Max Memory=0.5
Current Total Memory=0.5
Current Used Memory=0.456
Current Free Memory=0.044
############################################
version MTxABxCB =Tue Nov 19 15:06:20 EST 2024
cpus=48
using=1
2024/11/19 23:52:21 Using Dictionary ORIGINAL
2024/11/19 23:52:21 START of AB Counting
2024/11/19 23:52:21 FastaManager: START READ
2024/11/19 23:52:21 SequenceProcessor: 0 AB_KMERCOUNT START
2024/11/19 23:52:21 FastaManager: lines read 53328
2024/11/19 23:52:21 FastaManager: END READ
2024/11/19 23:52:21 FastaManager: FASTA
2024/11/19 23:52:22 SequenceProcessor: 0 AB_KMERCOUNT EXIT
2024/11/19 23:52:22 END of AB Counting
2024/11/19 23:52:22 Loaded sequences: 26664
2024/11/19 23:52:22 Distinct kmers(before remove): 65536
##### Heap utilization statistics [GB] #####
Max Memory=0.5
Current Total Memory=0.5
Current Used Memory=0.315
Current Free Memory=0.185
############################################
2024/11/19 23:52:22
Unique: 0
Distinct: 65536
Total: 7625904
MaxCount: 1574
2024/11/19 23:52:22 START of EMsync
Run=1
Run=2
Run=3
Run=4
Run=5
Run=6
Run=7
Run=8
Run=9
Run=10
Run=11
Run=12
Run=13
Run=14
Run=15
Run=16
Run=17
Run=18
Run=19
Run=20
Run=21
Run=22
Run=23
Run=24
Run=25
2024/11/19 23:52:22 Runs=25
2024/11/19 23:52:22 END of EMsync
2024/11/19 23:52:22 Filter before=2
2024/11/19 23:52:22 Filter after=2
2024/11/19 23:52:22 START of Creating AB Cluster Vectors
Cluster 1 Abundance=241.01134335779187 Length=16168.173737759438 LowLimit=163 HighLimit=318
Cluster 2 Abundance=75.53888858729701 Length=49367.826262240575 LowLimit=32 HighLimit=118
2024/11/19 23:52:22 Trove size/4=18022
2024/11/19 23:52:22 Trove size/4=18022
2024/11/19 23:52:22 Cluster 2 size in kmers=65536 norm=221.81983091435748
2024/11/19 23:52:22 Cluster 1 size in kmers=65536 norm=126.5058948513796
2024/11/19 23:52:22 END of Creating AB Cluster Vectors
cpus=48
using=1
2024/11/19 23:52:22 START of AB Binning
2024/11/19 23:52:22 FastaManager: START READ
2024/11/19 23:52:22 SequenceProcessor: 0 AB_BINNING START
2024/11/19 23:52:22 FastaManager: lines read 53328
2024/11/19 23:52:22 FastaManager: END READ
2024/11/19 23:52:22 FastaManager: FASTA
2024/11/19 23:52:24 SequenceProcessor: 0 AB_BINNING EXIT
2024/11/19 23:52:24 END of AB Binning
cpus=48
using=1
2024/11/19 23:52:24 START of CB Counting
2024/11/19 23:52:24 FastaManager: START READ
2024/11/19 23:52:24 SequenceProcessor: 0 CB_SEQUENCEVECTORBUILD START
2024/11/19 23:52:24 FastaManager: lines read 53328
2024/11/19 23:52:24 FastaManager: END READ
2024/11/19 23:52:24 FastaManager: FASTA
2024/11/19 23:52:24 SequenceProcessor: 0 CB_SEQUENCEVECTORBUILD EXIT
2024/11/19 23:52:24 END of CB Counting
2024/11/19 23:52:24 Loaded sequences: 26664
##### Heap utilization statistics [GB] #####
Max Memory=0.5
Current Total Memory=0.5
Current Used Memory=0.297
Current Free Memory=0.203
############################################
2024/11/19 23:52:24 AB Cluster=1 Size=19871
2024/11/19 23:52:24 AB Cluster=2 Size=6793
cpus=48
using=1
ABid size abundance EMLength newLength EMspecies newspecies
----- ---- --------- -------- --------- --------- ----------
1 19,871 241.01134 16,168 12,367 1 1
2024/11/19 23:52:24 START of Creating CB Clusters for AB Cluster=1 Size=19871
K-Means clustering started
... centers initialized
... concurrent processing mode with 1 subtask threads
... iteration 1 moves = 0
...end. 1.714 seconds.
2024/11/19 23:52:26 : kMeans cleanup.
2024/11/19 23:52:26 END of Creating CB Clusters for AB Cluster=1
cpus=48
using=1
ABid size abundance EMLength newLength EMspecies newspecies
----- ---- --------- -------- --------- --------- ----------
2 6,793 75.53889 49,367 13,489 1 1
2024/11/19 23:52:26 START of Creating CB Clusters for AB Cluster=2 Size=6793
K-Means clustering started
... centers initialized
... concurrent processing mode with 1 subtask threads
... iteration 1 moves = 0
...end. 0.591 seconds.
2024/11/19 23:52:27 : kMeans cleanup.
2024/11/19 23:52:27 END of Creating CB Clusters for AB Cluster=2
##### Heap utilization statistics [GB] #####
Max Memory=0.5
Current Total Memory=0.5
Current Used Memory=0.396
Current Free Memory=0.104
############################################
cpus=48
using=1
2024/11/19 23:52:27 START of CB Binning
2024/11/19 23:52:27 FastaManager: START READ
2024/11/19 23:52:27 SequenceProcessor: 0 CB_BINNING START
2024/11/19 23:52:27 FastaManager: lines read 53328
2024/11/19 23:52:27 FastaManager: END READ
2024/11/19 23:52:27 FastaManager: FASTA
2024/11/19 23:52:27 SequenceProcessor: 0 CB_BINNING EXIT
Clustered reads:
ABxCB Cluster 1: 19871
ABxCB Cluster 2: 6793
##### Heap utilization statistics [GB] #####
Max Memory=0.5
Current Total Memory=0.5
Current Used Memory=0.441
Current Free Memory=0.059
############################################
[ FAIL 0 | WARN 0 | SKIP 0 | PASS 52 ]
>
> proc.time()
user system elapsed
22.690 1.121 17.755
metabinR.Rcheck/metabinR-Ex.timings
| name | user | system | elapsed | |
| abundance_based_binning | 5.564 | 0.806 | 4.523 | |
| composition_based_binning | 4.328 | 0.712 | 1.751 | |
| hierarchical_binning | 3.424 | 0.499 | 3.094 | |