| Back to Multiple platform build/check report for BioC 3.20: simplified long |
|
This page was generated on 2025-04-02 19:35 -0400 (Wed, 02 Apr 2025).
| Hostname | OS | Arch (*) | R version | Installed pkgs |
|---|---|---|---|---|
| nebbiolo2 | Linux (Ubuntu 24.04.1 LTS) | x86_64 | 4.4.3 (2025-02-28) -- "Trophy Case" | 4764 |
| palomino8 | Windows Server 2022 Datacenter | x64 | 4.4.3 (2025-02-28 ucrt) -- "Trophy Case" | 4495 |
| merida1 | macOS 12.7.5 Monterey | x86_64 | 4.4.3 (2025-02-28) -- "Trophy Case" | 4522 |
| kjohnson1 | macOS 13.6.6 Ventura | arm64 | 4.4.3 (2025-02-28) -- "Trophy Case" | 4449 |
| taishan | Linux (openEuler 24.03 LTS) | aarch64 | 4.4.3 (2025-02-28) -- "Trophy Case" | 4426 |
| Click on any hostname to see more info about the system (e.g. compilers) (*) as reported by 'uname -p', except on Windows and Mac OS X | ||||
| Package 969/2289 | Hostname | OS / Arch | INSTALL | BUILD | CHECK | BUILD BIN | ||||||||
| hiReadsProcessor 1.42.0 (landing page) Nirav V Malani
| nebbiolo2 | Linux (Ubuntu 24.04.1 LTS) / x86_64 | OK | OK | OK | |||||||||
| palomino8 | Windows Server 2022 Datacenter / x64 | ... NOT SUPPORTED ... | ||||||||||||
| merida1 | macOS 12.7.5 Monterey / x86_64 | OK | OK | OK | OK | |||||||||
| kjohnson1 | macOS 13.6.6 Ventura / arm64 | OK | OK | OK | OK | |||||||||
| taishan | Linux (openEuler 24.03 LTS) / aarch64 | OK | OK | OK | ||||||||||
|
To the developers/maintainers of the hiReadsProcessor package: - Allow up to 24 hours (and sometimes 48 hours) for your latest push to git@git.bioconductor.org:packages/hiReadsProcessor.git to reflect on this report. See Troubleshooting Build Report for more information. - Use the following Renviron settings to reproduce errors and warnings. - If 'R CMD check' started to fail recently on the Linux builder(s) over a missing dependency, add the missing dependency to 'Suggests:' in your DESCRIPTION file. See Renviron.bioc for more information. - See Martin Grigorov's blog post for how to debug Linux ARM64 related issues on a x86_64 host. |
| Package: hiReadsProcessor |
| Version: 1.42.0 |
| Command: /home/biocbuild/R/R/bin/R CMD check --install=check:hiReadsProcessor.install-out.txt --library=/home/biocbuild/R/R/site-library --no-vignettes --timings hiReadsProcessor_1.42.0.tar.gz |
| StartedAt: 2025-04-01 07:22:50 -0000 (Tue, 01 Apr 2025) |
| EndedAt: 2025-04-01 07:28:00 -0000 (Tue, 01 Apr 2025) |
| EllapsedTime: 310.3 seconds |
| RetCode: 0 |
| Status: OK |
| CheckDir: hiReadsProcessor.Rcheck |
| Warnings: 0 |
##############################################################################
##############################################################################
###
### Running command:
###
### /home/biocbuild/R/R/bin/R CMD check --install=check:hiReadsProcessor.install-out.txt --library=/home/biocbuild/R/R/site-library --no-vignettes --timings hiReadsProcessor_1.42.0.tar.gz
###
##############################################################################
##############################################################################
* using log directory ‘/home/biocbuild/bbs-3.20-bioc/meat/hiReadsProcessor.Rcheck’
* using R version 4.4.3 (2025-02-28)
* using platform: aarch64-unknown-linux-gnu
* R was compiled by
aarch64-unknown-linux-gnu-gcc (GCC) 14.2.0
GNU Fortran (GCC) 14.2.0
* running under: openEuler 24.03 (LTS)
* using session charset: UTF-8
* using option ‘--no-vignettes’
* checking for file ‘hiReadsProcessor/DESCRIPTION’ ... OK
* this is package ‘hiReadsProcessor’ version ‘1.42.0’
* checking package namespace information ... OK
* checking package dependencies ... OK
* checking if this is a source package ... OK
* checking if there is a namespace ... OK
* checking for hidden files and directories ... NOTE
Found the following hidden files and directories:
.BBSoptions
These were most likely included in error. See section ‘Package
structure’ in the ‘Writing R Extensions’ manual.
* checking for portable file names ... OK
* checking for sufficient/correct file permissions ... OK
* checking whether package ‘hiReadsProcessor’ can be installed ... OK
* checking installed package size ... OK
* checking package directory ... OK
* checking ‘build’ directory ... OK
* checking DESCRIPTION meta-information ... OK
* checking top-level files ... OK
* checking for left-over files ... OK
* checking index information ... OK
* checking package subdirectories ... OK
* checking code files for non-ASCII characters ... OK
* checking R files for syntax errors ... OK
* checking whether the package can be loaded ... OK
* checking whether the package can be loaded with stated dependencies ... OK
* checking whether the package can be unloaded cleanly ... OK
* checking whether the namespace can be loaded with stated dependencies ... OK
* checking whether the namespace can be unloaded cleanly ... OK
* checking loading without being on the library search path ... OK
* checking dependencies in R code ... OK
* checking S3 generic/method consistency ... OK
* checking replacement functions ... OK
* checking foreign function calls ... OK
* checking R code for possible problems ... NOTE
chunkize: no visible global function definition for ‘breakInChunks’
chunkize: no visible global function definition for ‘detectCores’
clusterSites : <anonymous>: no visible binding for global variable
‘queryHits’
clusterSites: no visible binding for global variable ‘clusteredValue’
clusterSites: no visible binding for global variable
‘clusteredValue.freq’
crossOverCheck: no visible binding for global variable ‘queryHits’
decodeByBarcode: no visible global function definition for ‘metadata<-’
decodeByBarcode: no visible global function definition for ‘metadata’
extractSeqs : <anonymous>: no visible global function definition for
‘metadata’
extractSeqs : <anonymous> : <anonymous> : <anonymous>: no visible
global function definition for ‘IRanges’
extractSeqs : <anonymous> : <anonymous>: no visible global function
definition for ‘IRanges’
findBarcodes: no visible global function definition for ‘metadata<-’
findBarcodes: no visible global function definition for ‘metadata’
findIntegrations: no visible global function definition for
‘fasta.info’
findIntegrations : <anonymous>: no visible global function definition
for ‘IRanges’
findVector : <anonymous>: no visible global function definition for
‘IRanges’
pairUpAlignments : <anonymous>: no visible binding for global variable
‘queryHits’
pairwiseAlignSeqs: no visible global function definition for
‘IRangesList’
pairwiseAlignSeqs: no visible global function definition for ‘IRanges’
primerIDAlignSeqs: no visible global function definition for ‘IRanges’
primerIDAlignSeqs: no visible global function definition for
‘IRangesList’
pslToRangedObject: no visible global function definition for ‘IRanges’
read.BAMasPSL: no visible global function definition for ‘ScanBamParam’
read.BAMasPSL: no visible global function definition for ‘scanBamFlag’
read.BAMasPSL: no visible global function definition for ‘DataFrame’
read.SeqFolder: no visible global function definition for ‘SimpleList’
read.psl: no visible global function definition for ‘mclapply’
read.psl : <anonymous>: no visible binding for global variable
‘matches’
read.psl : <anonymous>: no visible binding for global variable
‘misMatches’
read.psl : <anonymous>: no visible binding for global variable
‘qBaseInsert’
read.psl : <anonymous>: no visible binding for global variable
‘tBaseInsert’
read.psl: no visible binding for global variable ‘matches’
read.psl: no visible binding for global variable ‘misMatches’
read.psl: no visible binding for global variable ‘qBaseInsert’
read.psl: no visible binding for global variable ‘tBaseInsert’
read.sampleInfo: no visible global function definition for ‘SimpleList’
splitSeqsToFiles: no visible global function definition for
‘fasta.info’
vpairwiseAlignSeqs: no visible global function definition for ‘Rle’
vpairwiseAlignSeqs: no visible global function definition for
‘runLength’
vpairwiseAlignSeqs: no visible global function definition for ‘IRanges’
vpairwiseAlignSeqs: no visible global function definition for
‘runValue’
Undefined global functions or variables:
DataFrame IRanges IRangesList Rle ScanBamParam SimpleList
breakInChunks clusteredValue clusteredValue.freq detectCores
fasta.info matches mclapply metadata metadata<- misMatches
qBaseInsert queryHits runLength runValue scanBamFlag tBaseInsert
* checking Rd files ... OK
* checking Rd metadata ... OK
* checking Rd cross-references ... OK
* checking for missing documentation entries ... OK
* checking for code/documentation mismatches ... OK
* checking Rd \usage sections ... OK
* checking Rd contents ... OK
* checking for unstated dependencies in examples ... OK
* checking contents of ‘data’ directory ... OK
* checking data for non-ASCII characters ... OK
* checking data for ASCII and uncompressed saves ... OK
* checking files in ‘vignettes’ ... OK
* checking examples ... OK
* checking for unstated dependencies in vignettes ... OK
* checking package vignettes ... OK
* checking running R code from vignettes ... SKIPPED
* checking re-building of vignette outputs ... SKIPPED
* checking PDF version of manual ... OK
* DONE
Status: 2 NOTEs
See
‘/home/biocbuild/bbs-3.20-bioc/meat/hiReadsProcessor.Rcheck/00check.log’
for details.
hiReadsProcessor.Rcheck/00install.out
############################################################################## ############################################################################## ### ### Running command: ### ### /home/biocbuild/R/R/bin/R CMD INSTALL hiReadsProcessor ### ############################################################################## ############################################################################## * installing to library ‘/home/biocbuild/R/R-4.4.3/site-library’ * installing *source* package ‘hiReadsProcessor’ ... ** using staged installation ** R ** data ** inst ** byte-compile and prepare package for lazy loading ** help *** installing help indices ** building package indices ** installing vignettes ** testing if installed package can be loaded from temporary location ** testing if installed package can be loaded from final location ** testing if installed package keeps a record of temporary installation path * DONE (hiReadsProcessor)
hiReadsProcessor.Rcheck/hiReadsProcessor-Ex.timings
| name | user | system | elapsed | |
| addFeature | 0.208 | 0.008 | 0.216 | |
| addListNameToReads | 0.931 | 0.068 | 1.001 | |
| annotateSites | 0 | 0 | 0 | |
| blatSeqs | 0 | 0 | 0 | |
| chunkize | 0.038 | 0.000 | 0.038 | |
| clusterSites | 0.387 | 0.012 | 0.400 | |
| crossOverCheck | 0.125 | 0.016 | 0.142 | |
| dereplicateReads | 0.047 | 0.008 | 0.055 | |
| doRCtest | 2.803 | 0.136 | 2.962 | |
| extractFeature | 0.132 | 0.125 | 0.144 | |
| extractSeqs | 0.459 | 0.060 | 0.520 | |
| findAndTrimSeq | 0.982 | 0.299 | 1.284 | |
| findBarcodes | 0.713 | 0.000 | 0.715 | |
| findIntegrations | 0 | 0 | 0 | |
| findLTRs | 0 | 0 | 0 | |
| findLinkers | 0 | 0 | 0 | |
| findPrimers | 0 | 0 | 0 | |
| findVector | 0 | 0 | 0 | |
| getIntegrationSites | 1.680 | 0.048 | 1.731 | |
| getSectorsForSamples | 0.086 | 0.003 | 0.089 | |
| getSonicAbund | 0.463 | 0.157 | 0.578 | |
| isuSites | 3.546 | 0.562 | 4.119 | |
| otuSites | 3.915 | 0.112 | 4.035 | |
| pairUpAlignments | 0 | 0 | 0 | |
| pairwiseAlignSeqs | 1.879 | 1.038 | 2.725 | |
| primerIDAlignSeqs | 2.617 | 0.504 | 3.024 | |
| pslCols | 0 | 0 | 0 | |
| pslToRangedObject | 0.225 | 0.000 | 0.225 | |
| read.BAMasPSL | 0 | 0 | 0 | |
| read.SeqFolder | 1.297 | 0.023 | 1.330 | |
| read.blast8 | 0 | 0 | 0 | |
| read.psl | 0 | 0 | 0 | |
| read.sampleInfo | 1.341 | 0.016 | 1.365 | |
| read.seqsFromSector | 0 | 0 | 0 | |
| removeReadsWithNs | 0.024 | 0.004 | 0.029 | |
| replicateReads | 0.061 | 0.000 | 0.062 | |
| sampleSummary | 0.850 | 0.008 | 0.859 | |
| splitByBarcode | 0.035 | 0.000 | 0.035 | |
| splitSeqsToFiles | 0.172 | 0.012 | 0.185 | |
| startgfServer | 0 | 0 | 0 | |
| trimSeqs | 0.034 | 0.000 | 0.033 | |
| vpairwiseAlignSeqs | 1.608 | 1.098 | 2.500 | |
| write.listedDNAStringSet | 0 | 0 | 0 | |
| write.psl | 0.021 | 0.000 | 0.021 | |