Back to Multiple platform build/check report for BioC 3.20:   simplified   long
ABCDEFG[H]IJKLMNOPQRSTUVWXYZ

This page was generated on 2025-02-06 12:04 -0500 (Thu, 06 Feb 2025).

HostnameOSArch (*)R versionInstalled pkgs
nebbiolo2Linux (Ubuntu 24.04.1 LTS)x86_644.4.2 (2024-10-31) -- "Pile of Leaves" 4753
palomino8Windows Server 2022 Datacenterx644.4.2 (2024-10-31 ucrt) -- "Pile of Leaves" 4501
merida1macOS 12.7.5 Montereyx86_644.4.2 (2024-10-31) -- "Pile of Leaves" 4524
kjohnson1macOS 13.6.6 Venturaarm644.4.2 (2024-10-31) -- "Pile of Leaves" 4476
taishanLinux (openEuler 24.03 LTS)aarch644.4.2 (2024-10-31) -- "Pile of Leaves" 4407
Click on any hostname to see more info about the system (e.g. compilers)      (*) as reported by 'uname -p', except on Windows and Mac OS X

Package 969/2289HostnameOS / ArchINSTALLBUILDCHECKBUILD BIN
hiReadsProcessor 1.42.0  (landing page)
Nirav V Malani
Snapshot Date: 2025-02-03 13:00 -0500 (Mon, 03 Feb 2025)
git_url: https://git.bioconductor.org/packages/hiReadsProcessor
git_branch: RELEASE_3_20
git_last_commit: 2f341e3
git_last_commit_date: 2024-10-29 09:54:10 -0500 (Tue, 29 Oct 2024)
nebbiolo2Linux (Ubuntu 24.04.1 LTS) / x86_64  OK    OK    OK  UNNEEDED, same version is already published
palomino8Windows Server 2022 Datacenter / x64... NOT SUPPORTED ...
merida1macOS 12.7.5 Monterey / x86_64  OK    OK    OK    OK  UNNEEDED, same version is already published
kjohnson1macOS 13.6.6 Ventura / arm64  OK    OK    OK    OK  UNNEEDED, same version is already published
taishanLinux (openEuler 24.03 LTS) / aarch64  OK    OK    OK  


CHECK results for hiReadsProcessor on nebbiolo2

To the developers/maintainers of the hiReadsProcessor package:
- Allow up to 24 hours (and sometimes 48 hours) for your latest push to git@git.bioconductor.org:packages/hiReadsProcessor.git to reflect on this report. See Troubleshooting Build Report for more information.
- Use the following Renviron settings to reproduce errors and warnings.
- If 'R CMD check' started to fail recently on the Linux builder(s) over a missing dependency, add the missing dependency to 'Suggests:' in your DESCRIPTION file. See Renviron.bioc for more information.

raw results


Summary

Package: hiReadsProcessor
Version: 1.42.0
Command: /home/biocbuild/bbs-3.20-bioc/R/bin/R CMD check --install=check:hiReadsProcessor.install-out.txt --library=/home/biocbuild/bbs-3.20-bioc/R/site-library --timings hiReadsProcessor_1.42.0.tar.gz
StartedAt: 2025-02-03 23:12:57 -0500 (Mon, 03 Feb 2025)
EndedAt: 2025-02-03 23:17:57 -0500 (Mon, 03 Feb 2025)
EllapsedTime: 299.4 seconds
RetCode: 0
Status:   OK  
CheckDir: hiReadsProcessor.Rcheck
Warnings: 0

Command output

##############################################################################
##############################################################################
###
### Running command:
###
###   /home/biocbuild/bbs-3.20-bioc/R/bin/R CMD check --install=check:hiReadsProcessor.install-out.txt --library=/home/biocbuild/bbs-3.20-bioc/R/site-library --timings hiReadsProcessor_1.42.0.tar.gz
###
##############################################################################
##############################################################################


* using log directory ‘/home/biocbuild/bbs-3.20-bioc/meat/hiReadsProcessor.Rcheck’
* using R version 4.4.2 (2024-10-31)
* using platform: x86_64-pc-linux-gnu
* R was compiled by
    gcc (Ubuntu 13.2.0-23ubuntu4) 13.2.0
    GNU Fortran (Ubuntu 13.2.0-23ubuntu4) 13.2.0
* running under: Ubuntu 24.04.1 LTS
* using session charset: UTF-8
* checking for file ‘hiReadsProcessor/DESCRIPTION’ ... OK
* this is package ‘hiReadsProcessor’ version ‘1.42.0’
* checking package namespace information ... OK
* checking package dependencies ... OK
* checking if this is a source package ... OK
* checking if there is a namespace ... OK
* checking for hidden files and directories ... NOTE
Found the following hidden files and directories:
  .BBSoptions
These were most likely included in error. See section ‘Package
structure’ in the ‘Writing R Extensions’ manual.
* checking for portable file names ... OK
* checking for sufficient/correct file permissions ... OK
* checking whether package ‘hiReadsProcessor’ can be installed ... OK
* checking installed package size ... OK
* checking package directory ... OK
* checking ‘build’ directory ... OK
* checking DESCRIPTION meta-information ... OK
* checking top-level files ... OK
* checking for left-over files ... OK
* checking index information ... OK
* checking package subdirectories ... OK
* checking code files for non-ASCII characters ... OK
* checking R files for syntax errors ... OK
* checking whether the package can be loaded ... OK
* checking whether the package can be loaded with stated dependencies ... OK
* checking whether the package can be unloaded cleanly ... OK
* checking whether the namespace can be loaded with stated dependencies ... OK
* checking whether the namespace can be unloaded cleanly ... OK
* checking loading without being on the library search path ... OK
* checking dependencies in R code ... OK
* checking S3 generic/method consistency ... OK
* checking replacement functions ... OK
* checking foreign function calls ... OK
* checking R code for possible problems ... NOTE
chunkize: no visible global function definition for ‘breakInChunks’
chunkize: no visible global function definition for ‘detectCores’
clusterSites : <anonymous>: no visible binding for global variable
  ‘queryHits’
clusterSites: no visible binding for global variable ‘clusteredValue’
clusterSites: no visible binding for global variable
  ‘clusteredValue.freq’
crossOverCheck: no visible binding for global variable ‘queryHits’
decodeByBarcode: no visible global function definition for ‘metadata<-’
decodeByBarcode: no visible global function definition for ‘metadata’
extractSeqs : <anonymous>: no visible global function definition for
  ‘metadata’
extractSeqs : <anonymous> : <anonymous> : <anonymous>: no visible
  global function definition for ‘IRanges’
extractSeqs : <anonymous> : <anonymous>: no visible global function
  definition for ‘IRanges’
findBarcodes: no visible global function definition for ‘metadata<-’
findBarcodes: no visible global function definition for ‘metadata’
findIntegrations: no visible global function definition for
  ‘fasta.info’
findIntegrations : <anonymous>: no visible global function definition
  for ‘IRanges’
findVector : <anonymous>: no visible global function definition for
  ‘IRanges’
pairUpAlignments : <anonymous>: no visible binding for global variable
  ‘queryHits’
pairwiseAlignSeqs: no visible global function definition for
  ‘IRangesList’
pairwiseAlignSeqs: no visible global function definition for ‘IRanges’
primerIDAlignSeqs: no visible global function definition for ‘IRanges’
primerIDAlignSeqs: no visible global function definition for
  ‘IRangesList’
pslToRangedObject: no visible global function definition for ‘IRanges’
read.BAMasPSL: no visible global function definition for ‘ScanBamParam’
read.BAMasPSL: no visible global function definition for ‘scanBamFlag’
read.BAMasPSL: no visible global function definition for ‘DataFrame’
read.SeqFolder: no visible global function definition for ‘SimpleList’
read.psl: no visible global function definition for ‘mclapply’
read.psl : <anonymous>: no visible binding for global variable
  ‘matches’
read.psl : <anonymous>: no visible binding for global variable
  ‘misMatches’
read.psl : <anonymous>: no visible binding for global variable
  ‘qBaseInsert’
read.psl : <anonymous>: no visible binding for global variable
  ‘tBaseInsert’
read.psl: no visible binding for global variable ‘matches’
read.psl: no visible binding for global variable ‘misMatches’
read.psl: no visible binding for global variable ‘qBaseInsert’
read.psl: no visible binding for global variable ‘tBaseInsert’
read.sampleInfo: no visible global function definition for ‘SimpleList’
splitSeqsToFiles: no visible global function definition for
  ‘fasta.info’
vpairwiseAlignSeqs: no visible global function definition for ‘Rle’
vpairwiseAlignSeqs: no visible global function definition for
  ‘runLength’
vpairwiseAlignSeqs: no visible global function definition for ‘IRanges’
vpairwiseAlignSeqs: no visible global function definition for
  ‘runValue’
Undefined global functions or variables:
  DataFrame IRanges IRangesList Rle ScanBamParam SimpleList
  breakInChunks clusteredValue clusteredValue.freq detectCores
  fasta.info matches mclapply metadata metadata<- misMatches
  qBaseInsert queryHits runLength runValue scanBamFlag tBaseInsert
* checking Rd files ... OK
* checking Rd metadata ... OK
* checking Rd cross-references ... OK
* checking for missing documentation entries ... OK
* checking for code/documentation mismatches ... OK
* checking Rd \usage sections ... OK
* checking Rd contents ... OK
* checking for unstated dependencies in examples ... OK
* checking contents of ‘data’ directory ... OK
* checking data for non-ASCII characters ... OK
* checking data for ASCII and uncompressed saves ... OK
* checking files in ‘vignettes’ ... OK
* checking examples ... OK
* checking for unstated dependencies in vignettes ... OK
* checking package vignettes ... OK
* checking re-building of vignette outputs ... OK
* checking PDF version of manual ... OK
* DONE

Status: 2 NOTEs
See
  ‘/home/biocbuild/bbs-3.20-bioc/meat/hiReadsProcessor.Rcheck/00check.log’
for details.


Installation output

hiReadsProcessor.Rcheck/00install.out

##############################################################################
##############################################################################
###
### Running command:
###
###   /home/biocbuild/bbs-3.20-bioc/R/bin/R CMD INSTALL hiReadsProcessor
###
##############################################################################
##############################################################################


* installing to library ‘/home/biocbuild/bbs-3.20-bioc/R/site-library’
* installing *source* package ‘hiReadsProcessor’ ...
** using staged installation
** R
** data
** inst
** byte-compile and prepare package for lazy loading
** help
*** installing help indices
** building package indices
** installing vignettes
** testing if installed package can be loaded from temporary location
** testing if installed package can be loaded from final location
** testing if installed package keeps a record of temporary installation path
* DONE (hiReadsProcessor)

Tests output


Example timings

hiReadsProcessor.Rcheck/hiReadsProcessor-Ex.timings

nameusersystemelapsed
addFeature0.1760.0020.178
addListNameToReads0.2560.0260.281
annotateSites000
blatSeqs000
chunkize0.0300.0010.032
clusterSites0.2940.0440.338
crossOverCheck0.0950.0150.110
dereplicateReads0.0700.0000.071
doRCtest4.8760.0874.980
extractFeature0.1400.1050.126
extractSeqs0.3460.0190.367
findAndTrimSeq1.4530.1551.607
findBarcodes1.2420.0001.242
findIntegrations000
findLTRs000
findLinkers000
findPrimers000
findVector000
getIntegrationSites2.4720.0002.473
getSectorsForSamples0.0830.0010.084
getSonicAbund0.3340.1970.486
isuSites3.8680.9284.797
otuSites3.8870.1554.042
pairUpAlignments000
pairwiseAlignSeqs1.9740.6152.439
primerIDAlignSeqs2.7890.3783.094
pslCols0.0000.0000.001
pslToRangedObject0.1490.0030.153
read.BAMasPSL000
read.SeqFolder0.8330.0370.870
read.blast8000
read.psl0.0000.0000.001
read.sampleInfo0.8240.0200.846
read.seqsFromSector000
removeReadsWithNs0.0170.0010.018
replicateReads0.0390.0030.042
sampleSummary0.5470.0340.581
splitByBarcode0.0260.0010.027
splitSeqsToFiles0.1240.0080.132
startgfServer000
trimSeqs0.0200.0030.023
vpairwiseAlignSeqs1.8640.8522.547
write.listedDNAStringSet000
write.psl0.0170.0010.019