| Back to Multiple platform build/check report for BioC 3.20: simplified long |
|
This page was generated on 2025-04-02 19:32 -0400 (Wed, 02 Apr 2025).
| Hostname | OS | Arch (*) | R version | Installed pkgs |
|---|---|---|---|---|
| nebbiolo2 | Linux (Ubuntu 24.04.1 LTS) | x86_64 | 4.4.3 (2025-02-28) -- "Trophy Case" | 4764 |
| palomino8 | Windows Server 2022 Datacenter | x64 | 4.4.3 (2025-02-28 ucrt) -- "Trophy Case" | 4495 |
| merida1 | macOS 12.7.5 Monterey | x86_64 | 4.4.3 (2025-02-28) -- "Trophy Case" | 4522 |
| kjohnson1 | macOS 13.6.6 Ventura | arm64 | 4.4.3 (2025-02-28) -- "Trophy Case" | 4449 |
| taishan | Linux (openEuler 24.03 LTS) | aarch64 | 4.4.3 (2025-02-28) -- "Trophy Case" | 4426 |
| Click on any hostname to see more info about the system (e.g. compilers) (*) as reported by 'uname -p', except on Windows and Mac OS X | ||||
| Package 703/2289 | Hostname | OS / Arch | INSTALL | BUILD | CHECK | BUILD BIN | ||||||||
| fcScan 1.20.0 (landing page) Pierre Khoueiry
| nebbiolo2 | Linux (Ubuntu 24.04.1 LTS) / x86_64 | OK | OK | OK | |||||||||
| palomino8 | Windows Server 2022 Datacenter / x64 | OK | ERROR | skipped | skipped | |||||||||
| merida1 | macOS 12.7.5 Monterey / x86_64 | OK | OK | OK | OK | |||||||||
| kjohnson1 | macOS 13.6.6 Ventura / arm64 | OK | OK | OK | OK | |||||||||
| taishan | Linux (openEuler 24.03 LTS) / aarch64 | OK | OK | OK | ||||||||||
|
To the developers/maintainers of the fcScan package: - Allow up to 24 hours (and sometimes 48 hours) for your latest push to git@git.bioconductor.org:packages/fcScan.git to reflect on this report. See Troubleshooting Build Report for more information. - Use the following Renviron settings to reproduce errors and warnings. - If 'R CMD check' started to fail recently on the Linux builder(s) over a missing dependency, add the missing dependency to 'Suggests:' in your DESCRIPTION file. See Renviron.bioc for more information. |
| Package: fcScan |
| Version: 1.20.0 |
| Command: /Library/Frameworks/R.framework/Resources/bin/R CMD check --install=check:fcScan.install-out.txt --library=/Library/Frameworks/R.framework/Resources/library --no-vignettes --timings fcScan_1.20.0.tar.gz |
| StartedAt: 2025-04-01 02:59:00 -0400 (Tue, 01 Apr 2025) |
| EndedAt: 2025-04-01 03:08:22 -0400 (Tue, 01 Apr 2025) |
| EllapsedTime: 562.4 seconds |
| RetCode: 0 |
| Status: OK |
| CheckDir: fcScan.Rcheck |
| Warnings: 0 |
##############################################################################
##############################################################################
###
### Running command:
###
### /Library/Frameworks/R.framework/Resources/bin/R CMD check --install=check:fcScan.install-out.txt --library=/Library/Frameworks/R.framework/Resources/library --no-vignettes --timings fcScan_1.20.0.tar.gz
###
##############################################################################
##############################################################################
* using log directory ‘/Users/biocbuild/bbs-3.20-bioc/meat/fcScan.Rcheck’
* using R version 4.4.3 (2025-02-28)
* using platform: x86_64-apple-darwin20
* R was compiled by
Apple clang version 14.0.0 (clang-1400.0.29.202)
GNU Fortran (GCC) 12.2.0
* running under: macOS Monterey 12.7.6
* using session charset: UTF-8
* using option ‘--no-vignettes’
* checking for file ‘fcScan/DESCRIPTION’ ... OK
* checking extension type ... Package
* this is package ‘fcScan’ version ‘1.20.0’
* package encoding: UTF-8
* checking package namespace information ... OK
* checking package dependencies ... OK
* checking if this is a source package ... OK
* checking if there is a namespace ... OK
* checking for hidden files and directories ... OK
* checking for portable file names ... OK
* checking for sufficient/correct file permissions ... OK
* checking whether package ‘fcScan’ can be installed ... OK
* checking installed package size ... OK
* checking package directory ... OK
* checking ‘build’ directory ... OK
* checking DESCRIPTION meta-information ... OK
* checking top-level files ... OK
* checking for left-over files ... OK
* checking index information ... OK
* checking package subdirectories ... OK
* checking code files for non-ASCII characters ... OK
* checking R files for syntax errors ... OK
* checking whether the package can be loaded ... OK
* checking whether the package can be loaded with stated dependencies ... OK
* checking whether the package can be unloaded cleanly ... OK
* checking whether the namespace can be loaded with stated dependencies ... OK
* checking whether the namespace can be unloaded cleanly ... OK
* checking dependencies in R code ... OK
* checking S3 generic/method consistency ... OK
* checking replacement functions ... OK
* checking foreign function calls ... OK
* checking R code for possible problems ... OK
* checking Rd files ... OK
* checking Rd metadata ... OK
* checking Rd cross-references ... OK
* checking for missing documentation entries ... OK
* checking for code/documentation mismatches ... OK
* checking Rd \usage sections ... OK
* checking Rd contents ... OK
* checking for unstated dependencies in examples ... OK
* checking files in ‘vignettes’ ... OK
* checking examples ... OK
* checking for unstated dependencies in ‘tests’ ... OK
* checking tests ...
Running ‘runTests.R’
OK
* checking for unstated dependencies in vignettes ... OK
* checking package vignettes ... OK
* checking running R code from vignettes ... SKIPPED
* checking re-building of vignette outputs ... SKIPPED
* checking PDF version of manual ... OK
* DONE
Status: OK
fcScan.Rcheck/00install.out
############################################################################## ############################################################################## ### ### Running command: ### ### /Library/Frameworks/R.framework/Resources/bin/R CMD INSTALL fcScan ### ############################################################################## ############################################################################## * installing to library ‘/Library/Frameworks/R.framework/Versions/4.4-x86_64/Resources/library’ * installing *source* package ‘fcScan’ ... ** using staged installation ** R ** inst ** byte-compile and prepare package for lazy loading ** help *** installing help indices ** building package indices ** installing vignettes ** testing if installed package can be loaded from temporary location ** testing if installed package can be loaded from final location ** testing if installed package keeps a record of temporary installation path * DONE (fcScan)
fcScan.Rcheck/tests/runTests.Rout
R version 4.4.3 (2025-02-28) -- "Trophy Case"
Copyright (C) 2025 The R Foundation for Statistical Computing
Platform: x86_64-apple-darwin20
R is free software and comes with ABSOLUTELY NO WARRANTY.
You are welcome to redistribute it under certain conditions.
Type 'license()' or 'licence()' for distribution details.
R is a collaborative project with many contributors.
Type 'contributors()' for more information and
'citation()' on how to cite R or R packages in publications.
Type 'demo()' for some demos, 'help()' for on-line help, or
'help.start()' for an HTML browser interface to help.
Type 'q()' to quit R.
> BiocGenerics:::testPackage("fcScan")
Loading required package: GenomicRanges
Loading required package: stats4
Loading required package: BiocGenerics
Attaching package: 'BiocGenerics'
The following objects are masked from 'package:stats':
IQR, mad, sd, var, xtabs
The following objects are masked from 'package:base':
Filter, Find, Map, Position, Reduce, anyDuplicated, aperm, append,
as.data.frame, basename, cbind, colnames, dirname, do.call,
duplicated, eval, evalq, get, grep, grepl, intersect, is.unsorted,
lapply, mapply, match, mget, order, paste, pmax, pmax.int, pmin,
pmin.int, rank, rbind, rownames, sapply, saveRDS, setdiff, table,
tapply, union, unique, unsplit, which.max, which.min
Loading required package: S4Vectors
Attaching package: 'S4Vectors'
The following object is masked from 'package:utils':
findMatches
The following objects are masked from 'package:base':
I, expand.grid, unname
Loading required package: IRanges
Loading required package: GenomeInfoDb
17 entries loaded
Running getCluster using 1 threads
Time difference of 0.4473801 secs
Sites in condition do not match sites in data
3 entries loaded
Running getCluster using 1 threads
Time difference of 0.1694701 secs
17 entries loaded
Running getCluster using 1 threads
Time difference of 0.1832099 secs
17 entries loaded
Running getCluster using 1 threads
Time difference of 0.1965261 secs
17 entries loaded
Running getCluster using 1 threads
No cluster found
17 entries loaded
Running getCluster using 1 threads
Time difference of 0.230134 secs
17 entries loaded
Running getCluster using 1 threads
Time difference of 0.199054 secs
17 entries loaded
Running getCluster using 1 threads
Time difference of 0.2189791 secs
17 entries loaded
Running getCluster using 1 threads
Time difference of 0.187402 secs
17 entries loaded
Running getCluster using 1 threads
Time difference of 0.1999359 secs
17 entries loaded
Running getCluster using 1 threads
Time difference of 0.1808739 secs
6 entries loaded
Running getCluster using 1 threads
Time difference of 0.1927271 secs
6 entries loaded
Running getCluster using 1 threads
Time difference of 0.183027 secs
6 entries loaded
Running getCluster using 1 threads
Time difference of 0.161622 secs
6 entries loaded
Running getCluster using 1 threads
Time difference of 0.1702371 secs
10 entries loaded
Running getCluster using 1 threads
Time difference of 0.19151 secs
10 entries loaded
Running getCluster using 1 threads
No cluster found
10 entries loaded
Running getCluster using 1 threads
Time difference of 0.1611769 secs
16 entries loaded
Running getCluster using 1 threads
Time difference of 0.132525 secs
6 entries loaded
Running getCluster using 1 threads
Time difference of 0.1470399 secs
6 entries loaded
Running getCluster using 1 threads
Time difference of 0.1441329 secs
6 entries loaded
Running getCluster using 1 threads
Time difference of 0.152689 secs
6 entries loaded
Running getCluster using 1 threads
Time difference of 0.1524429 secs
6 entries loaded
Running getCluster using 1 threads
Time difference of 0.1578112 secs
17 entries loaded
Running getCluster using 1 threads
Time difference of 0.148613 secs
17 entries loaded
Running getCluster using 1 threads
Time difference of 0.1591249 secs
17 entries loaded
Running getCluster using 1 threads
Time difference of 0.1623061 secs
17 entries loaded
Running getCluster using 1 threads
Time difference of 0.1752908 secs
17 entries loaded
Running getCluster using 1 threads
Time difference of 0.163871 secs
17 entries loaded
Running getCluster using 1 threads
Time difference of 0.155947 secs
17 entries loaded
Running getCluster using 1 threads
Time difference of 0.1647229 secs
17 entries loaded
Running getCluster using 1 threads
Time difference of 0.2235291 secs
17 entries loaded
Running getCluster using 1 threads
Time difference of 0.209476 secs
17 entries loaded
Running getCluster using 1 threads
Time difference of 0.2221429 secs
17 entries loaded
Running getCluster using 1 threads
Time difference of 0.226284 secs
17 entries loaded
Running getCluster using 1 threads
Time difference of 0.167438 secs
17 entries loaded
Running getCluster using 1 threads
Time difference of 0.2211521 secs
17 entries loaded
Running getCluster using 1 threads
Time difference of 0.1968501 secs
17 entries loaded
Running getCluster using 1 threads
Time difference of 0.1732509 secs
17 entries loaded
Running getCluster using 1 threads
Time difference of 0.175034 secs
17 entries loaded
Running getCluster using 1 threads
Time difference of 0.1560609 secs
17 entries loaded
Running getCluster using 1 threads
Time difference of 0.215838 secs
17 entries loaded
Running getCluster using 1 threads
Time difference of 0.169384 secs
17 entries loaded
Running getCluster using 1 threads
Time difference of 0.2326 secs
RUNIT TEST PROTOCOL -- Tue Apr 1 03:08:09 2025
***********************************************
Number of test functions: 1
Number of errors: 0
Number of failures: 0
1 Test Suite :
fcScan RUnit Tests - 1 test function, 0 errors, 0 failures
Number of test functions: 1
Number of errors: 0
Number of failures: 0
>
> proc.time()
user system elapsed
32.690 1.983 36.333
fcScan.Rcheck/fcScan-Ex.timings
| name | user | system | elapsed | |
| getCluster | 0.647 | 0.025 | 0.680 | |