| Back to Multiple platform build/check report for BioC 3.20: simplified long |
|
This page was generated on 2024-11-20 12:02 -0500 (Wed, 20 Nov 2024).
| Hostname | OS | Arch (*) | R version | Installed pkgs |
|---|---|---|---|---|
| teran2 | Linux (Ubuntu 24.04.1 LTS) | x86_64 | 4.4.2 (2024-10-31) -- "Pile of Leaves" | 4481 |
| nebbiolo2 | Linux (Ubuntu 24.04.1 LTS) | x86_64 | 4.4.2 (2024-10-31) -- "Pile of Leaves" | 4479 |
| palomino8 | Windows Server 2022 Datacenter | x64 | 4.4.2 (2024-10-31 ucrt) -- "Pile of Leaves" | 4359 |
| lconway | macOS 12.7.1 Monterey | x86_64 | 4.4.1 (2024-06-14) -- "Race for Your Life" | 4539 |
| kunpeng2 | Linux (openEuler 22.03 LTS-SP1) | aarch64 | 4.4.1 (2024-06-14) -- "Race for Your Life" | 4493 |
| Click on any hostname to see more info about the system (e.g. compilers) (*) as reported by 'uname -p', except on Windows and Mac OS X | ||||
| Package 417/2289 | Hostname | OS / Arch | INSTALL | BUILD | CHECK | BUILD BIN | ||||||||
| compEpiTools 1.40.0 (landing page) Mattia Furlan
| teran2 | Linux (Ubuntu 24.04.1 LTS) / x86_64 | OK | OK | OK | |||||||||
| nebbiolo2 | Linux (Ubuntu 24.04.1 LTS) / x86_64 | OK | OK | OK | ||||||||||
| palomino8 | Windows Server 2022 Datacenter / x64 | OK | OK | OK | OK | |||||||||
| lconway | macOS 12.7.1 Monterey / x86_64 | OK | OK | OK | OK | |||||||||
| kunpeng2 | Linux (openEuler 22.03 LTS-SP1) / aarch64 | OK | OK | OK | ||||||||||
|
To the developers/maintainers of the compEpiTools package: - Allow up to 24 hours (and sometimes 48 hours) for your latest push to git@git.bioconductor.org:packages/compEpiTools.git to reflect on this report. See Troubleshooting Build Report for more information. - Use the following Renviron settings to reproduce errors and warnings. - If 'R CMD check' started to fail recently on the Linux builder(s) over a missing dependency, add the missing dependency to 'Suggests:' in your DESCRIPTION file. See Renviron.bioc for more information. |
| Package: compEpiTools |
| Version: 1.40.0 |
| Command: /home/biocbuild/bbs-3.20-bioc/R/bin/R CMD check --install=check:compEpiTools.install-out.txt --library=/home/biocbuild/bbs-3.20-bioc/R/site-library --timings compEpiTools_1.40.0.tar.gz |
| StartedAt: 2024-11-20 00:46:36 -0500 (Wed, 20 Nov 2024) |
| EndedAt: 2024-11-20 00:53:54 -0500 (Wed, 20 Nov 2024) |
| EllapsedTime: 438.0 seconds |
| RetCode: 0 |
| Status: OK |
| CheckDir: compEpiTools.Rcheck |
| Warnings: 0 |
##############################################################################
##############################################################################
###
### Running command:
###
### /home/biocbuild/bbs-3.20-bioc/R/bin/R CMD check --install=check:compEpiTools.install-out.txt --library=/home/biocbuild/bbs-3.20-bioc/R/site-library --timings compEpiTools_1.40.0.tar.gz
###
##############################################################################
##############################################################################
* using log directory ‘/media/volume/teran2_disk/biocbuild/bbs-3.20-bioc/meat/compEpiTools.Rcheck’
* using R version 4.4.2 (2024-10-31)
* using platform: x86_64-pc-linux-gnu
* R was compiled by
gcc (Ubuntu 13.2.0-23ubuntu4) 13.2.0
GNU Fortran (Ubuntu 13.2.0-23ubuntu4) 13.2.0
* running under: Ubuntu 24.04.1 LTS
* using session charset: UTF-8
* checking for file ‘compEpiTools/DESCRIPTION’ ... OK
* checking extension type ... Package
* this is package ‘compEpiTools’ version ‘1.40.0’
* checking package namespace information ... OK
* checking package dependencies ... OK
* checking if this is a source package ... OK
* checking if there is a namespace ... OK
* checking for hidden files and directories ... OK
* checking for portable file names ... OK
* checking for sufficient/correct file permissions ... OK
* checking whether package ‘compEpiTools’ can be installed ... OK
* checking installed package size ... OK
* checking package directory ... OK
* checking ‘build’ directory ... OK
* checking DESCRIPTION meta-information ... OK
* checking top-level files ... OK
* checking for left-over files ... OK
* checking index information ... OK
* checking package subdirectories ... OK
* checking code files for non-ASCII characters ... OK
* checking R files for syntax errors ... OK
* checking whether the package can be loaded ... OK
* checking whether the package can be loaded with stated dependencies ... OK
* checking whether the package can be unloaded cleanly ... OK
* checking whether the namespace can be loaded with stated dependencies ... OK
* checking whether the namespace can be unloaded cleanly ... OK
* checking loading without being on the library search path ... OK
* checking dependencies in R code ... OK
* checking S3 generic/method consistency ... OK
* checking replacement functions ... OK
* checking foreign function calls ... OK
* checking R code for possible problems ... NOTE
TSS: no visible global function definition for 'end<-'
TSS: no visible global function definition for 'start<-'
findLncRNA: no visible global function definition for 'start<-'
findLncRNA: no visible global function definition for 'end<-'
findLncRNA: no visible global function definition for 'IRanges'
stallingIndex : getBound: no visible global function definition for
'start<-'
stallingIndex : getBound: no visible global function definition for
'end<-'
stallingIndex: no visible global function definition for 'IRanges'
topGOres : <anonymous>: no visible global function definition for
'ggplot'
topGOres : <anonymous>: no visible global function definition for 'aes'
topGOres : <anonymous>: no visible binding for global variable
'Significant'
topGOres : <anonymous>: no visible binding for global variable 'P_val'
topGOres : <anonymous>: no visible global function definition for
'geom_bar'
topGOres : <anonymous>: no visible global function definition for
'coord_flip'
topGOres : <anonymous>: no visible global function definition for
'ylab'
ucsc2GRanges: no visible global function definition for 'IRanges'
GR2fasta,GRanges: no visible global function definition for
'seqlengths'
GR2fasta,GRanges: no visible global function definition for
'seqlengths<-'
GR2fasta,GRanges: no visible global function definition for 'trim'
GRangesInPromoters,GRanges: no visible global function definition for
'start<-'
GRannotate,GRanges: no visible global function definition for 'start<-'
GRannotate,GRanges: no visible global function definition for 'end<-'
GRcoverageSummit,GRanges: no visible global function definition for
'start<-'
GRcoverageSummit,GRanges: no visible global function definition for
'end<-'
GRmidpoint,GRanges: no visible global function definition for 'start<-'
GRmidpoint,GRanges: no visible global function definition for 'end<-'
GRsetwidth,GRanges: no visible global function definition for 'start<-'
GRsetwidth,GRanges: no visible global function definition for 'end<-'
countOverlapsInBins,GRanges: no visible global function definition for
'IRanges'
featuresLength,TxDb: no visible global function definition for 'reduce'
getPromoterClass,TxDb: no visible binding for global variable 'txdb'
getPromoterClass,TxDb: no visible global function definition for
'start<-'
makeGtfFromDb,TxDb: no visible global function definition for 'reduce'
matchEnhancers,GRanges: no visible global function definition for
'distanceToNearest'
matchEnhancers,GRanges: no visible global function definition for
'IRanges'
Undefined global functions or variables:
IRanges P_val Significant aes coord_flip distanceToNearest end<-
geom_bar ggplot reduce seqlengths seqlengths<- start<- trim txdb ylab
* checking Rd files ... NOTE
checkRd: (-1) getPromoterClass-methods.Rd:21: Lost braces in \itemize; meant \describe ?
checkRd: (-1) getPromoterClass-methods.Rd:22: Lost braces in \itemize; meant \describe ?
checkRd: (-1) getPromoterClass-methods.Rd:23: Lost braces in \itemize; meant \describe ?
checkRd: (-1) getPromoterClass-methods.Rd:24: Lost braces in \itemize; meant \describe ?
checkRd: (-1) getPromoterClass-methods.Rd:25: Lost braces; missing escapes or markup?
25 | \item{downstream}:{numeric; number of bp downstream transcription start sites defining downstream limit of promoters}
| ^
* checking Rd metadata ... OK
* checking Rd cross-references ... OK
* checking for missing documentation entries ... OK
* checking for code/documentation mismatches ... OK
* checking Rd \usage sections ... OK
* checking Rd contents ... OK
* checking for unstated dependencies in examples ... OK
* checking files in ‘vignettes’ ... OK
* checking examples ... OK
Examples with CPU (user + system) or elapsed time > 5s
user system elapsed
topGOres 20.203 0.424 21.987
getPromoterClass-methods 0.586 0.016 17.293
* checking for unstated dependencies in vignettes ... OK
* checking package vignettes ... OK
* checking re-building of vignette outputs ... OK
* checking PDF version of manual ... OK
* DONE
Status: 2 NOTEs
See
‘/media/volume/teran2_disk/biocbuild/bbs-3.20-bioc/meat/compEpiTools.Rcheck/00check.log’
for details.
compEpiTools.Rcheck/00install.out
############################################################################## ############################################################################## ### ### Running command: ### ### /home/biocbuild/bbs-3.20-bioc/R/bin/R CMD INSTALL compEpiTools ### ############################################################################## ############################################################################## * installing to library ‘/media/volume/teran2_disk/biocbuild/bbs-3.20-bioc/R/site-library’ * installing *source* package ‘compEpiTools’ ... ** using staged installation ** R ** inst ** byte-compile and prepare package for lazy loading groupGOTerms: GOBPTerm, GOMFTerm, GOCCTerm environments built. ** help *** installing help indices ** building package indices ** installing vignettes ** testing if installed package can be loaded from temporary location groupGOTerms: GOBPTerm, GOMFTerm, GOCCTerm environments built. ** testing if installed package can be loaded from final location groupGOTerms: GOBPTerm, GOMFTerm, GOCCTerm environments built. ** testing if installed package keeps a record of temporary installation path * DONE (compEpiTools)
compEpiTools.Rcheck/compEpiTools-Ex.timings
| name | user | system | elapsed | |
| GR2fasta-methods | 1.235 | 0.107 | 1.346 | |
| GRanges2ucsc-methods | 0.006 | 0.000 | 0.006 | |
| GRangesInPromoters-methods | 2.476 | 0.017 | 2.508 | |
| GRannotate-methods | 2.782 | 0.033 | 2.976 | |
| GRannotateSimple | 0.418 | 0.011 | 0.431 | |
| GRbaseCoverage-methods | 0.046 | 0.001 | 0.047 | |
| GRcoverage-methods | 0.082 | 0.000 | 0.082 | |
| GRcoverageSummit-methods | 0.040 | 0.000 | 0.041 | |
| GRenrichment-methods | 0.049 | 0.000 | 0.048 | |
| GRmidpoint-methods | 0.018 | 0.000 | 0.018 | |
| GRsetwidth | 0.025 | 0.000 | 0.026 | |
| TSS | 0.860 | 0.001 | 0.954 | |
| countOverlapsInBins-methods | 0.08 | 0.00 | 0.08 | |
| distanceFromTSS-methods | 1.193 | 0.002 | 1.197 | |
| enhancers | 1.529 | 0.000 | 1.531 | |
| findLncRNA | 1.195 | 0.000 | 1.278 | |
| getPromoterClass-methods | 0.586 | 0.016 | 17.293 | |
| heatmapData | 0.730 | 0.119 | 0.858 | |
| heatmapPlot | 1.645 | 0.103 | 1.786 | |
| makeGtfFromDb | 1.768 | 0.083 | 1.859 | |
| matchEnhancers | 1.197 | 0.133 | 1.331 | |
| overlapOfGRanges-methods | 0.075 | 0.000 | 0.075 | |
| palette2d | 0.033 | 0.000 | 0.034 | |
| plotStallingIndex | 1.558 | 0.004 | 1.577 | |
| simplifyGOterms | 0.329 | 0.053 | 1.412 | |
| stallingIndex | 1.527 | 0.014 | 1.790 | |
| topGOres | 20.203 | 0.424 | 21.987 | |
| ucsc2GRanges | 0.009 | 0.000 | 0.009 | |
| unionMaxScore-methods | 0.081 | 0.000 | 0.081 | |