Back to Multiple platform build/check report for BioC 3.20: simplified long |
|
This page was generated on 2025-02-06 12:06 -0500 (Thu, 06 Feb 2025).
Hostname | OS | Arch (*) | R version | Installed pkgs |
---|---|---|---|---|
nebbiolo2 | Linux (Ubuntu 24.04.1 LTS) | x86_64 | 4.4.2 (2024-10-31) -- "Pile of Leaves" | 4753 |
palomino8 | Windows Server 2022 Datacenter | x64 | 4.4.2 (2024-10-31 ucrt) -- "Pile of Leaves" | 4501 |
merida1 | macOS 12.7.5 Monterey | x86_64 | 4.4.2 (2024-10-31) -- "Pile of Leaves" | 4524 |
kjohnson1 | macOS 13.6.6 Ventura | arm64 | 4.4.2 (2024-10-31) -- "Pile of Leaves" | 4476 |
taishan | Linux (openEuler 24.03 LTS) | aarch64 | 4.4.2 (2024-10-31) -- "Pile of Leaves" | 4407 |
Click on any hostname to see more info about the system (e.g. compilers) (*) as reported by 'uname -p', except on Windows and Mac OS X |
Package 417/2289 | Hostname | OS / Arch | INSTALL | BUILD | CHECK | BUILD BIN | ||||||||
compEpiTools 1.40.0 (landing page) Mattia Furlan
| nebbiolo2 | Linux (Ubuntu 24.04.1 LTS) / x86_64 | OK | OK | OK | ![]() | ||||||||
palomino8 | Windows Server 2022 Datacenter / x64 | OK | OK | OK | OK | ![]() | ||||||||
merida1 | macOS 12.7.5 Monterey / x86_64 | OK | OK | OK | OK | ![]() | ||||||||
kjohnson1 | macOS 13.6.6 Ventura / arm64 | OK | OK | OK | OK | ![]() | ||||||||
taishan | Linux (openEuler 24.03 LTS) / aarch64 | OK | OK | OK | ||||||||||
To the developers/maintainers of the compEpiTools package: - Allow up to 24 hours (and sometimes 48 hours) for your latest push to git@git.bioconductor.org:packages/compEpiTools.git to reflect on this report. See Troubleshooting Build Report for more information. - Use the following Renviron settings to reproduce errors and warnings. - If 'R CMD check' started to fail recently on the Linux builder(s) over a missing dependency, add the missing dependency to 'Suggests:' in your DESCRIPTION file. See Renviron.bioc for more information. |
Package: compEpiTools |
Version: 1.40.0 |
Command: F:\biocbuild\bbs-3.20-bioc\R\bin\R.exe CMD check --no-multiarch --install=check:compEpiTools.install-out.txt --library=F:\biocbuild\bbs-3.20-bioc\R\library --no-vignettes --timings compEpiTools_1.40.0.tar.gz |
StartedAt: 2025-02-04 00:33:07 -0500 (Tue, 04 Feb 2025) |
EndedAt: 2025-02-04 00:41:47 -0500 (Tue, 04 Feb 2025) |
EllapsedTime: 519.2 seconds |
RetCode: 0 |
Status: OK |
CheckDir: compEpiTools.Rcheck |
Warnings: 0 |
############################################################################## ############################################################################## ### ### Running command: ### ### F:\biocbuild\bbs-3.20-bioc\R\bin\R.exe CMD check --no-multiarch --install=check:compEpiTools.install-out.txt --library=F:\biocbuild\bbs-3.20-bioc\R\library --no-vignettes --timings compEpiTools_1.40.0.tar.gz ### ############################################################################## ############################################################################## * using log directory 'F:/biocbuild/bbs-3.20-bioc/meat/compEpiTools.Rcheck' * using R version 4.4.2 (2024-10-31 ucrt) * using platform: x86_64-w64-mingw32 * R was compiled by gcc.exe (GCC) 13.3.0 GNU Fortran (GCC) 13.3.0 * running under: Windows Server 2022 x64 (build 20348) * using session charset: UTF-8 * using option '--no-vignettes' * checking for file 'compEpiTools/DESCRIPTION' ... OK * checking extension type ... Package * this is package 'compEpiTools' version '1.40.0' * checking package namespace information ... OK * checking package dependencies ... OK * checking if this is a source package ... OK * checking if there is a namespace ... OK * checking for hidden files and directories ... OK * checking for portable file names ... OK * checking whether package 'compEpiTools' can be installed ... OK * checking installed package size ... OK * checking package directory ... OK * checking 'build' directory ... OK * checking DESCRIPTION meta-information ... OK * checking top-level files ... OK * checking for left-over files ... OK * checking index information ... OK * checking package subdirectories ... OK * checking code files for non-ASCII characters ... OK * checking R files for syntax errors ... OK * checking whether the package can be loaded ... OK * checking whether the package can be loaded with stated dependencies ... OK * checking whether the package can be unloaded cleanly ... OK * checking whether the namespace can be loaded with stated dependencies ... OK * checking whether the namespace can be unloaded cleanly ... OK * checking dependencies in R code ... OK * checking S3 generic/method consistency ... OK * checking replacement functions ... OK * checking foreign function calls ... OK * checking R code for possible problems ... NOTE TSS: no visible global function definition for 'end<-' TSS: no visible global function definition for 'start<-' findLncRNA: no visible global function definition for 'start<-' findLncRNA: no visible global function definition for 'end<-' findLncRNA: no visible global function definition for 'IRanges' stallingIndex : getBound: no visible global function definition for 'start<-' stallingIndex : getBound: no visible global function definition for 'end<-' stallingIndex: no visible global function definition for 'IRanges' topGOres : <anonymous>: no visible global function definition for 'ggplot' topGOres : <anonymous>: no visible global function definition for 'aes' topGOres : <anonymous>: no visible binding for global variable 'Significant' topGOres : <anonymous>: no visible binding for global variable 'P_val' topGOres : <anonymous>: no visible global function definition for 'geom_bar' topGOres : <anonymous>: no visible global function definition for 'coord_flip' topGOres : <anonymous>: no visible global function definition for 'ylab' ucsc2GRanges: no visible global function definition for 'IRanges' GR2fasta,GRanges: no visible global function definition for 'seqlengths' GR2fasta,GRanges: no visible global function definition for 'seqlengths<-' GR2fasta,GRanges: no visible global function definition for 'trim' GRangesInPromoters,GRanges: no visible global function definition for 'start<-' GRannotate,GRanges: no visible global function definition for 'start<-' GRannotate,GRanges: no visible global function definition for 'end<-' GRcoverageSummit,GRanges: no visible global function definition for 'start<-' GRcoverageSummit,GRanges: no visible global function definition for 'end<-' GRmidpoint,GRanges: no visible global function definition for 'start<-' GRmidpoint,GRanges: no visible global function definition for 'end<-' GRsetwidth,GRanges: no visible global function definition for 'start<-' GRsetwidth,GRanges: no visible global function definition for 'end<-' countOverlapsInBins,GRanges: no visible global function definition for 'IRanges' featuresLength,TxDb: no visible global function definition for 'reduce' getPromoterClass,TxDb: no visible binding for global variable 'txdb' getPromoterClass,TxDb: no visible global function definition for 'start<-' makeGtfFromDb,TxDb: no visible global function definition for 'reduce' matchEnhancers,GRanges: no visible global function definition for 'distanceToNearest' matchEnhancers,GRanges: no visible global function definition for 'IRanges' Undefined global functions or variables: IRanges P_val Significant aes coord_flip distanceToNearest end<- geom_bar ggplot reduce seqlengths seqlengths<- start<- trim txdb ylab * checking Rd files ... NOTE checkRd: (-1) getPromoterClass-methods.Rd:21: Lost braces in \itemize; meant \describe ? checkRd: (-1) getPromoterClass-methods.Rd:22: Lost braces in \itemize; meant \describe ? checkRd: (-1) getPromoterClass-methods.Rd:23: Lost braces in \itemize; meant \describe ? checkRd: (-1) getPromoterClass-methods.Rd:24: Lost braces in \itemize; meant \describe ? checkRd: (-1) getPromoterClass-methods.Rd:25: Lost braces; missing escapes or markup? 25 | \item{downstream}:{numeric; number of bp downstream transcription start sites defining downstream limit of promoters} | ^ * checking Rd metadata ... OK * checking Rd cross-references ... OK * checking for missing documentation entries ... OK * checking for code/documentation mismatches ... OK * checking Rd \usage sections ... OK * checking Rd contents ... OK * checking for unstated dependencies in examples ... OK * checking sizes of PDF files under 'inst/doc' ... OK * checking files in 'vignettes' ... OK * checking examples ... OK Examples with CPU (user + system) or elapsed time > 5s user system elapsed topGOres 31.48 0.84 32.27 makeGtfFromDb 4.78 0.22 5.36 getPromoterClass-methods 0.86 0.11 24.05 * checking for unstated dependencies in vignettes ... OK * checking package vignettes ... OK * checking running R code from vignettes ... SKIPPED * checking re-building of vignette outputs ... SKIPPED * checking PDF version of manual ... OK * DONE Status: 2 NOTEs See 'F:/biocbuild/bbs-3.20-bioc/meat/compEpiTools.Rcheck/00check.log' for details.
compEpiTools.Rcheck/00install.out
############################################################################## ############################################################################## ### ### Running command: ### ### F:\biocbuild\bbs-3.20-bioc\R\bin\R.exe CMD INSTALL compEpiTools ### ############################################################################## ############################################################################## * installing to library 'F:/biocbuild/bbs-3.20-bioc/R/library' * installing *source* package 'compEpiTools' ... ** using staged installation ** R ** inst ** byte-compile and prepare package for lazy loading groupGOTerms: GOBPTerm, GOMFTerm, GOCCTerm environments built. ** help *** installing help indices ** building package indices ** installing vignettes ** testing if installed package can be loaded from temporary location groupGOTerms: GOBPTerm, GOMFTerm, GOCCTerm environments built. ** testing if installed package can be loaded from final location groupGOTerms: GOBPTerm, GOMFTerm, GOCCTerm environments built. ** testing if installed package keeps a record of temporary installation path * DONE (compEpiTools)
compEpiTools.Rcheck/compEpiTools-Ex.timings
name | user | system | elapsed | |
GR2fasta-methods | 0.50 | 0.02 | 0.58 | |
GRanges2ucsc-methods | 0.02 | 0.00 | 0.01 | |
GRangesInPromoters-methods | 3.66 | 0.09 | 3.75 | |
GRannotate-methods | 4.56 | 0.13 | 4.77 | |
GRannotateSimple | 0.66 | 0.00 | 0.65 | |
GRbaseCoverage-methods | 0.17 | 0.00 | 0.21 | |
GRcoverage-methods | 0.15 | 0.00 | 0.15 | |
GRcoverageSummit-methods | 0.07 | 0.01 | 0.08 | |
GRenrichment-methods | 0.11 | 0.00 | 0.11 | |
GRmidpoint-methods | 0.04 | 0.00 | 0.05 | |
GRsetwidth | 0.05 | 0.00 | 0.04 | |
TSS | 1.55 | 0.03 | 1.58 | |
countOverlapsInBins-methods | 0.18 | 0.00 | 0.19 | |
distanceFromTSS-methods | 2.69 | 0.05 | 2.73 | |
enhancers | 0.50 | 0.02 | 0.52 | |
findLncRNA | 2.09 | 0.06 | 2.26 | |
getPromoterClass-methods | 0.86 | 0.11 | 24.05 | |
heatmapData | 1.41 | 0.03 | 1.44 | |
heatmapPlot | 3.01 | 0.17 | 3.32 | |
makeGtfFromDb | 4.78 | 0.22 | 5.36 | |
matchEnhancers | 1.64 | 0.08 | 1.72 | |
overlapOfGRanges-methods | 0.08 | 0.00 | 0.08 | |
palette2d | 0.06 | 0.00 | 0.06 | |
plotStallingIndex | 2.27 | 0.09 | 2.40 | |
simplifyGOterms | 0.48 | 0.14 | 1.15 | |
stallingIndex | 2.33 | 0.08 | 2.40 | |
topGOres | 31.48 | 0.84 | 32.27 | |
ucsc2GRanges | 0.02 | 0.00 | 0.01 | |
unionMaxScore-methods | 0.11 | 0.00 | 0.11 | |