Back to Multiple platform build/check report for BioC 3.20:   simplified   long
AB[C]DEFGHIJKLMNOPQRSTUVWXYZ

This page was generated on 2025-02-06 12:08 -0500 (Thu, 06 Feb 2025).

HostnameOSArch (*)R versionInstalled pkgs
nebbiolo2Linux (Ubuntu 24.04.1 LTS)x86_644.4.2 (2024-10-31) -- "Pile of Leaves" 4753
palomino8Windows Server 2022 Datacenterx644.4.2 (2024-10-31 ucrt) -- "Pile of Leaves" 4501
merida1macOS 12.7.5 Montereyx86_644.4.2 (2024-10-31) -- "Pile of Leaves" 4524
kjohnson1macOS 13.6.6 Venturaarm644.4.2 (2024-10-31) -- "Pile of Leaves" 4476
taishanLinux (openEuler 24.03 LTS)aarch644.4.2 (2024-10-31) -- "Pile of Leaves" 4407
Click on any hostname to see more info about the system (e.g. compilers)      (*) as reported by 'uname -p', except on Windows and Mac OS X

Package 417/2289HostnameOS / ArchINSTALLBUILDCHECKBUILD BIN
compEpiTools 1.40.0  (landing page)
Mattia Furlan
Snapshot Date: 2025-02-03 13:00 -0500 (Mon, 03 Feb 2025)
git_url: https://git.bioconductor.org/packages/compEpiTools
git_branch: RELEASE_3_20
git_last_commit: daa640e
git_last_commit_date: 2024-10-29 09:54:03 -0500 (Tue, 29 Oct 2024)
nebbiolo2Linux (Ubuntu 24.04.1 LTS) / x86_64  OK    OK    OK  UNNEEDED, same version is already published
palomino8Windows Server 2022 Datacenter / x64  OK    OK    OK    OK  UNNEEDED, same version is already published
merida1macOS 12.7.5 Monterey / x86_64  OK    OK    OK    OK  UNNEEDED, same version is already published
kjohnson1macOS 13.6.6 Ventura / arm64  OK    OK    OK    OK  UNNEEDED, same version is already published
taishanLinux (openEuler 24.03 LTS) / aarch64  OK    OK    OK  


CHECK results for compEpiTools on merida1

To the developers/maintainers of the compEpiTools package:
- Allow up to 24 hours (and sometimes 48 hours) for your latest push to git@git.bioconductor.org:packages/compEpiTools.git to reflect on this report. See Troubleshooting Build Report for more information.
- Use the following Renviron settings to reproduce errors and warnings.
- If 'R CMD check' started to fail recently on the Linux builder(s) over a missing dependency, add the missing dependency to 'Suggests:' in your DESCRIPTION file. See Renviron.bioc for more information.

raw results


Summary

Package: compEpiTools
Version: 1.40.0
Command: /Library/Frameworks/R.framework/Resources/bin/R CMD check --install=check:compEpiTools.install-out.txt --library=/Library/Frameworks/R.framework/Resources/library --no-vignettes --timings compEpiTools_1.40.0.tar.gz
StartedAt: 2025-02-04 01:39:13 -0500 (Tue, 04 Feb 2025)
EndedAt: 2025-02-04 01:55:28 -0500 (Tue, 04 Feb 2025)
EllapsedTime: 975.1 seconds
RetCode: 0
Status:   OK  
CheckDir: compEpiTools.Rcheck
Warnings: 0

Command output

##############################################################################
##############################################################################
###
### Running command:
###
###   /Library/Frameworks/R.framework/Resources/bin/R CMD check --install=check:compEpiTools.install-out.txt --library=/Library/Frameworks/R.framework/Resources/library --no-vignettes --timings compEpiTools_1.40.0.tar.gz
###
##############################################################################
##############################################################################


* using log directory ‘/Users/biocbuild/bbs-3.20-bioc/meat/compEpiTools.Rcheck’
* using R version 4.4.2 (2024-10-31)
* using platform: x86_64-apple-darwin20
* R was compiled by
    Apple clang version 14.0.0 (clang-1400.0.29.202)
    GNU Fortran (GCC) 12.2.0
* running under: macOS Monterey 12.7.6
* using session charset: UTF-8
* using option ‘--no-vignettes’
* checking for file ‘compEpiTools/DESCRIPTION’ ... OK
* checking extension type ... Package
* this is package ‘compEpiTools’ version ‘1.40.0’
* checking package namespace information ... OK
* checking package dependencies ... OK
* checking if this is a source package ... OK
* checking if there is a namespace ... OK
* checking for hidden files and directories ... OK
* checking for portable file names ... OK
* checking for sufficient/correct file permissions ... OK
* checking whether package ‘compEpiTools’ can be installed ... OK
* checking installed package size ... OK
* checking package directory ... OK
* checking ‘build’ directory ... OK
* checking DESCRIPTION meta-information ... OK
* checking top-level files ... OK
* checking for left-over files ... OK
* checking index information ... OK
* checking package subdirectories ... OK
* checking code files for non-ASCII characters ... OK
* checking R files for syntax errors ... OK
* checking whether the package can be loaded ... OK
* checking whether the package can be loaded with stated dependencies ... OK
* checking whether the package can be unloaded cleanly ... OK
* checking whether the namespace can be loaded with stated dependencies ... OK
* checking whether the namespace can be unloaded cleanly ... OK
* checking dependencies in R code ... OK
* checking S3 generic/method consistency ... OK
* checking replacement functions ... OK
* checking foreign function calls ... OK
* checking R code for possible problems ... NOTE
TSS: no visible global function definition for 'end<-'
TSS: no visible global function definition for 'start<-'
findLncRNA: no visible global function definition for 'start<-'
findLncRNA: no visible global function definition for 'end<-'
findLncRNA: no visible global function definition for 'IRanges'
stallingIndex : getBound: no visible global function definition for
  'start<-'
stallingIndex : getBound: no visible global function definition for
  'end<-'
stallingIndex: no visible global function definition for 'IRanges'
topGOres : <anonymous>: no visible global function definition for
  'ggplot'
topGOres : <anonymous>: no visible global function definition for 'aes'
topGOres : <anonymous>: no visible binding for global variable
  'Significant'
topGOres : <anonymous>: no visible binding for global variable 'P_val'
topGOres : <anonymous>: no visible global function definition for
  'geom_bar'
topGOres : <anonymous>: no visible global function definition for
  'coord_flip'
topGOres : <anonymous>: no visible global function definition for
  'ylab'
ucsc2GRanges: no visible global function definition for 'IRanges'
GR2fasta,GRanges: no visible global function definition for
  'seqlengths'
GR2fasta,GRanges: no visible global function definition for
  'seqlengths<-'
GR2fasta,GRanges: no visible global function definition for 'trim'
GRangesInPromoters,GRanges: no visible global function definition for
  'start<-'
GRannotate,GRanges: no visible global function definition for 'start<-'
GRannotate,GRanges: no visible global function definition for 'end<-'
GRcoverageSummit,GRanges: no visible global function definition for
  'start<-'
GRcoverageSummit,GRanges: no visible global function definition for
  'end<-'
GRmidpoint,GRanges: no visible global function definition for 'start<-'
GRmidpoint,GRanges: no visible global function definition for 'end<-'
GRsetwidth,GRanges: no visible global function definition for 'start<-'
GRsetwidth,GRanges: no visible global function definition for 'end<-'
countOverlapsInBins,GRanges: no visible global function definition for
  'IRanges'
featuresLength,TxDb: no visible global function definition for 'reduce'
getPromoterClass,TxDb: no visible binding for global variable 'txdb'
getPromoterClass,TxDb: no visible global function definition for
  'start<-'
makeGtfFromDb,TxDb: no visible global function definition for 'reduce'
matchEnhancers,GRanges: no visible global function definition for
  'distanceToNearest'
matchEnhancers,GRanges: no visible global function definition for
  'IRanges'
Undefined global functions or variables:
  IRanges P_val Significant aes coord_flip distanceToNearest end<-
  geom_bar ggplot reduce seqlengths seqlengths<- start<- trim txdb ylab
* checking Rd files ... NOTE
checkRd: (-1) getPromoterClass-methods.Rd:21: Lost braces in \itemize; meant \describe ?
checkRd: (-1) getPromoterClass-methods.Rd:22: Lost braces in \itemize; meant \describe ?
checkRd: (-1) getPromoterClass-methods.Rd:23: Lost braces in \itemize; meant \describe ?
checkRd: (-1) getPromoterClass-methods.Rd:24: Lost braces in \itemize; meant \describe ?
checkRd: (-1) getPromoterClass-methods.Rd:25: Lost braces; missing escapes or markup?
    25 |       \item{downstream}:{numeric; number of bp downstream transcription start sites defining downstream limit of promoters}
       |                         ^
* checking Rd metadata ... OK
* checking Rd cross-references ... OK
* checking for missing documentation entries ... OK
* checking for code/documentation mismatches ... OK
* checking Rd \usage sections ... OK
* checking Rd contents ... OK
* checking for unstated dependencies in examples ... OK
* checking sizes of PDF files under ‘inst/doc’ ... OK
* checking files in ‘vignettes’ ... OK
* checking examples ... OK
Examples with CPU (user + system) or elapsed time > 5s
                             user system elapsed
topGOres                   55.264  1.860  60.737
GRannotate-methods          8.224  0.281   9.344
makeGtfFromDb               6.161  0.527   7.792
heatmapPlot                 6.247  0.365   7.326
GRangesInPromoters-methods  5.428  0.165   6.144
plotStallingIndex           5.126  0.080   5.600
stallingIndex               5.057  0.079   5.612
getPromoterClass-methods    1.565  0.059  43.505
* checking for unstated dependencies in vignettes ... OK
* checking package vignettes ... OK
* checking running R code from vignettes ... SKIPPED
* checking re-building of vignette outputs ... SKIPPED
* checking PDF version of manual ... OK
* DONE

Status: 2 NOTEs
See
  ‘/Users/biocbuild/bbs-3.20-bioc/meat/compEpiTools.Rcheck/00check.log’
for details.


Installation output

compEpiTools.Rcheck/00install.out

##############################################################################
##############################################################################
###
### Running command:
###
###   /Library/Frameworks/R.framework/Resources/bin/R CMD INSTALL compEpiTools
###
##############################################################################
##############################################################################


* installing to library ‘/Library/Frameworks/R.framework/Versions/4.4-x86_64/Resources/library’
* installing *source* package ‘compEpiTools’ ...
** using staged installation
** R
** inst
** byte-compile and prepare package for lazy loading

groupGOTerms: 	GOBPTerm, GOMFTerm, GOCCTerm environments built.
** help
*** installing help indices
** building package indices
** installing vignettes
** testing if installed package can be loaded from temporary location

groupGOTerms: 	GOBPTerm, GOMFTerm, GOCCTerm environments built.
** testing if installed package can be loaded from final location

groupGOTerms: 	GOBPTerm, GOMFTerm, GOCCTerm environments built.
** testing if installed package keeps a record of temporary installation path
* DONE (compEpiTools)

Tests output


Example timings

compEpiTools.Rcheck/compEpiTools-Ex.timings

nameusersystemelapsed
GR2fasta-methods1.1550.0451.311
GRanges2ucsc-methods0.0220.0010.025
GRangesInPromoters-methods5.4280.1656.144
GRannotate-methods8.2240.2819.344
GRannotateSimple1.1770.0181.296
GRbaseCoverage-methods0.1440.0040.160
GRcoverage-methods0.2790.0070.310
GRcoverageSummit-methods0.1420.0030.155
GRenrichment-methods0.1650.0080.186
GRmidpoint-methods0.0720.0100.084
GRsetwidth0.1050.0140.128
TSS4.1520.0754.622
countOverlapsInBins-methods0.3000.0030.324
distanceFromTSS-methods4.1620.1144.457
enhancers0.7940.0650.896
findLncRNA1.4220.0351.591
getPromoterClass-methods 1.565 0.05943.505
heatmapData2.4600.0662.700
heatmapPlot6.2470.3657.326
makeGtfFromDb6.1610.5277.792
matchEnhancers3.7710.0904.204
overlapOfGRanges-methods0.1320.0020.142
palette2d0.1040.0050.121
plotStallingIndex5.1260.0805.600
simplifyGOterms0.9180.3312.501
stallingIndex5.0570.0795.612
topGOres55.264 1.86060.737
ucsc2GRanges0.0300.0010.036
unionMaxScore-methods0.2900.0050.335