Back to Multiple platform build/check report for BioC 3.20: simplified long |
|
This page was generated on 2025-01-30 12:11 -0500 (Thu, 30 Jan 2025).
Hostname | OS | Arch (*) | R version | Installed pkgs |
---|---|---|---|---|
nebbiolo2 | Linux (Ubuntu 24.04.1 LTS) | x86_64 | 4.4.2 (2024-10-31) -- "Pile of Leaves" | 4746 |
palomino8 | Windows Server 2022 Datacenter | x64 | 4.4.2 (2024-10-31 ucrt) -- "Pile of Leaves" | 4494 |
merida1 | macOS 12.7.5 Monterey | x86_64 | 4.4.2 (2024-10-31) -- "Pile of Leaves" | 4517 |
kjohnson1 | macOS 13.6.6 Ventura | arm64 | 4.4.2 (2024-10-31) -- "Pile of Leaves" | 4469 |
taishan | Linux (openEuler 24.03 LTS) | aarch64 | 4.4.2 (2024-10-31) -- "Pile of Leaves" | 4400 |
Click on any hostname to see more info about the system (e.g. compilers) (*) as reported by 'uname -p', except on Windows and Mac OS X |
Package 117/2289 | Hostname | OS / Arch | INSTALL | BUILD | CHECK | BUILD BIN | ||||||||
autonomics 1.14.8 (landing page) Aditya Bhagwat
| nebbiolo2 | Linux (Ubuntu 24.04.1 LTS) / x86_64 | OK | OK | OK | |||||||||
palomino8 | Windows Server 2022 Datacenter / x64 | OK | OK | OK | OK | |||||||||
merida1 | macOS 12.7.5 Monterey / x86_64 | OK | OK | OK | OK | |||||||||
kjohnson1 | macOS 13.6.6 Ventura / arm64 | OK | OK | OK | OK | |||||||||
taishan | Linux (openEuler 24.03 LTS) / aarch64 | OK | OK | OK | ||||||||||
To the developers/maintainers of the autonomics package: - Allow up to 24 hours (and sometimes 48 hours) for your latest push to git@git.bioconductor.org:packages/autonomics.git to reflect on this report. See Troubleshooting Build Report for more information. - Use the following Renviron settings to reproduce errors and warnings. - If 'R CMD check' started to fail recently on the Linux builder(s) over a missing dependency, add the missing dependency to 'Suggests:' in your DESCRIPTION file. See Renviron.bioc for more information. - See Martin Grigorov's blog post for how to debug Linux ARM64 related issues on a x86_64 host. |
Package: autonomics |
Version: 1.14.8 |
Command: /home/biocbuild/R/R/bin/R CMD check --install=check:autonomics.install-out.txt --library=/home/biocbuild/R/R/site-library --no-vignettes --timings autonomics_1.14.8.tar.gz |
StartedAt: 2025-01-28 04:42:40 -0000 (Tue, 28 Jan 2025) |
EndedAt: 2025-01-28 04:59:12 -0000 (Tue, 28 Jan 2025) |
EllapsedTime: 992.3 seconds |
RetCode: 0 |
Status: OK |
CheckDir: autonomics.Rcheck |
Warnings: 0 |
############################################################################## ############################################################################## ### ### Running command: ### ### /home/biocbuild/R/R/bin/R CMD check --install=check:autonomics.install-out.txt --library=/home/biocbuild/R/R/site-library --no-vignettes --timings autonomics_1.14.8.tar.gz ### ############################################################################## ############################################################################## * using log directory ‘/home/biocbuild/bbs-3.20-bioc/meat/autonomics.Rcheck’ * using R version 4.4.2 (2024-10-31) * using platform: aarch64-unknown-linux-gnu * R was compiled by aarch64-unknown-linux-gnu-gcc (GCC) 14.2.0 GNU Fortran (GCC) 12.3.1 (openEuler 12.3.1-36.oe2403) * running under: openEuler 24.03 (LTS) * using session charset: UTF-8 * using option ‘--no-vignettes’ * checking for file ‘autonomics/DESCRIPTION’ ... OK * checking extension type ... Package * this is package ‘autonomics’ version ‘1.14.8’ * package encoding: UTF-8 * checking package namespace information ... OK * checking package dependencies ... OK * checking if this is a source package ... OK * checking if there is a namespace ... OK * checking for hidden files and directories ... NOTE Found the following hidden files and directories: .BBSoptions These were most likely included in error. See section ‘Package structure’ in the ‘Writing R Extensions’ manual. * checking for portable file names ... OK * checking for sufficient/correct file permissions ... OK * checking whether package ‘autonomics’ can be installed ... OK * checking installed package size ... OK * checking package directory ... OK * checking ‘build’ directory ... OK * checking DESCRIPTION meta-information ... OK * checking top-level files ... OK * checking for left-over files ... OK * checking index information ... OK * checking package subdirectories ... OK * checking code files for non-ASCII characters ... OK * checking R files for syntax errors ... OK * checking whether the package can be loaded ... OK * checking whether the package can be loaded with stated dependencies ... OK * checking whether the package can be unloaded cleanly ... OK * checking whether the namespace can be loaded with stated dependencies ... OK * checking whether the namespace can be unloaded cleanly ... OK * checking loading without being on the library search path ... OK * checking dependencies in R code ... OK * checking S3 generic/method consistency ... OK * checking replacement functions ... OK * checking foreign function calls ... OK * checking R code for possible problems ... OK * checking Rd files ... OK * checking Rd metadata ... OK * checking Rd cross-references ... OK * checking for missing documentation entries ... OK * checking for code/documentation mismatches ... OK * checking Rd \usage sections ... OK * checking Rd contents ... OK * checking for unstated dependencies in examples ... OK * checking files in ‘vignettes’ ... OK * checking examples ... OK Examples with CPU (user + system) or elapsed time > 5s user system elapsed read_rnaseq_counts 38.381 1.453 41.909 plot_exprs_per_coef 36.450 0.316 36.856 plot_exprs 35.495 0.211 35.789 read_diann_proteingroups 33.452 0.431 33.913 default_formula 21.540 0.290 21.775 fit 19.062 0.288 19.386 plot_summary 19.173 0.028 19.257 read_somascan 18.808 0.338 19.223 analyze 18.461 0.203 18.726 read_metabolon 17.237 0.011 17.319 plot_volcano 15.090 0.136 15.268 plot_densities 12.976 0.208 13.215 ftype 9.880 0.132 10.042 read_fragpipe 9.120 0.044 9.187 plot_sample_nas 8.841 0.031 8.895 code 8.735 0.096 8.850 fcluster 8.132 0.040 8.186 extract_coef_features 7.454 0.020 7.494 rm_diann_contaminants 7.320 0.076 9.329 reset_fit 6.732 0.032 6.781 biplot_covariates 6.686 0.067 6.783 plot_subgroup_points 6.703 0.028 6.745 fit_lmx 6.396 0.019 6.431 subtract_baseline 6.097 0.131 6.241 plot_violins 5.582 0.036 5.629 modelvar 5.191 0.020 5.220 log2transform 4.984 0.090 5.272 dot-plot_survival 4.961 0.071 5.046 annotate_uniprot_rest 0.195 0.016 5.108 * checking for unstated dependencies in ‘tests’ ... OK * checking tests ... Running ‘testthat.R’ OK * checking for unstated dependencies in vignettes ... OK * checking package vignettes ... OK * checking running R code from vignettes ... SKIPPED * checking re-building of vignette outputs ... SKIPPED * checking PDF version of manual ... OK * DONE Status: 1 NOTE See ‘/home/biocbuild/bbs-3.20-bioc/meat/autonomics.Rcheck/00check.log’ for details.
autonomics.Rcheck/00install.out
############################################################################## ############################################################################## ### ### Running command: ### ### /home/biocbuild/R/R/bin/R CMD INSTALL autonomics ### ############################################################################## ############################################################################## * installing to library ‘/home/biocbuild/R/R-4.4.2/site-library’ * installing *source* package ‘autonomics’ ... ** using staged installation ** R ** inst ** byte-compile and prepare package for lazy loading ** help *** installing help indices ** building package indices ** installing vignettes ** testing if installed package can be loaded from temporary location ** testing if installed package can be loaded from final location ** testing if installed package keeps a record of temporary installation path * DONE (autonomics)
autonomics.Rcheck/tests/testthat.Rout
R version 4.4.2 (2024-10-31) -- "Pile of Leaves" Copyright (C) 2024 The R Foundation for Statistical Computing Platform: aarch64-unknown-linux-gnu R is free software and comes with ABSOLUTELY NO WARRANTY. You are welcome to redistribute it under certain conditions. Type 'license()' or 'licence()' for distribution details. R is a collaborative project with many contributors. Type 'contributors()' for more information and 'citation()' on how to cite R or R packages in publications. Type 'demo()' for some demos, 'help()' for on-line help, or 'help.start()' for an HTML browser interface to help. Type 'q()' to quit R. > library(testthat) > library(autonomics) Attaching package: 'autonomics' The following objects are masked from 'package:stats': biplot, loadings The following object is masked from 'package:base': beta > > test_check("autonomics") [ FAIL 0 | WARN 0 | SKIP 0 | PASS 158 ] > > proc.time() user system elapsed 176.672 3.048 179.676
autonomics.Rcheck/autonomics-Ex.timings
name | user | system | elapsed | |
AUTONOMICS_DATASETS | 0 | 0 | 0 | |
COMPOUNDDISCOVERER_PATTERNS | 0 | 0 | 0 | |
CONTAMINANTSURL | 0 | 0 | 0 | |
FITSEP | 0 | 0 | 0 | |
LINMOD_ENGINES | 0 | 0 | 0 | |
MAXQUANT_PATTERNS | 0 | 0 | 0 | |
TAXON_TO_ORGNAME | 0.001 | 0.000 | 0.000 | |
TESTS | 0 | 0 | 0 | |
X | 2.208 | 0.140 | 2.358 | |
abstract_fit | 1.901 | 0.155 | 2.059 | |
add_adjusted_pvalues | 0.723 | 0.016 | 0.745 | |
add_assay_means | 0.517 | 0.036 | 0.554 | |
add_facetvars | 2.783 | 0.274 | 3.124 | |
add_opentargets_by_uniprot | 0.546 | 0.039 | 0.602 | |
add_psp | 0.645 | 0.031 | 0.693 | |
add_smiles | 0.626 | 0.032 | 0.666 | |
analysis | 0.477 | 0.023 | 0.510 | |
analyze | 18.461 | 0.203 | 18.726 | |
annotate_maxquant | 1.121 | 0.012 | 1.138 | |
annotate_uniprot_rest | 0.195 | 0.016 | 5.108 | |
assert_is_valid_sumexp | 0.792 | 0.016 | 0.810 | |
bin | 1.132 | 0.075 | 1.210 | |
biplot | 4.514 | 0.028 | 4.549 | |
biplot_corrections | 4.077 | 0.012 | 4.096 | |
biplot_covariates | 6.686 | 0.067 | 6.783 | |
block2lme | 0.004 | 0.000 | 0.004 | |
center | 1.886 | 0.000 | 1.891 | |
code | 8.735 | 0.096 | 8.850 | |
coefs | 0.967 | 0.044 | 1.011 | |
collapsed_entrezg_to_symbol | 0.000 | 0.000 | 0.001 | |
contrast_subgroup_cols | 0.765 | 0.004 | 0.769 | |
count_in | 0.001 | 0.000 | 0.001 | |
counts | 1.258 | 0.100 | 1.362 | |
counts2cpm | 0.492 | 0.000 | 0.492 | |
counts2tpm | 0.484 | 0.000 | 0.485 | |
cpm | 0.485 | 0.000 | 0.487 | |
create_design | 0.898 | 0.012 | 0.909 | |
default_coefs | 0.917 | 0.016 | 0.933 | |
default_formula | 21.540 | 0.290 | 21.775 | |
default_geom | 0.756 | 0.008 | 0.766 | |
default_sfile | 0.002 | 0.000 | 0.002 | |
demultiplex | 0.020 | 0.000 | 0.021 | |
dequantify | 0.003 | 0.000 | 0.003 | |
dequantify_compounddiscoverer | 0.001 | 0.000 | 0.001 | |
dot-merge | 0.022 | 0.000 | 0.022 | |
dot-plot_survival | 4.961 | 0.071 | 5.046 | |
dot-read_maxquant_proteingroups | 0.131 | 0.000 | 0.131 | |
download_contaminants | 0.100 | 0.009 | 3.573 | |
download_data | 0.001 | 0.000 | 0.000 | |
download_gtf | 0 | 0 | 0 | |
download_mcclain21 | 0.000 | 0.000 | 0.001 | |
dt2mat | 0.004 | 0.000 | 0.005 | |
enrichment | 1.801 | 0.032 | 1.854 | |
entrezg_to_symbol | 0.000 | 0.000 | 0.001 | |
explore_transformations | 4.818 | 0.119 | 4.951 | |
extract_coef_features | 7.454 | 0.020 | 7.494 | |
extract_rectangle | 0.138 | 0.000 | 0.138 | |
fcluster | 8.132 | 0.040 | 8.186 | |
fcor | 1.349 | 0.020 | 1.372 | |
fdata | 0.782 | 0.012 | 0.796 | |
fdr2p | 1.317 | 0.020 | 1.337 | |
filter_exprs_replicated_in_some_subgroup | 1.425 | 0.012 | 1.440 | |
filter_features | 0.752 | 0.012 | 0.767 | |
filter_medoid | 1.100 | 0.008 | 1.113 | |
filter_samples | 0.750 | 0.004 | 0.755 | |
fit | 19.062 | 0.288 | 19.386 | |
fit_lmx | 6.396 | 0.019 | 6.431 | |
fitcoefs | 1.185 | 0.072 | 1.260 | |
fits | 1.058 | 0.048 | 1.109 | |
fitvars | 1.484 | 0.068 | 1.554 | |
fix_xlgenes | 0.002 | 0.000 | 0.002 | |
flevels | 0.584 | 0.000 | 0.585 | |
fnames | 0.654 | 0.000 | 0.662 | |
formula2str | 0 | 0 | 0 | |
ftype | 9.880 | 0.132 | 10.042 | |
fvalues | 0.650 | 0.011 | 0.663 | |
fvars | 0.558 | 0.000 | 0.559 | |
genome_to_orgdb | 0.000 | 0.000 | 0.001 | |
group_by_level | 0.001 | 0.000 | 0.002 | |
guess_compounddiscoverer_quantity | 0.000 | 0.000 | 0.001 | |
guess_fitsep | 0.643 | 0.018 | 0.663 | |
guess_maxquant_quantity | 0.007 | 0.000 | 0.007 | |
guess_sep | 0.682 | 0.016 | 0.698 | |
has_multiple_levels | 0.069 | 0.004 | 0.073 | |
hdlproteins | 0.043 | 0.016 | 0.072 | |
impute | 4.221 | 0.016 | 4.247 | |
invert_subgroups | 0.974 | 0.000 | 0.979 | |
is_collapsed_subset | 0 | 0 | 0 | |
is_correlation_matrix | 0.001 | 0.000 | 0.001 | |
is_diann_report | 0.281 | 0.035 | 0.305 | |
is_fastadt | 0.102 | 0.000 | 0.105 | |
is_file | 0 | 0 | 0 | |
is_fraction | 0.002 | 0.000 | 0.002 | |
is_imputed | 1.043 | 0.000 | 1.053 | |
is_positive_number | 0.002 | 0.000 | 0.002 | |
is_scalar_subset | 0.480 | 0.023 | 0.518 | |
is_sig | 2.315 | 0.051 | 2.416 | |
is_valid_formula | 0.056 | 0.004 | 0.061 | |
keep_connected_blocks | 0.691 | 0.035 | 0.748 | |
keep_connected_features | 0.927 | 0.043 | 1.007 | |
keep_replicated_features | 1.158 | 0.015 | 1.198 | |
label2index | 0.001 | 0.000 | 0.001 | |
list2mat | 0.001 | 0.000 | 0.000 | |
log2counts | 0.561 | 0.008 | 0.581 | |
log2cpm | 0.539 | 0.016 | 0.567 | |
log2diffs | 0.476 | 0.000 | 0.486 | |
log2proteins | 0.504 | 0.016 | 0.531 | |
log2sites | 0.458 | 0.015 | 0.487 | |
log2tpm | 0.553 | 0.004 | 0.576 | |
log2transform | 4.984 | 0.090 | 5.272 | |
logical2factor | 0.002 | 0.000 | 0.001 | |
make_alpha_palette | 0.739 | 0.028 | 0.792 | |
make_colors | 0.011 | 0.000 | 0.012 | |
make_volcano_dt | 1.203 | 0.019 | 1.273 | |
map_fvalues | 0.624 | 0.000 | 0.683 | |
matrix2sumexp | 1.359 | 0.012 | 1.375 | |
merge_sample_file | 0.633 | 0.016 | 0.651 | |
merge_sdata | 0.833 | 0.012 | 0.847 | |
message_df | 0.003 | 0.000 | 0.003 | |
modelvar | 5.191 | 0.020 | 5.220 | |
order_on_p | 1.320 | 0.004 | 1.326 | |
pca | 4.036 | 0.032 | 4.077 | |
pg_to_canonical | 0.008 | 0.000 | 0.008 | |
plot_contrast_venn | 3.296 | 0.008 | 3.311 | |
plot_contrastogram | 4.167 | 0.051 | 4.236 | |
plot_data | 1.817 | 0.024 | 1.869 | |
plot_densities | 12.976 | 0.208 | 13.215 | |
plot_design | 0.901 | 0.068 | 0.971 | |
plot_exprs | 35.495 | 0.211 | 35.789 | |
plot_exprs_per_coef | 36.450 | 0.316 | 36.856 | |
plot_fit_summary | 2.754 | 0.004 | 2.760 | |
plot_heatmap | 2.629 | 0.004 | 2.640 | |
plot_matrix | 0.711 | 0.012 | 0.725 | |
plot_sample_nas | 8.841 | 0.031 | 8.895 | |
plot_subgroup_points | 6.703 | 0.028 | 6.745 | |
plot_summary | 19.173 | 0.028 | 19.257 | |
plot_venn | 0.019 | 0.000 | 0.020 | |
plot_venn_heatmap | 0.032 | 0.000 | 0.031 | |
plot_violins | 5.582 | 0.036 | 5.629 | |
plot_volcano | 15.090 | 0.136 | 15.268 | |
preprocess_rnaseq_counts | 0.536 | 0.000 | 0.538 | |
pull_columns | 0.003 | 0.000 | 0.003 | |
read_affymetrix | 0 | 0 | 0 | |
read_contaminants | 0.063 | 0.000 | 1.992 | |
read_diann_proteingroups | 33.452 | 0.431 | 33.913 | |
read_fragpipe | 9.120 | 0.044 | 9.187 | |
read_maxquant_phosphosites | 2.016 | 0.016 | 2.040 | |
read_maxquant_proteingroups | 1.692 | 0.008 | 1.707 | |
read_metabolon | 17.237 | 0.011 | 17.319 | |
read_msigdt | 0.001 | 0.000 | 0.001 | |
read_olink | 1.455 | 0.028 | 1.487 | |
read_rectangles | 0.226 | 0.000 | 0.227 | |
read_rnaseq_counts | 38.381 | 1.453 | 41.909 | |
read_salmon | 0 | 0 | 0 | |
read_somascan | 18.808 | 0.338 | 19.223 | |
read_uniprotdt | 0.334 | 0.028 | 0.362 | |
reset_fit | 6.732 | 0.032 | 6.781 | |
rm_diann_contaminants | 7.320 | 0.076 | 9.329 | |
rm_missing_in_some_samples | 0.754 | 0.008 | 0.764 | |
rm_unmatched_samples | 0.762 | 0.000 | 0.764 | |
scaledlibsizes | 0.520 | 0.004 | 0.525 | |
scoremat | 1.428 | 0.012 | 1.441 | |
slevels | 0.538 | 0.036 | 0.575 | |
snames | 0.548 | 0.004 | 0.553 | |
split_extract_fixed | 0.687 | 0.004 | 0.692 | |
split_samples | 1.576 | 0.016 | 1.593 | |
stri_any_regex | 0.001 | 0.000 | 0.000 | |
stri_detect_fixed_in_collapsed | 0.462 | 0.008 | 0.471 | |
subgroup_matrix | 0.832 | 0.032 | 0.866 | |
subtract_baseline | 6.097 | 0.131 | 6.241 | |
sumexp_to_longdt | 2.527 | 0.028 | 2.561 | |
sumexp_to_tsv | 0.724 | 0.020 | 0.746 | |
sumexplist_to_longdt | 2.248 | 0.044 | 2.298 | |
summarize_fit | 2.385 | 0.024 | 2.410 | |
svalues | 0.552 | 0.000 | 0.554 | |
svars | 0.552 | 0.004 | 0.557 | |
systematic_nas | 0.847 | 0.000 | 0.849 | |
tag_features | 1.157 | 0.024 | 1.184 | |
tag_hdlproteins | 0.725 | 0.004 | 0.732 | |
taxon2org | 0.000 | 0.001 | 0.002 | |
tpm | 0.548 | 0.002 | 0.552 | |
uncollapse | 0.013 | 0.000 | 0.013 | |
values | 0.690 | 0.000 | 0.691 | |
varlevels_dont_clash | 0.030 | 0.000 | 0.029 | |
venn_detects | 0.769 | 0.008 | 0.779 | |
weights | 0.557 | 0.000 | 0.558 | |
write_xl | 1.038 | 0.016 | 1.053 | |
zero_to_na | 0.001 | 0.000 | 0.001 | |