| Back to Multiple platform build/check report for BioC 3.20: simplified long |
|
This page was generated on 2025-04-02 19:28 -0400 (Wed, 02 Apr 2025).
| Hostname | OS | Arch (*) | R version | Installed pkgs |
|---|---|---|---|---|
| nebbiolo2 | Linux (Ubuntu 24.04.1 LTS) | x86_64 | 4.4.3 (2025-02-28) -- "Trophy Case" | 4764 |
| palomino8 | Windows Server 2022 Datacenter | x64 | 4.4.3 (2025-02-28 ucrt) -- "Trophy Case" | 4495 |
| merida1 | macOS 12.7.5 Monterey | x86_64 | 4.4.3 (2025-02-28) -- "Trophy Case" | 4522 |
| kjohnson1 | macOS 13.6.6 Ventura | arm64 | 4.4.3 (2025-02-28) -- "Trophy Case" | 4449 |
| taishan | Linux (openEuler 24.03 LTS) | aarch64 | 4.4.3 (2025-02-28) -- "Trophy Case" | 4426 |
| Click on any hostname to see more info about the system (e.g. compilers) (*) as reported by 'uname -p', except on Windows and Mac OS X | ||||
| Package 117/2289 | Hostname | OS / Arch | INSTALL | BUILD | CHECK | BUILD BIN | ||||||||
| autonomics 1.14.9 (landing page) Aditya Bhagwat
| nebbiolo2 | Linux (Ubuntu 24.04.1 LTS) / x86_64 | OK | OK | OK | |||||||||
| palomino8 | Windows Server 2022 Datacenter / x64 | OK | OK | OK | OK | |||||||||
| merida1 | macOS 12.7.5 Monterey / x86_64 | OK | OK | OK | OK | |||||||||
| kjohnson1 | macOS 13.6.6 Ventura / arm64 | OK | OK | OK | OK | |||||||||
| taishan | Linux (openEuler 24.03 LTS) / aarch64 | OK | OK | OK | ||||||||||
|
To the developers/maintainers of the autonomics package: - Allow up to 24 hours (and sometimes 48 hours) for your latest push to git@git.bioconductor.org:packages/autonomics.git to reflect on this report. See Troubleshooting Build Report for more information. - Use the following Renviron settings to reproduce errors and warnings. - If 'R CMD check' started to fail recently on the Linux builder(s) over a missing dependency, add the missing dependency to 'Suggests:' in your DESCRIPTION file. See Renviron.bioc for more information. |
| Package: autonomics |
| Version: 1.14.9 |
| Command: /home/biocbuild/bbs-3.20-bioc/R/bin/R CMD check --install=check:autonomics.install-out.txt --library=/home/biocbuild/bbs-3.20-bioc/R/site-library --timings autonomics_1.14.9.tar.gz |
| StartedAt: 2025-03-31 19:56:52 -0400 (Mon, 31 Mar 2025) |
| EndedAt: 2025-03-31 20:11:42 -0400 (Mon, 31 Mar 2025) |
| EllapsedTime: 889.3 seconds |
| RetCode: 0 |
| Status: OK |
| CheckDir: autonomics.Rcheck |
| Warnings: 0 |
##############################################################################
##############################################################################
###
### Running command:
###
### /home/biocbuild/bbs-3.20-bioc/R/bin/R CMD check --install=check:autonomics.install-out.txt --library=/home/biocbuild/bbs-3.20-bioc/R/site-library --timings autonomics_1.14.9.tar.gz
###
##############################################################################
##############################################################################
* using log directory ‘/home/biocbuild/bbs-3.20-bioc/meat/autonomics.Rcheck’
* using R version 4.4.3 (2025-02-28)
* using platform: x86_64-pc-linux-gnu
* R was compiled by
gcc (Ubuntu 13.3.0-6ubuntu2~24.04) 13.3.0
GNU Fortran (Ubuntu 13.3.0-6ubuntu2~24.04) 13.3.0
* running under: Ubuntu 24.04.2 LTS
* using session charset: UTF-8
* checking for file ‘autonomics/DESCRIPTION’ ... OK
* checking extension type ... Package
* this is package ‘autonomics’ version ‘1.14.9’
* package encoding: UTF-8
* checking package namespace information ... OK
* checking package dependencies ... OK
* checking if this is a source package ... OK
* checking if there is a namespace ... OK
* checking for hidden files and directories ... NOTE
Found the following hidden files and directories:
.BBSoptions
These were most likely included in error. See section ‘Package
structure’ in the ‘Writing R Extensions’ manual.
* checking for portable file names ... OK
* checking for sufficient/correct file permissions ... OK
* checking whether package ‘autonomics’ can be installed ... OK
* checking installed package size ... OK
* checking package directory ... OK
* checking ‘build’ directory ... OK
* checking DESCRIPTION meta-information ... OK
* checking top-level files ... OK
* checking for left-over files ... OK
* checking index information ... OK
* checking package subdirectories ... OK
* checking code files for non-ASCII characters ... OK
* checking R files for syntax errors ... OK
* checking whether the package can be loaded ... OK
* checking whether the package can be loaded with stated dependencies ... OK
* checking whether the package can be unloaded cleanly ... OK
* checking whether the namespace can be loaded with stated dependencies ... OK
* checking whether the namespace can be unloaded cleanly ... OK
* checking loading without being on the library search path ... OK
* checking dependencies in R code ... OK
* checking S3 generic/method consistency ... OK
* checking replacement functions ... OK
* checking foreign function calls ... OK
* checking R code for possible problems ... OK
* checking Rd files ... OK
* checking Rd metadata ... OK
* checking Rd cross-references ... OK
* checking for missing documentation entries ... OK
* checking for code/documentation mismatches ... OK
* checking Rd \usage sections ... OK
* checking Rd contents ... OK
* checking for unstated dependencies in examples ... OK
* checking files in ‘vignettes’ ... OK
* checking examples ... OK
Examples with CPU (user + system) or elapsed time > 5s
user system elapsed
read_diann_proteingroups 93.961 1.106 90.590
read_rnaseq_counts 28.029 1.164 29.035
plot_exprs_per_coef 23.239 0.034 23.170
plot_exprs 23.033 0.144 23.073
rm_diann_contaminants 20.168 0.246 18.872
default_formula 15.400 0.237 15.185
fit 14.836 0.082 13.795
analyze 12.950 0.175 13.038
read_somascan 12.747 0.029 12.700
plot_summary 12.236 0.060 12.164
read_metabolon 12.070 0.029 12.013
plot_volcano 10.023 0.076 9.990
plot_densities 8.768 0.141 8.792
ftype 6.962 0.116 6.813
read_fragpipe 6.879 0.022 6.632
code 6.211 0.027 6.215
fcluster 5.690 0.076 5.693
plot_sample_nas 5.692 0.007 5.653
extract_coef_features 5.018 0.065 5.060
* checking for unstated dependencies in ‘tests’ ... OK
* checking tests ...
Running ‘testthat.R’
OK
* checking for unstated dependencies in vignettes ... OK
* checking package vignettes ... OK
* checking re-building of vignette outputs ... OK
* checking PDF version of manual ... OK
* DONE
Status: 1 NOTE
See
‘/home/biocbuild/bbs-3.20-bioc/meat/autonomics.Rcheck/00check.log’
for details.
autonomics.Rcheck/00install.out
############################################################################## ############################################################################## ### ### Running command: ### ### /home/biocbuild/bbs-3.20-bioc/R/bin/R CMD INSTALL autonomics ### ############################################################################## ############################################################################## * installing to library ‘/home/biocbuild/bbs-3.20-bioc/R/site-library’ * installing *source* package ‘autonomics’ ... ** using staged installation ** R ** inst ** byte-compile and prepare package for lazy loading ** help *** installing help indices ** building package indices ** installing vignettes ** testing if installed package can be loaded from temporary location ** testing if installed package can be loaded from final location ** testing if installed package keeps a record of temporary installation path * DONE (autonomics)
autonomics.Rcheck/tests/testthat.Rout
R version 4.4.3 (2025-02-28) -- "Trophy Case"
Copyright (C) 2025 The R Foundation for Statistical Computing
Platform: x86_64-pc-linux-gnu
R is free software and comes with ABSOLUTELY NO WARRANTY.
You are welcome to redistribute it under certain conditions.
Type 'license()' or 'licence()' for distribution details.
R is a collaborative project with many contributors.
Type 'contributors()' for more information and
'citation()' on how to cite R or R packages in publications.
Type 'demo()' for some demos, 'help()' for on-line help, or
'help.start()' for an HTML browser interface to help.
Type 'q()' to quit R.
> library(testthat)
> library(autonomics)
Attaching package: 'autonomics'
The following objects are masked from 'package:stats':
biplot, loadings
The following object is masked from 'package:base':
beta
>
> test_check("autonomics")
[ FAIL 0 | WARN 0 | SKIP 0 | PASS 158 ]
>
> proc.time()
user system elapsed
138.409 3.768 139.643
autonomics.Rcheck/autonomics-Ex.timings
| name | user | system | elapsed | |
| AUTONOMICS_DATASETS | 0 | 0 | 0 | |
| COMPOUNDDISCOVERER_PATTERNS | 0 | 0 | 0 | |
| FITSEP | 0 | 0 | 0 | |
| LINMOD_ENGINES | 0 | 0 | 0 | |
| MAXQUANT_PATTERNS | 0 | 0 | 0 | |
| TAXON_TO_ORGNAME | 0.000 | 0.000 | 0.001 | |
| TESTS | 0 | 0 | 0 | |
| X | 1.532 | 0.058 | 1.570 | |
| abstract_fit | 1.591 | 0.155 | 1.726 | |
| add_adjusted_pvalues | 0.531 | 0.032 | 0.564 | |
| add_assay_means | 0.36 | 0.02 | 0.38 | |
| add_facetvars | 1.882 | 0.032 | 1.891 | |
| add_opentargets_by_uniprot | 0.421 | 0.004 | 0.426 | |
| add_psp | 0.520 | 0.006 | 0.526 | |
| add_smiles | 0.499 | 0.002 | 0.478 | |
| analysis | 0.398 | 0.001 | 0.399 | |
| analyze | 12.950 | 0.175 | 13.038 | |
| annotate_maxquant | 0.804 | 0.026 | 0.829 | |
| annotate_uniprot_rest | 0.263 | 0.011 | 1.995 | |
| assert_is_valid_sumexp | 0.688 | 0.010 | 0.674 | |
| bin | 1.164 | 0.109 | 1.273 | |
| biplot | 3.295 | 0.085 | 3.356 | |
| biplot_corrections | 3.011 | 0.023 | 3.011 | |
| biplot_covariates | 4.717 | 0.020 | 4.713 | |
| block2lme | 0.003 | 0.000 | 0.003 | |
| center | 1.335 | 0.020 | 1.357 | |
| code | 6.211 | 0.027 | 6.215 | |
| coefs | 0.741 | 0.058 | 0.775 | |
| collapsed_entrezg_to_symbol | 0.001 | 0.000 | 0.001 | |
| contrast_subgroup_cols | 0.569 | 0.007 | 0.553 | |
| count_in | 0.001 | 0.000 | 0.001 | |
| counts | 1.281 | 0.083 | 1.364 | |
| counts2cpm | 0.376 | 0.001 | 0.377 | |
| counts2tpm | 0.364 | 0.000 | 0.364 | |
| cpm | 0.366 | 0.000 | 0.366 | |
| create_design | 0.689 | 0.011 | 0.677 | |
| default_coefs | 0.698 | 0.010 | 0.684 | |
| default_formula | 15.400 | 0.237 | 15.185 | |
| default_geom | 0.519 | 0.007 | 0.506 | |
| default_sfile | 0.001 | 0.000 | 0.002 | |
| demultiplex | 0.013 | 0.000 | 0.013 | |
| dequantify | 0.001 | 0.000 | 0.002 | |
| dequantify_compounddiscoverer | 0.001 | 0.000 | 0.001 | |
| dot-merge | 0.016 | 0.000 | 0.016 | |
| dot-plot_survival | 3.892 | 0.110 | 4.002 | |
| dot-read_maxquant_proteingroups | 0.113 | 0.000 | 0.112 | |
| download_data | 0 | 0 | 0 | |
| download_gtf | 0 | 0 | 0 | |
| download_mcclain21 | 0.000 | 0.000 | 0.001 | |
| dt2mat | 0.002 | 0.000 | 0.003 | |
| enrichment | 1.162 | 0.042 | 1.205 | |
| entrezg_to_symbol | 0.000 | 0.000 | 0.001 | |
| explore_transformations | 3.226 | 0.131 | 3.357 | |
| extract_coef_features | 5.018 | 0.065 | 5.060 | |
| extract_rectangle | 0.111 | 0.003 | 0.115 | |
| fcluster | 5.690 | 0.076 | 5.693 | |
| fcor | 0.922 | 0.008 | 0.929 | |
| fdata | 0.543 | 0.003 | 0.546 | |
| fdr2p | 0.934 | 0.009 | 0.905 | |
| filter_exprs_replicated_in_some_subgroup | 1.052 | 0.004 | 0.955 | |
| filter_features | 0.563 | 0.030 | 0.570 | |
| filter_medoid | 0.828 | 0.019 | 0.847 | |
| filter_samples | 0.583 | 0.056 | 0.602 | |
| fit | 14.836 | 0.082 | 13.795 | |
| fit_lmx | 4.506 | 0.030 | 4.268 | |
| fitcoefs | 0.768 | 0.008 | 0.754 | |
| fits | 0.703 | 0.004 | 0.685 | |
| fitvars | 1.003 | 0.009 | 0.990 | |
| fix_xlgenes | 0.001 | 0.000 | 0.001 | |
| flevels | 0.404 | 0.002 | 0.405 | |
| fnames | 0.436 | 0.019 | 0.455 | |
| formula2str | 0 | 0 | 0 | |
| ftype | 6.962 | 0.116 | 6.813 | |
| fvalues | 0.475 | 0.003 | 0.479 | |
| fvars | 0.426 | 0.000 | 0.426 | |
| genome_to_orgdb | 0.000 | 0.000 | 0.001 | |
| group_by_level | 0.001 | 0.000 | 0.001 | |
| guess_compounddiscoverer_quantity | 0.001 | 0.000 | 0.001 | |
| guess_fitsep | 0.504 | 0.003 | 0.507 | |
| guess_maxquant_quantity | 0.006 | 0.000 | 0.005 | |
| guess_sep | 0.498 | 0.005 | 0.482 | |
| has_multiple_levels | 0.051 | 0.000 | 0.051 | |
| hdlproteins | 0.040 | 0.005 | 0.049 | |
| impute | 2.971 | 0.005 | 2.977 | |
| invert_subgroups | 0.643 | 0.001 | 0.644 | |
| is_collapsed_subset | 0 | 0 | 0 | |
| is_correlation_matrix | 0.000 | 0.001 | 0.001 | |
| is_diann_report | 0.428 | 0.043 | 0.455 | |
| is_fastadt | 0.064 | 0.000 | 0.063 | |
| is_file | 0.001 | 0.000 | 0.000 | |
| is_fraction | 0.001 | 0.000 | 0.001 | |
| is_imputed | 0.732 | 0.000 | 0.733 | |
| is_positive_number | 0.001 | 0.000 | 0.002 | |
| is_scalar_subset | 0.330 | 0.001 | 0.332 | |
| is_sig | 1.738 | 0.002 | 1.741 | |
| is_valid_formula | 0.041 | 0.000 | 0.041 | |
| keep_connected_blocks | 0.538 | 0.002 | 0.496 | |
| keep_connected_features | 0.778 | 0.009 | 0.696 | |
| keep_replicated_features | 0.872 | 0.004 | 0.789 | |
| label2index | 0.000 | 0.000 | 0.001 | |
| list2mat | 0.000 | 0.000 | 0.001 | |
| log2counts | 0.384 | 0.001 | 0.385 | |
| log2cpm | 0.365 | 0.001 | 0.367 | |
| log2diffs | 0.363 | 0.001 | 0.365 | |
| log2proteins | 0.335 | 0.001 | 0.336 | |
| log2sites | 0.327 | 0.000 | 0.327 | |
| log2tpm | 0.364 | 0.000 | 0.365 | |
| log2transform | 3.596 | 0.007 | 3.604 | |
| logical2factor | 0.001 | 0.000 | 0.001 | |
| make_alpha_palette | 0.547 | 0.010 | 0.528 | |
| make_colors | 0.009 | 0.000 | 0.010 | |
| make_volcano_dt | 0.879 | 0.001 | 0.880 | |
| map_fvalues | 0.408 | 0.001 | 0.408 | |
| matrix2sumexp | 0.966 | 0.008 | 0.938 | |
| merge_sample_file | 0.453 | 0.001 | 0.454 | |
| merge_sdata | 0.555 | 0.008 | 0.534 | |
| message_df | 0.003 | 0.000 | 0.003 | |
| modelvar | 3.538 | 0.007 | 3.438 | |
| order_on_p | 0.937 | 0.023 | 0.922 | |
| pca | 2.889 | 0.013 | 2.864 | |
| pg_to_canonical | 0.005 | 0.000 | 0.005 | |
| plot_contrast_venn | 2.349 | 0.004 | 2.240 | |
| plot_contrastogram | 3.025 | 0.006 | 2.983 | |
| plot_data | 1.231 | 0.020 | 1.222 | |
| plot_densities | 8.768 | 0.141 | 8.792 | |
| plot_design | 0.611 | 0.001 | 0.613 | |
| plot_exprs | 23.033 | 0.144 | 23.073 | |
| plot_exprs_per_coef | 23.239 | 0.034 | 23.170 | |
| plot_fit_summary | 1.853 | 0.023 | 1.819 | |
| plot_heatmap | 1.719 | 0.011 | 1.730 | |
| plot_matrix | 0.530 | 0.006 | 0.496 | |
| plot_sample_nas | 5.692 | 0.007 | 5.653 | |
| plot_subgroup_points | 4.335 | 0.034 | 4.326 | |
| plot_summary | 12.236 | 0.060 | 12.164 | |
| plot_venn | 0.014 | 0.001 | 0.016 | |
| plot_venn_heatmap | 0.020 | 0.001 | 0.021 | |
| plot_violins | 3.915 | 0.082 | 3.959 | |
| plot_volcano | 10.023 | 0.076 | 9.990 | |
| preprocess_rnaseq_counts | 0.393 | 0.000 | 0.393 | |
| pull_columns | 0.002 | 0.000 | 0.002 | |
| read_affymetrix | 0 | 0 | 0 | |
| read_diann_proteingroups | 93.961 | 1.106 | 90.590 | |
| read_fragpipe | 6.879 | 0.022 | 6.632 | |
| read_maxquant_phosphosites | 1.536 | 0.009 | 1.545 | |
| read_maxquant_proteingroups | 1.350 | 0.022 | 1.372 | |
| read_metabolon | 12.070 | 0.029 | 12.013 | |
| read_msigdt | 0.001 | 0.000 | 0.001 | |
| read_olink | 1.097 | 0.010 | 1.036 | |
| read_rectangles | 0.175 | 0.002 | 0.176 | |
| read_rnaseq_counts | 28.029 | 1.164 | 29.035 | |
| read_salmon | 0 | 0 | 0 | |
| read_somascan | 12.747 | 0.029 | 12.700 | |
| read_uniprotdt | 0.285 | 0.006 | 0.290 | |
| reset_fit | 4.873 | 0.010 | 4.703 | |
| rm_diann_contaminants | 20.168 | 0.246 | 18.872 | |
| rm_missing_in_some_samples | 0.528 | 0.003 | 0.493 | |
| rm_unmatched_samples | 0.614 | 0.000 | 0.614 | |
| scaledlibsizes | 0.342 | 0.000 | 0.342 | |
| scoremat | 0.996 | 0.017 | 0.975 | |
| slevels | 0.511 | 0.020 | 0.530 | |
| snames | 0.451 | 0.017 | 0.468 | |
| split_extract_fixed | 0.498 | 0.009 | 0.487 | |
| split_samples | 1.181 | 0.007 | 1.153 | |
| stri_any_regex | 0.000 | 0.000 | 0.001 | |
| stri_detect_fixed_in_collapsed | 0.342 | 0.002 | 0.344 | |
| subgroup_matrix | 0.566 | 0.005 | 0.551 | |
| subtract_baseline | 4.147 | 0.026 | 4.120 | |
| sumexp_to_longdt | 1.833 | 0.042 | 1.820 | |
| sumexp_to_tsv | 0.574 | 0.003 | 0.578 | |
| sumexplist_to_longdt | 1.562 | 0.010 | 1.572 | |
| summarize_fit | 1.693 | 0.007 | 1.639 | |
| svalues | 0.487 | 0.002 | 0.490 | |
| svars | 0.478 | 0.002 | 0.480 | |
| systematic_nas | 0.579 | 0.001 | 0.580 | |
| tag_features | 1.193 | 0.048 | 1.240 | |
| tag_hdlproteins | 0.565 | 0.010 | 0.575 | |
| taxon2org | 0.001 | 0.000 | 0.000 | |
| tpm | 0.387 | 0.003 | 0.390 | |
| uncollapse | 0.010 | 0.000 | 0.009 | |
| values | 0.42 | 0.01 | 0.43 | |
| varlevels_dont_clash | 0.02 | 0.00 | 0.02 | |
| venn_detects | 0.661 | 0.002 | 0.663 | |
| weights | 0.387 | 0.000 | 0.387 | |
| write_xl | 0.708 | 0.007 | 0.693 | |
| zero_to_na | 0.001 | 0.000 | 0.001 | |