| Back to Multiple platform build/check report for BioC 3.20: simplified long | 
  | 
This page was generated on 2024-11-20 12:05 -0500 (Wed, 20 Nov 2024).
| Hostname | OS | Arch (*) | R version | Installed pkgs | 
|---|---|---|---|---|
| teran2 | Linux (Ubuntu 24.04.1 LTS) | x86_64 | 4.4.2 (2024-10-31) -- "Pile of Leaves" | 4481 | 
| nebbiolo2 | Linux (Ubuntu 24.04.1 LTS) | x86_64 | 4.4.2 (2024-10-31) -- "Pile of Leaves" | 4479 | 
| palomino8 | Windows Server 2022 Datacenter | x64 | 4.4.2 (2024-10-31 ucrt) -- "Pile of Leaves" | 4359 | 
| lconway | macOS 12.7.1 Monterey | x86_64 | 4.4.1 (2024-06-14) -- "Race for Your Life" | 4539 | 
| kunpeng2 | Linux (openEuler 22.03 LTS-SP1) | aarch64 | 4.4.1 (2024-06-14) -- "Race for Your Life" | 4493 | 
| Click on any hostname to see more info about the system (e.g. compilers) (*) as reported by 'uname -p', except on Windows and Mac OS X | ||||
| Package 117/2289 | Hostname | OS / Arch | INSTALL | BUILD | CHECK | BUILD BIN | ||||||||
| autonomics 1.14.6  (landing page) Aditya Bhagwat 
  | teran2 | Linux (Ubuntu 24.04.1 LTS) / x86_64 | OK | OK | OK | |||||||||
| nebbiolo2 | Linux (Ubuntu 24.04.1 LTS) / x86_64 | OK | OK | ERROR | ||||||||||
| palomino8 | Windows Server 2022 Datacenter / x64 | OK | OK | ERROR | OK | |||||||||
| lconway | macOS 12.7.1 Monterey / x86_64 | OK | OK | OK | OK | |||||||||
| kunpeng2 | Linux (openEuler 22.03 LTS-SP1) / aarch64 | OK | OK | ERROR | ||||||||||
| 
To the developers/maintainers of the autonomics package: - Allow up to 24 hours (and sometimes 48 hours) for your latest push to git@git.bioconductor.org:packages/autonomics.git to reflect on this report. See Troubleshooting Build Report for more information. - Use the following Renviron settings to reproduce errors and warnings. - If 'R CMD check' started to fail recently on the Linux builder(s) over a missing dependency, add the missing dependency to 'Suggests:' in your DESCRIPTION file. See Renviron.bioc for more information.  | 
| Package: autonomics | 
| Version: 1.14.6 | 
| Command: /Library/Frameworks/R.framework/Resources/bin/R CMD check --install=check:autonomics.install-out.txt --library=/Library/Frameworks/R.framework/Resources/library --no-vignettes --timings autonomics_1.14.6.tar.gz | 
| StartedAt: 2024-11-19 19:36:42 -0500 (Tue, 19 Nov 2024) | 
| EndedAt: 2024-11-19 19:52:05 -0500 (Tue, 19 Nov 2024) | 
| EllapsedTime: 923.2 seconds | 
| RetCode: 0 | 
| Status: OK | 
| CheckDir: autonomics.Rcheck | 
| Warnings: 0 | 
##############################################################################
##############################################################################
###
### Running command:
###
###   /Library/Frameworks/R.framework/Resources/bin/R CMD check --install=check:autonomics.install-out.txt --library=/Library/Frameworks/R.framework/Resources/library --no-vignettes --timings autonomics_1.14.6.tar.gz
###
##############################################################################
##############################################################################
* using log directory ‘/Users/biocbuild/bbs-3.20-bioc/meat/autonomics.Rcheck’
* using R version 4.4.1 (2024-06-14)
* using platform: x86_64-apple-darwin20
* R was compiled by
    Apple clang version 14.0.0 (clang-1400.0.29.202)
    GNU Fortran (GCC) 12.2.0
* running under: macOS Monterey 12.7.6
* using session charset: UTF-8
* using option ‘--no-vignettes’
* checking for file ‘autonomics/DESCRIPTION’ ... OK
* checking extension type ... Package
* this is package ‘autonomics’ version ‘1.14.6’
* package encoding: UTF-8
* checking package namespace information ... OK
* checking package dependencies ...Warning: unable to access index for repository https://CRAN.R-project.org/src/contrib:
  cannot open URL 'https://CRAN.R-project.org/src/contrib/PACKAGES'
 OK
* checking if this is a source package ... OK
* checking if there is a namespace ... OK
* checking for hidden files and directories ... NOTE
Found the following hidden files and directories:
  .BBSoptions
These were most likely included in error. See section ‘Package
structure’ in the ‘Writing R Extensions’ manual.
* checking for portable file names ... OK
* checking for sufficient/correct file permissions ... OK
* checking whether package ‘autonomics’ can be installed ... OK
* checking installed package size ... OK
* checking package directory ... OK
* checking ‘build’ directory ... OK
* checking DESCRIPTION meta-information ... OK
* checking top-level files ... OK
* checking for left-over files ... OK
* checking index information ... OK
* checking package subdirectories ... OK
* checking code files for non-ASCII characters ... OK
* checking R files for syntax errors ... OK
* checking whether the package can be loaded ... OK
* checking whether the package can be loaded with stated dependencies ... OK
* checking whether the package can be unloaded cleanly ... OK
* checking whether the namespace can be loaded with stated dependencies ... OK
* checking whether the namespace can be unloaded cleanly ... OK
* checking dependencies in R code ... OK
* checking S3 generic/method consistency ... OK
* checking replacement functions ... OK
* checking foreign function calls ... OK
* checking R code for possible problems ... OK
* checking Rd files ... OK
* checking Rd metadata ... OK
* checking Rd cross-references ... OK
* checking for missing documentation entries ... OK
* checking for code/documentation mismatches ... OK
* checking Rd \usage sections ... OK
* checking Rd contents ... OK
* checking for unstated dependencies in examples ... OK
* checking files in ‘vignettes’ ... OK
* checking examples ... OK
Examples with CPU (user + system) or elapsed time > 5s
                           user system elapsed
read_diann_proteingroups 73.450  1.436  75.422
read_rnaseq_counts       24.540  2.447  27.319
plot_exprs               20.063  0.119  20.236
plot_exprs_per_coef      19.110  0.087  19.248
rm_diann_contaminants    15.788  0.340  17.277
default_formula          13.268  0.385  13.820
analyze                  11.112  0.100  11.253
fit                      11.015  0.145  11.210
read_somascan            10.952  0.096  11.084
read_metabolon           10.840  0.086  10.964
plot_summary             10.242  0.064  10.340
plot_volcano              7.918  0.074   8.011
plot_densities            7.630  0.189   7.872
ftype                     5.836  0.325   6.189
code                      5.684  0.066   5.783
read_fragpipe             4.762  0.226   5.014
download_contaminants     0.036  0.006   8.751
* checking for unstated dependencies in ‘tests’ ... OK
* checking tests ...
  Running ‘testthat.R’
 OK
* checking for unstated dependencies in vignettes ... OK
* checking package vignettes ... OK
* checking running R code from vignettes ... SKIPPED
* checking re-building of vignette outputs ... SKIPPED
* checking PDF version of manual ... OK
* DONE
Status: 1 NOTE
See
  ‘/Users/biocbuild/bbs-3.20-bioc/meat/autonomics.Rcheck/00check.log’
for details.
autonomics.Rcheck/00install.out
############################################################################## ############################################################################## ### ### Running command: ### ### /Library/Frameworks/R.framework/Resources/bin/R CMD INSTALL autonomics ### ############################################################################## ############################################################################## * installing to library ‘/Library/Frameworks/R.framework/Versions/4.4-x86_64/Resources/library’ * installing *source* package ‘autonomics’ ... ** using staged installation ** R ** inst ** byte-compile and prepare package for lazy loading ** help *** installing help indices ** building package indices ** installing vignettes ** testing if installed package can be loaded from temporary location ** testing if installed package can be loaded from final location ** testing if installed package keeps a record of temporary installation path * DONE (autonomics)
autonomics.Rcheck/tests/testthat.Rout
R version 4.4.1 (2024-06-14) -- "Race for Your Life"
Copyright (C) 2024 The R Foundation for Statistical Computing
Platform: x86_64-apple-darwin20
R is free software and comes with ABSOLUTELY NO WARRANTY.
You are welcome to redistribute it under certain conditions.
Type 'license()' or 'licence()' for distribution details.
R is a collaborative project with many contributors.
Type 'contributors()' for more information and
'citation()' on how to cite R or R packages in publications.
Type 'demo()' for some demos, 'help()' for on-line help, or
'help.start()' for an HTML browser interface to help.
Type 'q()' to quit R.
> library(testthat)
> library(autonomics)
Attaching package: 'autonomics'
The following objects are masked from 'package:stats':
    biplot, loadings
The following object is masked from 'package:base':
    beta
> 
> test_check("autonomics")
[ FAIL 0 | WARN 0 | SKIP 0 | PASS 159 ]
> 
> proc.time()
   user  system elapsed 
107.399   6.281 114.029 
autonomics.Rcheck/autonomics-Ex.timings
| name | user | system | elapsed | |
| AUTONOMICS_DATASETS | 0.000 | 0.001 | 0.000 | |
| COMPOUNDDISCOVERER_PATTERNS | 0.000 | 0.001 | 0.000 | |
| CONTAMINANTSURL | 0 | 0 | 0 | |
| FITSEP | 0 | 0 | 0 | |
| LINMOD_ENGINES | 0.001 | 0.000 | 0.001 | |
| MAXQUANT_PATTERNS | 0 | 0 | 0 | |
| TAXON_TO_ORGNAME | 0.001 | 0.000 | 0.000 | |
| TESTS | 0.000 | 0.001 | 0.000 | |
| X | 1.409 | 0.072 | 1.492 | |
| abstract_fit | 1.495 | 0.093 | 1.600 | |
| add_adjusted_pvalues | 0.469 | 0.024 | 0.497 | |
| add_assay_means | 0.318 | 0.006 | 0.324 | |
| add_facetvars | 1.766 | 0.056 | 1.839 | |
| add_opentargets_by_uniprot | 0.364 | 0.009 | 0.379 | |
| add_psp | 0.444 | 0.010 | 0.455 | |
| add_smiles | 0.437 | 0.035 | 0.473 | |
| analysis | 0.333 | 0.006 | 0.341 | |
| analyze | 11.112 | 0.100 | 11.253 | |
| annotate_maxquant | 0.732 | 0.025 | 0.761 | |
| annotate_uniprot_rest | 0.063 | 0.011 | 2.420 | |
| assert_is_valid_sumexp | 0.552 | 0.036 | 0.590 | |
| bin | 0.963 | 0.012 | 0.981 | |
| biplot | 2.841 | 0.046 | 2.903 | |
| biplot_corrections | 2.510 | 0.036 | 2.558 | |
| biplot_covariates | 4.200 | 0.055 | 4.287 | |
| block2lme | 0.002 | 0.001 | 0.003 | |
| center | 1.186 | 0.015 | 1.209 | |
| code | 5.684 | 0.066 | 5.783 | |
| coefs | 0.668 | 0.043 | 0.717 | |
| collapsed_entrezg_to_symbol | 0 | 0 | 0 | |
| contrast_subgroup_cols | 0.530 | 0.041 | 0.575 | |
| count_in | 0.001 | 0.000 | 0.001 | |
| counts | 0.373 | 0.003 | 0.380 | |
| counts2cpm | 0.345 | 0.005 | 0.352 | |
| counts2tpm | 1.034 | 0.009 | 1.050 | |
| cpm | 0.340 | 0.005 | 0.347 | |
| create_design | 0.656 | 0.048 | 0.716 | |
| default_coefs | 0.664 | 0.036 | 0.708 | |
| default_formula | 13.268 | 0.385 | 13.820 | |
| default_geom | 0.456 | 0.045 | 0.507 | |
| default_sfile | 0.001 | 0.001 | 0.002 | |
| demultiplex | 0.034 | 0.002 | 0.036 | |
| dequantify | 0.002 | 0.000 | 0.003 | |
| dequantify_compounddiscoverer | 0.001 | 0.001 | 0.001 | |
| dot-merge | 0.019 | 0.001 | 0.020 | |
| dot-plot_survival | 3.757 | 0.406 | 4.194 | |
| dot-read_maxquant_proteingroups | 0.099 | 0.004 | 0.103 | |
| download_contaminants | 0.036 | 0.006 | 8.751 | |
| download_data | 0.000 | 0.001 | 0.001 | |
| download_gtf | 0 | 0 | 0 | |
| download_mcclain21 | 0 | 0 | 0 | |
| dt2mat | 0.002 | 0.001 | 0.003 | |
| enrichment | 1.068 | 0.033 | 1.106 | |
| entrezg_to_symbol | 0.000 | 0.001 | 0.000 | |
| explore_transformations | 2.851 | 0.099 | 2.959 | |
| extract_coef_features | 4.380 | 0.055 | 4.453 | |
| extract_rectangle | 0.114 | 0.030 | 0.143 | |
| fcluster | 4.867 | 0.056 | 4.942 | |
| fcor | 0.824 | 0.019 | 0.846 | |
| fdata | 0.480 | 0.008 | 0.489 | |
| fdr2p | 0.840 | 0.037 | 0.879 | |
| filter_exprs_replicated_in_some_subgroup | 0.840 | 0.039 | 0.883 | |
| filter_features | 0.483 | 0.038 | 0.529 | |
| filter_medoid | 0.682 | 0.018 | 0.703 | |
| filter_samples | 0.469 | 0.036 | 0.507 | |
| fit | 11.015 | 0.145 | 11.210 | |
| fit_lmx | 3.711 | 0.048 | 3.771 | |
| fitcoefs | 0.710 | 0.038 | 0.753 | |
| fits | 0.637 | 0.036 | 0.677 | |
| fitvars | 0.922 | 0.033 | 0.959 | |
| fix_xlgenes | 0.001 | 0.000 | 0.001 | |
| flevels | 0.354 | 0.005 | 0.359 | |
| fnames | 0.402 | 0.006 | 0.410 | |
| formula2str | 0 | 0 | 0 | |
| ftype | 5.836 | 0.325 | 6.189 | |
| fvalues | 0.355 | 0.004 | 0.360 | |
| fvars | 0.374 | 0.005 | 0.380 | |
| genome_to_orgdb | 0.001 | 0.000 | 0.000 | |
| group_by_level | 0.001 | 0.000 | 0.001 | |
| guess_compounddiscoverer_quantity | 0.001 | 0.001 | 0.001 | |
| guess_fitsep | 0.398 | 0.006 | 0.404 | |
| guess_maxquant_quantity | 0.004 | 0.001 | 0.005 | |
| guess_sep | 0.456 | 0.033 | 0.492 | |
| has_multiple_levels | 0.045 | 0.001 | 0.047 | |
| hdlproteins | 0.043 | 0.033 | 0.078 | |
| impute | 2.577 | 0.027 | 2.616 | |
| invert_subgroups | 0.567 | 0.005 | 0.576 | |
| is_collapsed_subset | 0.001 | 0.000 | 0.001 | |
| is_correlation_matrix | 0.002 | 0.000 | 0.001 | |
| is_diann_report | 0.208 | 0.052 | 0.358 | |
| is_fastadt | 0.057 | 0.002 | 0.058 | |
| is_file | 0.001 | 0.001 | 0.001 | |
| is_fraction | 0.001 | 0.000 | 0.002 | |
| is_imputed | 0.668 | 0.006 | 0.677 | |
| is_positive_number | 0.001 | 0.000 | 0.001 | |
| is_scalar_subset | 0.282 | 0.003 | 0.287 | |
| is_sig | 1.426 | 0.063 | 1.496 | |
| is_valid_formula | 0.034 | 0.001 | 0.035 | |
| keep_connected_blocks | 0.436 | 0.030 | 0.466 | |
| keep_connected_features | 0.594 | 0.036 | 0.632 | |
| keep_replicated_features | 0.703 | 0.042 | 0.748 | |
| label2index | 0.000 | 0.000 | 0.001 | |
| list2mat | 0 | 0 | 0 | |
| log2counts | 0.329 | 0.002 | 0.331 | |
| log2cpm | 0.320 | 0.003 | 0.325 | |
| log2diffs | 0.277 | 0.004 | 0.281 | |
| log2proteins | 0.273 | 0.003 | 0.276 | |
| log2sites | 0.308 | 0.003 | 0.312 | |
| log2tpm | 0.334 | 0.002 | 0.338 | |
| log2transform | 2.988 | 0.032 | 3.032 | |
| logical2factor | 0.002 | 0.000 | 0.002 | |
| make_alpha_palette | 0.469 | 0.031 | 0.503 | |
| make_colors | 0.008 | 0.001 | 0.009 | |
| make_volcano_dt | 0.723 | 0.006 | 0.730 | |
| map_fvalues | 0.338 | 0.007 | 0.346 | |
| matrix2sumexp | 0.814 | 0.035 | 0.851 | |
| merge_sample_file | 0.397 | 0.006 | 0.404 | |
| merge_sdata | 0.482 | 0.039 | 0.523 | |
| message_df | 0.002 | 0.000 | 0.002 | |
| modelvar | 2.952 | 0.042 | 3.001 | |
| order_on_p | 0.811 | 0.036 | 0.848 | |
| pca | 2.423 | 0.045 | 2.477 | |
| pg_to_canonical | 0.005 | 0.000 | 0.005 | |
| plot_contrast_venn | 1.991 | 0.062 | 2.069 | |
| plot_contrastogram | 2.726 | 0.150 | 2.904 | |
| plot_data | 1.064 | 0.040 | 1.108 | |
| plot_densities | 7.630 | 0.189 | 7.872 | |
| plot_design | 0.511 | 0.008 | 0.521 | |
| plot_exprs | 20.063 | 0.119 | 20.236 | |
| plot_exprs_per_coef | 19.110 | 0.087 | 19.248 | |
| plot_fit_summary | 1.616 | 0.096 | 1.731 | |
| plot_heatmap | 1.453 | 0.008 | 1.463 | |
| plot_matrix | 0.432 | 0.047 | 0.492 | |
| plot_sample_nas | 4.930 | 0.032 | 4.981 | |
| plot_subgroup_points | 3.823 | 0.067 | 3.920 | |
| plot_summary | 10.242 | 0.064 | 10.340 | |
| plot_venn | 0.014 | 0.001 | 0.015 | |
| plot_venn_heatmap | 0.017 | 0.001 | 0.019 | |
| plot_violins | 2.997 | 0.063 | 3.072 | |
| plot_volcano | 7.918 | 0.074 | 8.011 | |
| preprocess_rnaseq_counts | 0.282 | 0.002 | 0.283 | |
| pull_columns | 0.002 | 0.001 | 0.002 | |
| read_affymetrix | 0 | 0 | 0 | |
| read_contaminants | 0.017 | 0.002 | 1.149 | |
| read_diann_proteingroups | 73.450 | 1.436 | 75.422 | |
| read_fragpipe | 4.762 | 0.226 | 5.014 | |
| read_maxquant_phosphosites | 1.309 | 0.024 | 1.337 | |
| read_maxquant_proteingroups | 1.090 | 0.014 | 1.107 | |
| read_metabolon | 10.840 | 0.086 | 10.964 | |
| read_msigdt | 0.000 | 0.000 | 0.001 | |
| read_olink | 0.933 | 0.042 | 0.985 | |
| read_rectangles | 0.155 | 0.020 | 0.177 | |
| read_rnaseq_counts | 24.540 | 2.447 | 27.319 | |
| read_salmon | 0 | 0 | 0 | |
| read_somascan | 10.952 | 0.096 | 11.084 | |
| read_uniprotdt | 0.235 | 0.017 | 0.254 | |
| reset_fit | 4.100 | 0.049 | 4.166 | |
| rm_diann_contaminants | 15.788 | 0.340 | 17.277 | |
| rm_missing_in_some_samples | 0.447 | 0.070 | 0.519 | |
| rm_unmatched_samples | 0.418 | 0.003 | 0.420 | |
| scaledlibsizes | 0.291 | 0.001 | 0.293 | |
| scoremat | 0.795 | 0.037 | 0.833 | |
| slevels | 0.325 | 0.003 | 0.329 | |
| snames | 0.331 | 0.004 | 0.335 | |
| split_extract_fixed | 0.419 | 0.047 | 0.477 | |
| split_samples | 0.957 | 0.037 | 0.997 | |
| stri_any_regex | 0 | 0 | 0 | |
| stri_detect_fixed_in_collapsed | 0.279 | 0.004 | 0.282 | |
| subgroup_matrix | 0.482 | 0.035 | 0.520 | |
| subtract_baseline | 3.419 | 0.052 | 3.483 | |
| sumexp_to_longdt | 1.491 | 0.067 | 1.563 | |
| sumexp_to_tsv | 0.405 | 0.004 | 0.410 | |
| sumexplist_to_longdt | 1.336 | 0.028 | 1.368 | |
| summarize_fit | 1.313 | 0.031 | 1.346 | |
| svalues | 0.331 | 0.004 | 0.335 | |
| svars | 0.331 | 0.004 | 0.335 | |
| systematic_nas | 0.474 | 0.004 | 0.478 | |
| tag_features | 0.721 | 0.016 | 0.738 | |
| tag_hdlproteins | 0.432 | 0.016 | 0.448 | |
| taxon2org | 0.001 | 0.000 | 0.001 | |
| tpm | 0.287 | 0.001 | 0.289 | |
| uncollapse | 0.008 | 0.000 | 0.008 | |
| values | 0.398 | 0.007 | 0.405 | |
| varlevels_dont_clash | 0.017 | 0.001 | 0.019 | |
| venn_detects | 0.469 | 0.007 | 0.479 | |
| weights | 0.317 | 0.001 | 0.319 | |
| write_xl | 0.701 | 0.034 | 0.741 | |
| zero_to_na | 0.002 | 0.000 | 0.002 | |