| Back to Multiple platform build/check report for BioC 3.20: simplified long |
|
This page was generated on 2025-04-02 19:29 -0400 (Wed, 02 Apr 2025).
| Hostname | OS | Arch (*) | R version | Installed pkgs |
|---|---|---|---|---|
| nebbiolo2 | Linux (Ubuntu 24.04.1 LTS) | x86_64 | 4.4.3 (2025-02-28) -- "Trophy Case" | 4764 |
| palomino8 | Windows Server 2022 Datacenter | x64 | 4.4.3 (2025-02-28 ucrt) -- "Trophy Case" | 4495 |
| merida1 | macOS 12.7.5 Monterey | x86_64 | 4.4.3 (2025-02-28) -- "Trophy Case" | 4522 |
| kjohnson1 | macOS 13.6.6 Ventura | arm64 | 4.4.3 (2025-02-28) -- "Trophy Case" | 4449 |
| taishan | Linux (openEuler 24.03 LTS) | aarch64 | 4.4.3 (2025-02-28) -- "Trophy Case" | 4426 |
| Click on any hostname to see more info about the system (e.g. compilers) (*) as reported by 'uname -p', except on Windows and Mac OS X | ||||
| Package 70/2289 | Hostname | OS / Arch | INSTALL | BUILD | CHECK | BUILD BIN | ||||||||
| annotate 1.84.0 (landing page) Bioconductor Package Maintainer
| nebbiolo2 | Linux (Ubuntu 24.04.1 LTS) / x86_64 | OK | OK | OK | |||||||||
| palomino8 | Windows Server 2022 Datacenter / x64 | OK | OK | OK | OK | |||||||||
| merida1 | macOS 12.7.5 Monterey / x86_64 | OK | OK | OK | OK | |||||||||
| kjohnson1 | macOS 13.6.6 Ventura / arm64 | OK | OK | OK | OK | |||||||||
| taishan | Linux (openEuler 24.03 LTS) / aarch64 | OK | OK | OK | ||||||||||
|
To the developers/maintainers of the annotate package: - Allow up to 24 hours (and sometimes 48 hours) for your latest push to git@git.bioconductor.org:packages/annotate.git to reflect on this report. See Troubleshooting Build Report for more information. - Use the following Renviron settings to reproduce errors and warnings. - If 'R CMD check' started to fail recently on the Linux builder(s) over a missing dependency, add the missing dependency to 'Suggests:' in your DESCRIPTION file. See Renviron.bioc for more information. |
| Package: annotate |
| Version: 1.84.0 |
| Command: F:\biocbuild\bbs-3.20-bioc\R\bin\R.exe CMD check --no-multiarch --install=check:annotate.install-out.txt --library=F:\biocbuild\bbs-3.20-bioc\R\library --no-vignettes --timings annotate_1.84.0.tar.gz |
| StartedAt: 2025-03-31 22:53:42 -0400 (Mon, 31 Mar 2025) |
| EndedAt: 2025-03-31 22:58:09 -0400 (Mon, 31 Mar 2025) |
| EllapsedTime: 267.7 seconds |
| RetCode: 0 |
| Status: OK |
| CheckDir: annotate.Rcheck |
| Warnings: 0 |
##############################################################################
##############################################################################
###
### Running command:
###
### F:\biocbuild\bbs-3.20-bioc\R\bin\R.exe CMD check --no-multiarch --install=check:annotate.install-out.txt --library=F:\biocbuild\bbs-3.20-bioc\R\library --no-vignettes --timings annotate_1.84.0.tar.gz
###
##############################################################################
##############################################################################
* using log directory 'F:/biocbuild/bbs-3.20-bioc/meat/annotate.Rcheck'
* using R version 4.4.3 (2025-02-28 ucrt)
* using platform: x86_64-w64-mingw32
* R was compiled by
gcc.exe (GCC) 13.3.0
GNU Fortran (GCC) 13.3.0
* running under: Windows Server 2022 x64 (build 20348)
* using session charset: UTF-8
* using option '--no-vignettes'
* checking for file 'annotate/DESCRIPTION' ... OK
* this is package 'annotate' version '1.84.0'
* checking package namespace information ... OK
* checking package dependencies ... OK
* checking if this is a source package ... OK
* checking if there is a namespace ... OK
* checking for hidden files and directories ... OK
* checking for portable file names ... OK
* checking whether package 'annotate' can be installed ... OK
* checking installed package size ... OK
* checking package directory ... OK
* checking 'build' directory ... OK
* checking DESCRIPTION meta-information ... OK
* checking top-level files ... OK
* checking for left-over files ... OK
* checking index information ... OK
* checking package subdirectories ... OK
* checking code files for non-ASCII characters ... OK
* checking R files for syntax errors ... OK
* checking whether the package can be loaded ... OK
* checking whether the package can be loaded with stated dependencies ... OK
* checking whether the package can be unloaded cleanly ... OK
* checking whether the namespace can be loaded with stated dependencies ... OK
* checking whether the namespace can be unloaded cleanly ... OK
* checking whether startup messages can be suppressed ... OK
* checking dependencies in R code ... NOTE
Unexported object imported by a ':::' call: 'BiocGenerics:::testPackage'
See the note in ?`:::` about the use of this operator.
* checking S3 generic/method consistency ... OK
* checking replacement functions ... OK
* checking foreign function calls ... OK
* checking R code for possible problems ... OK
* checking Rd files ... NOTE
checkRd: (-1) chrCats.Rd:13: Escaped LaTeX specials: \_
checkRd: (-1) chrCats.Rd:14: Escaped LaTeX specials: \_
checkRd: (-1) chrCats.Rd:47: Escaped LaTeX specials: \_
checkRd: (-1) chrCats.Rd:53: Escaped LaTeX specials: \_
checkRd: (-1) chrCats.Rd:60: Escaped LaTeX specials: \_
checkRd: (-1) chrCats.Rd:69: Escaped LaTeX specials: \_ \_
checkRd: (-1) chrCats.Rd:77: Escaped LaTeX specials: \_
checkRd: (-1) htmlpage.Rd:56: Escaped LaTeX specials: \_
checkRd: (-1) htmlpage.Rd:57: Escaped LaTeX specials: \_
* checking Rd metadata ... OK
* checking Rd cross-references ... OK
* checking for missing documentation entries ... OK
* checking for code/documentation mismatches ... OK
* checking Rd \usage sections ... OK
* checking Rd contents ... OK
* checking for unstated dependencies in examples ... OK
* checking contents of 'data' directory ... OK
* checking data for non-ASCII characters ... OK
* checking data for ASCII and uncompressed saves ... OK
* checking sizes of PDF files under 'inst/doc' ... OK
* checking files in 'vignettes' ... OK
* checking examples ... OK
Examples with CPU (user + system) or elapsed time > 5s
user system elapsed
chrCats 11.61 0.20 11.84
blastSequences 0.24 0.01 75.27
* checking for unstated dependencies in 'tests' ... OK
* checking tests ...
Running 'annotate_unit_tests.R'
OK
* checking for unstated dependencies in vignettes ... OK
* checking package vignettes ... OK
* checking running R code from vignettes ... SKIPPED
* checking re-building of vignette outputs ... SKIPPED
* checking PDF version of manual ... OK
* DONE
Status: 2 NOTEs
See
'F:/biocbuild/bbs-3.20-bioc/meat/annotate.Rcheck/00check.log'
for details.
annotate.Rcheck/00install.out
############################################################################## ############################################################################## ### ### Running command: ### ### F:\biocbuild\bbs-3.20-bioc\R\bin\R.exe CMD INSTALL annotate ### ############################################################################## ############################################################################## * installing to library 'F:/biocbuild/bbs-3.20-bioc/R/library' * installing *source* package 'annotate' ... ** using staged installation ** R ** data ** inst ** byte-compile and prepare package for lazy loading ** help *** installing help indices ** building package indices ** installing vignettes ** testing if installed package can be loaded from temporary location ** testing if installed package can be loaded from final location ** testing if installed package keeps a record of temporary installation path * DONE (annotate)
annotate.Rcheck/tests/annotate_unit_tests.Rout
R version 4.4.3 (2025-02-28 ucrt) -- "Trophy Case"
Copyright (C) 2025 The R Foundation for Statistical Computing
Platform: x86_64-w64-mingw32/x64
R is free software and comes with ABSOLUTELY NO WARRANTY.
You are welcome to redistribute it under certain conditions.
Type 'license()' or 'licence()' for distribution details.
R is a collaborative project with many contributors.
Type 'contributors()' for more information and
'citation()' on how to cite R or R packages in publications.
Type 'demo()' for some demos, 'help()' for on-line help, or
'help.start()' for an HTML browser interface to help.
Type 'q()' to quit R.
> BiocGenerics:::testPackage("annotate")
Attaching package: 'BiocGenerics'
The following objects are masked from 'package:stats':
IQR, mad, sd, var, xtabs
The following objects are masked from 'package:base':
Filter, Find, Map, Position, Reduce, anyDuplicated, aperm, append,
as.data.frame, basename, cbind, colnames, dirname, do.call,
duplicated, eval, evalq, get, grep, grepl, intersect, is.unsorted,
lapply, mapply, match, mget, order, paste, pmax, pmax.int, pmin,
pmin.int, rank, rbind, rownames, sapply, saveRDS, setdiff, table,
tapply, union, unique, unsplit, which.max, which.min
Welcome to Bioconductor
Vignettes contain introductory material; view with
'browseVignettes()'. To cite Bioconductor, see
'citation("Biobase")', and for packages 'citation("pkgname")'.
Attaching package: 'S4Vectors'
The following object is masked from 'package:utils':
findMatches
The following objects are masked from 'package:base':
I, expand.grid, unname
Attaching package: 'IRanges'
The following object is masked from 'package:grDevices':
windows
Loading required package: org.Hs.eg.db
'select()' returned 1:many mapping between keys and columns
RUNIT TEST PROTOCOL -- Mon Mar 31 22:57:48 2025
***********************************************
Number of test functions: 1
Number of errors: 0
Number of failures: 0
1 Test Suite :
annotate RUnit Tests - 1 test function, 0 errors, 0 failures
Number of test functions: 1
Number of errors: 0
Number of failures: 0
>
> proc.time()
user system elapsed
11.12 0.75 12.00
annotate.Rcheck/annotate-Ex.timings
| name | user | system | elapsed | |
| ACCNUMStats | 1.83 | 0.09 | 1.92 | |
| GO2heatmap | 0.17 | 0.02 | 0.19 | |
| GOmnplot | 0.07 | 0.01 | 0.07 | |
| HTMLPage-class | 0 | 0 | 0 | |
| LL2homology | 0 | 0 | 0 | |
| PMIDAmat | 0.11 | 0.00 | 0.11 | |
| PWAmat | 2.40 | 0.10 | 2.54 | |
| UniGeneQuery | 0 | 0 | 0 | |
| accessionToUID | 0.77 | 0.04 | 1.98 | |
| annPkgName | 0 | 0 | 0 | |
| aqListGOIDs | 0.15 | 0.02 | 0.17 | |
| blastSequences | 0.24 | 0.01 | 75.27 | |
| buildChromLocation | 0.59 | 0.02 | 0.61 | |
| buildPubMedAbst | 0.03 | 0.00 | 0.34 | |
| chrCats | 11.61 | 0.20 | 11.84 | |
| chromLocation-class | 0.83 | 0.03 | 0.86 | |
| compatibleVersions | 0.04 | 0.02 | 0.06 | |
| dropECode | 0.03 | 0.02 | 0.05 | |
| entrezGeneByID | 0 | 0 | 0 | |
| entrezGeneQuery | 0.02 | 0.00 | 0.01 | |
| filterGOByOntology | 0.05 | 0.00 | 0.05 | |
| findNeighbors | 0.04 | 0.00 | 0.09 | |
| genbank | 0.19 | 0.00 | 0.49 | |
| getAnnMap | 0.02 | 0.01 | 0.14 | |
| getEvidence | 0.09 | 0.02 | 0.11 | |
| getGOTerm | 0.17 | 0.01 | 0.19 | |
| getOntology | 0.03 | 0.02 | 0.04 | |
| getPMInfo | 0.44 | 0.01 | 0.82 | |
| getSYMBOL | 0.16 | 0.02 | 0.17 | |
| getSeq4Acc | 0.0 | 0.0 | 0.4 | |
| hasGOannote | 0.03 | 0.00 | 0.04 | |
| hgByChroms | 0.03 | 0.00 | 0.03 | |
| hgCLengths | 0.00 | 0.02 | 0.01 | |
| hgu95Achroloc | 0.08 | 0.01 | 0.10 | |
| hgu95Achrom | 0.06 | 0.03 | 0.09 | |
| hgu95All | 0.06 | 0.03 | 0.09 | |
| hgu95Asym | 0.08 | 0.02 | 0.10 | |
| homoData-class | 0.02 | 0.00 | 0.01 | |
| htmlpage | 0.01 | 0.00 | 0.02 | |
| isValidkey | 0 | 0 | 0 | |
| makeAnchor | 0 | 0 | 0 | |
| organism | 0.80 | 0.06 | 0.86 | |
| p2LL | 0 | 0 | 0 | |
| pm.abstGrep | 1.10 | 0.03 | 1.86 | |
| pm.getabst | 1.55 | 0.07 | 2.38 | |
| pm.titles | 1.24 | 0.06 | 1.95 | |
| pmAbst2HTML | 0.04 | 0.00 | 0.47 | |
| pmid2MIAME | 0 | 0 | 0 | |
| pmidQuery | 0 | 0 | 0 | |
| pubMedAbst-class | 0.05 | 0.00 | 0.39 | |
| pubmed | 0.02 | 0.00 | 0.36 | |
| readGEOAnn | 0 | 0 | 0 | |
| serializeEnv | 0 | 0 | 0 | |
| setRepository | 0 | 0 | 0 | |
| updateSymbolsToValidKeys | 0 | 0 | 0 | |
| usedChromGenes | 0.06 | 0.01 | 0.07 | |