| Back to Multiple platform build/check report for BioC 3.20: simplified long |
|
This page was generated on 2025-04-02 19:36 -0400 (Wed, 02 Apr 2025).
| Hostname | OS | Arch (*) | R version | Installed pkgs |
|---|---|---|---|---|
| nebbiolo2 | Linux (Ubuntu 24.04.1 LTS) | x86_64 | 4.4.3 (2025-02-28) -- "Trophy Case" | 4764 |
| palomino8 | Windows Server 2022 Datacenter | x64 | 4.4.3 (2025-02-28 ucrt) -- "Trophy Case" | 4495 |
| merida1 | macOS 12.7.5 Monterey | x86_64 | 4.4.3 (2025-02-28) -- "Trophy Case" | 4522 |
| kjohnson1 | macOS 13.6.6 Ventura | arm64 | 4.4.3 (2025-02-28) -- "Trophy Case" | 4449 |
| taishan | Linux (openEuler 24.03 LTS) | aarch64 | 4.4.3 (2025-02-28) -- "Trophy Case" | 4426 |
| Click on any hostname to see more info about the system (e.g. compilers) (*) as reported by 'uname -p', except on Windows and Mac OS X | ||||
| Package 1902/2289 | Hostname | OS / Arch | INSTALL | BUILD | CHECK | BUILD BIN | ||||||||
| ScreenR 1.8.0 (landing page) Emanuel Michele Soda
| nebbiolo2 | Linux (Ubuntu 24.04.1 LTS) / x86_64 | OK | OK | OK | |||||||||
| palomino8 | Windows Server 2022 Datacenter / x64 | OK | OK | OK | OK | |||||||||
| merida1 | macOS 12.7.5 Monterey / x86_64 | OK | OK | OK | OK | |||||||||
| kjohnson1 | macOS 13.6.6 Ventura / arm64 | OK | OK | OK | OK | |||||||||
| taishan | Linux (openEuler 24.03 LTS) / aarch64 | OK | OK | OK | ||||||||||
|
To the developers/maintainers of the ScreenR package: - Allow up to 24 hours (and sometimes 48 hours) for your latest push to git@git.bioconductor.org:packages/ScreenR.git to reflect on this report. See Troubleshooting Build Report for more information. - Use the following Renviron settings to reproduce errors and warnings. - If 'R CMD check' started to fail recently on the Linux builder(s) over a missing dependency, add the missing dependency to 'Suggests:' in your DESCRIPTION file. See Renviron.bioc for more information. - See Martin Grigorov's blog post for how to debug Linux ARM64 related issues on a x86_64 host. |
| Package: ScreenR |
| Version: 1.8.0 |
| Command: /home/biocbuild/R/R/bin/R CMD check --install=check:ScreenR.install-out.txt --library=/home/biocbuild/R/R/site-library --no-vignettes --timings ScreenR_1.8.0.tar.gz |
| StartedAt: 2025-04-01 10:33:11 -0000 (Tue, 01 Apr 2025) |
| EndedAt: 2025-04-01 10:37:43 -0000 (Tue, 01 Apr 2025) |
| EllapsedTime: 271.4 seconds |
| RetCode: 0 |
| Status: OK |
| CheckDir: ScreenR.Rcheck |
| Warnings: 0 |
##############################################################################
##############################################################################
###
### Running command:
###
### /home/biocbuild/R/R/bin/R CMD check --install=check:ScreenR.install-out.txt --library=/home/biocbuild/R/R/site-library --no-vignettes --timings ScreenR_1.8.0.tar.gz
###
##############################################################################
##############################################################################
* using log directory ‘/home/biocbuild/bbs-3.20-bioc/meat/ScreenR.Rcheck’
* using R version 4.4.3 (2025-02-28)
* using platform: aarch64-unknown-linux-gnu
* R was compiled by
aarch64-unknown-linux-gnu-gcc (GCC) 14.2.0
GNU Fortran (GCC) 14.2.0
* running under: openEuler 24.03 (LTS)
* using session charset: UTF-8
* using option ‘--no-vignettes’
* checking for file ‘ScreenR/DESCRIPTION’ ... OK
* checking extension type ... Package
* this is package ‘ScreenR’ version ‘1.8.0’
* package encoding: UTF-8
* checking package namespace information ... OK
* checking package dependencies ... OK
* checking if this is a source package ... OK
* checking if there is a namespace ... OK
* checking for hidden files and directories ... OK
* checking for portable file names ... OK
* checking for sufficient/correct file permissions ... OK
* checking whether package ‘ScreenR’ can be installed ... OK
* checking installed package size ... OK
* checking package directory ... OK
* checking ‘build’ directory ... OK
* checking DESCRIPTION meta-information ... OK
* checking top-level files ... OK
* checking for left-over files ... OK
* checking index information ... OK
* checking package subdirectories ... OK
* checking code files for non-ASCII characters ... OK
* checking R files for syntax errors ... OK
* checking whether the package can be loaded ... OK
* checking whether the package can be loaded with stated dependencies ... OK
* checking whether the package can be unloaded cleanly ... OK
* checking whether the namespace can be loaded with stated dependencies ... OK
* checking whether the namespace can be unloaded cleanly ... OK
* checking loading without being on the library search path ... OK
* checking whether startup messages can be suppressed ... OK
* checking dependencies in R code ... OK
* checking S3 generic/method consistency ... OK
* checking replacement functions ... OK
* checking foreign function calls ... OK
* checking R code for possible problems ... OK
* checking Rd files ... NOTE
checkRd: (-1) annotation_table.Rd:25: Lost braces
25 | \url{https://cellecta.com/}{cellecta}}
| ^
* checking Rd metadata ... OK
* checking Rd cross-references ... OK
* checking for missing documentation entries ... OK
* checking for code/documentation mismatches ... OK
* checking Rd \usage sections ... NOTE
Documented arguments not in \usage in Rd file 'compute_camera.Rd':
‘...’
Documented arguments not in \usage in Rd file 'select_number_barcode.Rd':
‘...’
Documented arguments not in \usage in Rd file 'unique_gene_symbols.Rd':
‘...’
Functions with \usage entries need to have the appropriate \alias
entries, and all their arguments documented.
The \usage entries must correspond to syntactically valid R code.
See chapter ‘Writing R documentation files’ in the ‘Writing R
Extensions’ manual.
* checking Rd contents ... OK
* checking for unstated dependencies in examples ... OK
* checking contents of ‘data’ directory ... OK
* checking data for non-ASCII characters ... OK
* checking data for ASCII and uncompressed saves ... OK
* checking R/sysdata.rda ... OK
* checking files in ‘vignettes’ ... OK
* checking examples ... OK
Examples with CPU (user + system) or elapsed time > 5s
user system elapsed
plot_barcode_trend 49.704 0.651 50.452
plot_zscore_distribution 48.096 0.479 48.693
compute_metrics 26.172 1.254 27.489
find_zscore_hit 23.525 0.208 23.783
find_robust_zscore_hit 22.532 0.347 22.947
* checking for unstated dependencies in ‘tests’ ... OK
* checking tests ...
Running ‘testthat.R’
OK
* checking for unstated dependencies in vignettes ... OK
* checking package vignettes ... OK
* checking running R code from vignettes ... SKIPPED
* checking re-building of vignette outputs ... SKIPPED
* checking PDF version of manual ... OK
* DONE
Status: 2 NOTEs
See
‘/home/biocbuild/bbs-3.20-bioc/meat/ScreenR.Rcheck/00check.log’
for details.
ScreenR.Rcheck/00install.out
############################################################################## ############################################################################## ### ### Running command: ### ### /home/biocbuild/R/R/bin/R CMD INSTALL ScreenR ### ############################################################################## ############################################################################## * installing to library ‘/home/biocbuild/R/R-4.4.3/site-library’ * installing *source* package ‘ScreenR’ ... ** using staged installation ** R ** data ** inst ** byte-compile and prepare package for lazy loading ** help *** installing help indices *** copying figures ** building package indices ** installing vignettes ** testing if installed package can be loaded from temporary location ** testing if installed package can be loaded from final location ** testing if installed package keeps a record of temporary installation path * DONE (ScreenR)
ScreenR.Rcheck/tests/testthat.Rout
R version 4.4.3 (2025-02-28) -- "Trophy Case"
Copyright (C) 2025 The R Foundation for Statistical Computing
Platform: aarch64-unknown-linux-gnu
R is free software and comes with ABSOLUTELY NO WARRANTY.
You are welcome to redistribute it under certain conditions.
Type 'license()' or 'licence()' for distribution details.
R is a collaborative project with many contributors.
Type 'contributors()' for more information and
'citation()' on how to cite R or R packages in publications.
Type 'demo()' for some demos, 'help()' for on-line help, or
'help.start()' for an HTML browser interface to help.
Type 'q()' to quit R.
> library(testthat)
> library(ScreenR)
Welcome to ScreenR
--------------------------
See ?ScreenR for a list of
available functions.
Enjoy!
>
> test_check("ScreenR")
ScreenR count table containing:
5320 rows
15 columns
ScreenR annotation table containing:
5320 rows
5 columns
ScreenR normalized count table containing:
5320 rows
15 columns
ScreenR normalized data table containing:
74480 rows
9 columns
ScreenR annotation table containing:
5320 rows
5 columns
ScreenR annotation table containing:
5320 rows
5 columns
ScreenR count table containing:
5320 rows
15 columns
ScreenR count table containing:
5320 rows
15 columns
ScreenR normalized count table containing:
5320 rows
15 columns
ScreenR normalized count table containing:
5320 rows
15 columns
ScreenR normalized data table containing:
74480 rows
9 columns
ScreenR normalized data table containing:
74480 rows
9 columns
Using classic mode.
[ FAIL 0 | WARN 253 | SKIP 0 | PASS 64 ]
[ FAIL 0 | WARN 253 | SKIP 0 | PASS 64 ]
>
> proc.time()
user system elapsed
32.087 0.513 32.655
ScreenR.Rcheck/ScreenR-Ex.timings
| name | user | system | elapsed | |
| barcode_lost | 0.161 | 0.012 | 0.173 | |
| compute_data_table | 0.245 | 0.012 | 0.258 | |
| compute_explained_variance | 0.026 | 0.000 | 0.025 | |
| compute_metrics | 26.172 | 1.254 | 27.489 | |
| compute_slope | 0.054 | 0.000 | 0.055 | |
| count_mapped_reads | 0.04 | 0.00 | 0.04 | |
| create_edger_obj | 0.027 | 0.000 | 0.027 | |
| create_screenr_object | 0.054 | 0.000 | 0.054 | |
| filter_by_slope | 0.159 | 0.000 | 0.158 | |
| filter_by_variance | 1.465 | 0.008 | 1.475 | |
| find_camera_hit | 1.602 | 0.000 | 1.605 | |
| find_common_hit | 0.042 | 0.000 | 0.042 | |
| find_roast_hit | 2.468 | 0.008 | 2.481 | |
| find_robust_zscore_hit | 22.532 | 0.347 | 22.947 | |
| find_zscore_hit | 23.525 | 0.208 | 23.783 | |
| get_annotation_table | 0.02 | 0.00 | 0.02 | |
| get_count_table | 0.102 | 0.000 | 0.102 | |
| get_data_table | 0.033 | 0.000 | 0.033 | |
| get_groups | 0.001 | 0.000 | 0.000 | |
| get_normalized_count_table | 0.052 | 0.000 | 0.052 | |
| get_replicates | 0 | 0 | 0 | |
| mapped_reads | 0.062 | 0.004 | 0.065 | |
| normalize_data | 0.057 | 0.000 | 0.056 | |
| plot_barcode_hit | 1.846 | 0.015 | 1.865 | |
| plot_barcode_lost | 0.504 | 0.005 | 0.510 | |
| plot_barcode_lost_for_gene | 2.029 | 0.007 | 2.042 | |
| plot_barcode_trend | 49.704 | 0.651 | 50.452 | |
| plot_boxplot | 0.444 | 0.000 | 0.445 | |
| plot_common_hit | 0.262 | 0.000 | 0.265 | |
| plot_explained_variance | 0.487 | 0.004 | 0.492 | |
| plot_mapped_reads | 0.217 | 0.000 | 0.217 | |
| plot_mapped_reads_distribution | 1.958 | 0.000 | 1.962 | |
| plot_mds | 0.424 | 0.000 | 0.425 | |
| plot_trend | 1.867 | 0.004 | 1.875 | |
| plot_zscore_distribution | 48.096 | 0.479 | 48.693 | |
| remove_all_zero_row | 0.014 | 0.000 | 0.014 | |
| set_annotation_table | 0.157 | 0.000 | 0.157 | |
| set_count_table | 0.174 | 0.000 | 0.175 | |
| set_data_table | 0.153 | 0.000 | 0.153 | |
| set_groups | 0.159 | 0.000 | 0.159 | |
| set_normalized_count_table | 0.214 | 0.000 | 0.214 | |
| set_replicates | 0.163 | 0.004 | 0.167 | |