Back to Multiple platform build/check report for BioC 3.20:   simplified   long
ABCDEFGHIJKLMNOPQR[S]TUVWXYZ

This page was generated on 2025-02-06 12:09 -0500 (Thu, 06 Feb 2025).

HostnameOSArch (*)R versionInstalled pkgs
nebbiolo2Linux (Ubuntu 24.04.1 LTS)x86_644.4.2 (2024-10-31) -- "Pile of Leaves" 4753
palomino8Windows Server 2022 Datacenterx644.4.2 (2024-10-31 ucrt) -- "Pile of Leaves" 4501
merida1macOS 12.7.5 Montereyx86_644.4.2 (2024-10-31) -- "Pile of Leaves" 4524
kjohnson1macOS 13.6.6 Venturaarm644.4.2 (2024-10-31) -- "Pile of Leaves" 4476
taishanLinux (openEuler 24.03 LTS)aarch644.4.2 (2024-10-31) -- "Pile of Leaves" 4407
Click on any hostname to see more info about the system (e.g. compilers)      (*) as reported by 'uname -p', except on Windows and Mac OS X

Package 1902/2289HostnameOS / ArchINSTALLBUILDCHECKBUILD BIN
ScreenR 1.8.0  (landing page)
Emanuel Michele Soda
Snapshot Date: 2025-02-03 13:00 -0500 (Mon, 03 Feb 2025)
git_url: https://git.bioconductor.org/packages/ScreenR
git_branch: RELEASE_3_20
git_last_commit: 5c07e14
git_last_commit_date: 2024-10-29 11:12:15 -0500 (Tue, 29 Oct 2024)
nebbiolo2Linux (Ubuntu 24.04.1 LTS) / x86_64  OK    OK    OK  UNNEEDED, same version is already published
palomino8Windows Server 2022 Datacenter / x64  OK    OK    OK    OK  UNNEEDED, same version is already published
merida1macOS 12.7.5 Monterey / x86_64  OK    OK    OK    NA  
kjohnson1macOS 13.6.6 Ventura / arm64  OK    OK    OK    OK  UNNEEDED, same version is already published
taishanLinux (openEuler 24.03 LTS) / aarch64  OK    OK    OK  


CHECK results for ScreenR on merida1

To the developers/maintainers of the ScreenR package:
- Allow up to 24 hours (and sometimes 48 hours) for your latest push to git@git.bioconductor.org:packages/ScreenR.git to reflect on this report. See Troubleshooting Build Report for more information.
- Use the following Renviron settings to reproduce errors and warnings.
- If 'R CMD check' started to fail recently on the Linux builder(s) over a missing dependency, add the missing dependency to 'Suggests:' in your DESCRIPTION file. See Renviron.bioc for more information.

raw results


Summary

Package: ScreenR
Version: 1.8.0
Command: /Library/Frameworks/R.framework/Resources/bin/R CMD check --install=check:ScreenR.install-out.txt --library=/Library/Frameworks/R.framework/Resources/library --no-vignettes --timings ScreenR_1.8.0.tar.gz
StartedAt: 2025-02-04 09:52:24 -0500 (Tue, 04 Feb 2025)
EndedAt: 2025-02-04 10:01:15 -0500 (Tue, 04 Feb 2025)
EllapsedTime: 531.2 seconds
RetCode: 0
Status:   OK  
CheckDir: ScreenR.Rcheck
Warnings: 0

Command output

##############################################################################
##############################################################################
###
### Running command:
###
###   /Library/Frameworks/R.framework/Resources/bin/R CMD check --install=check:ScreenR.install-out.txt --library=/Library/Frameworks/R.framework/Resources/library --no-vignettes --timings ScreenR_1.8.0.tar.gz
###
##############################################################################
##############################################################################


* using log directory ‘/Users/biocbuild/bbs-3.20-bioc/meat/ScreenR.Rcheck’
* using R version 4.4.2 (2024-10-31)
* using platform: x86_64-apple-darwin20
* R was compiled by
    Apple clang version 14.0.0 (clang-1400.0.29.202)
    GNU Fortran (GCC) 12.2.0
* running under: macOS Monterey 12.7.6
* using session charset: UTF-8
* using option ‘--no-vignettes’
* checking for file ‘ScreenR/DESCRIPTION’ ... OK
* checking extension type ... Package
* this is package ‘ScreenR’ version ‘1.8.0’
* package encoding: UTF-8
* checking package namespace information ... OK
* checking package dependencies ... OK
* checking if this is a source package ... OK
* checking if there is a namespace ... OK
* checking for hidden files and directories ... OK
* checking for portable file names ... OK
* checking for sufficient/correct file permissions ... OK
* checking whether package ‘ScreenR’ can be installed ... OK
* checking installed package size ... OK
* checking package directory ... OK
* checking ‘build’ directory ... OK
* checking DESCRIPTION meta-information ... OK
* checking top-level files ... OK
* checking for left-over files ... OK
* checking index information ... OK
* checking package subdirectories ... OK
* checking code files for non-ASCII characters ... OK
* checking R files for syntax errors ... OK
* checking whether the package can be loaded ... OK
* checking whether the package can be loaded with stated dependencies ... OK
* checking whether the package can be unloaded cleanly ... OK
* checking whether the namespace can be loaded with stated dependencies ... OK
* checking whether the namespace can be unloaded cleanly ... OK
* checking whether startup messages can be suppressed ... OK
* checking dependencies in R code ... OK
* checking S3 generic/method consistency ... OK
* checking replacement functions ... OK
* checking foreign function calls ... OK
* checking R code for possible problems ... OK
* checking Rd files ... NOTE
checkRd: (-1) annotation_table.Rd:25: Lost braces
    25 |                  \url{https://cellecta.com/}{cellecta}}
       |                                             ^
* checking Rd metadata ... OK
* checking Rd cross-references ... OK
* checking for missing documentation entries ... OK
* checking for code/documentation mismatches ... OK
* checking Rd \usage sections ... NOTE
Documented arguments not in \usage in Rd file 'compute_camera.Rd':
  ‘...’

Documented arguments not in \usage in Rd file 'select_number_barcode.Rd':
  ‘...’

Documented arguments not in \usage in Rd file 'unique_gene_symbols.Rd':
  ‘...’

Functions with \usage entries need to have the appropriate \alias
entries, and all their arguments documented.
The \usage entries must correspond to syntactically valid R code.
See chapter ‘Writing R documentation files’ in the ‘Writing R
Extensions’ manual.
* checking Rd contents ... OK
* checking for unstated dependencies in examples ... OK
* checking contents of ‘data’ directory ... OK
* checking data for non-ASCII characters ... OK
* checking data for ASCII and uncompressed saves ... OK
* checking R/sysdata.rda ... OK
* checking files in ‘vignettes’ ... OK
* checking examples ... OK
Examples with CPU (user + system) or elapsed time > 5s
                             user system elapsed
plot_barcode_trend         77.271  3.423 100.591
plot_zscore_distribution   75.820  4.537  89.708
compute_metrics            42.461  2.216  49.793
find_zscore_hit            38.077  3.304  47.295
find_robust_zscore_hit     37.360  3.249  44.901
plot_trend                  3.216  2.666   7.024
plot_barcode_lost_for_gene  3.913  0.115   5.019
* checking for unstated dependencies in ‘tests’ ... OK
* checking tests ...
  Running ‘testthat.R’
 OK
* checking for unstated dependencies in vignettes ... OK
* checking package vignettes ... OK
* checking running R code from vignettes ... SKIPPED
* checking re-building of vignette outputs ... SKIPPED
* checking PDF version of manual ... OK
* DONE

Status: 2 NOTEs
See
  ‘/Users/biocbuild/bbs-3.20-bioc/meat/ScreenR.Rcheck/00check.log’
for details.


Installation output

ScreenR.Rcheck/00install.out

##############################################################################
##############################################################################
###
### Running command:
###
###   /Library/Frameworks/R.framework/Resources/bin/R CMD INSTALL ScreenR
###
##############################################################################
##############################################################################


* installing to library ‘/Library/Frameworks/R.framework/Versions/4.4-x86_64/Resources/library’
* installing *source* package ‘ScreenR’ ...
** using staged installation
** R
** data
** inst
** byte-compile and prepare package for lazy loading
** help
*** installing help indices
*** copying figures
** building package indices
** installing vignettes
** testing if installed package can be loaded from temporary location
** testing if installed package can be loaded from final location
** testing if installed package keeps a record of temporary installation path
* DONE (ScreenR)

Tests output

ScreenR.Rcheck/tests/testthat.Rout


R version 4.4.2 (2024-10-31) -- "Pile of Leaves"
Copyright (C) 2024 The R Foundation for Statistical Computing
Platform: x86_64-apple-darwin20

R is free software and comes with ABSOLUTELY NO WARRANTY.
You are welcome to redistribute it under certain conditions.
Type 'license()' or 'licence()' for distribution details.

R is a collaborative project with many contributors.
Type 'contributors()' for more information and
'citation()' on how to cite R or R packages in publications.

Type 'demo()' for some demos, 'help()' for on-line help, or
'help.start()' for an HTML browser interface to help.
Type 'q()' to quit R.

> library(testthat)
> library(ScreenR)

Welcome to ScreenR
--------------------------

See ?ScreenR for a list of
available functions.

Enjoy!

> 
> test_check("ScreenR")
ScreenR count table containing:
 5320 rows
 15 columns
ScreenR annotation table containing:
 5320 rows
 5 columns
ScreenR normalized count table containing:
 5320 rows
 15 columns
ScreenR normalized data table containing:
 74480 rows
 9 columns
ScreenR annotation table containing:
 5320 rows
 5 columns
ScreenR annotation table containing:
 5320 rows
 5 columns
ScreenR count table containing:
 5320 rows
 15 columns
ScreenR count table containing:
 5320 rows
 15 columns
ScreenR normalized count table containing:
 5320 rows
 15 columns
ScreenR normalized count table containing:
 5320 rows
 15 columns
ScreenR normalized data table containing:
 74480 rows
 9 columns
ScreenR normalized data table containing:
 74480 rows
 9 columns
Using classic mode.
[ FAIL 0 | WARN 253 | SKIP 0 | PASS 64 ]

[ FAIL 0 | WARN 253 | SKIP 0 | PASS 64 ]
> 
> proc.time()
   user  system elapsed 
 56.157   1.650  60.909 

Example timings

ScreenR.Rcheck/ScreenR-Ex.timings

nameusersystemelapsed
barcode_lost0.3410.0650.461
compute_data_table0.5350.0190.659
compute_explained_variance0.0340.0040.046
compute_metrics42.461 2.21649.793
compute_slope0.0890.0020.100
count_mapped_reads0.1350.0350.194
create_edger_obj0.0390.0030.052
create_screenr_object0.0980.0030.254
filter_by_slope0.2320.0060.388
filter_by_variance2.2670.0402.622
find_camera_hit2.3940.0472.783
find_common_hit0.0680.0020.083
find_roast_hit3.8420.0794.563
find_robust_zscore_hit37.360 3.24944.901
find_zscore_hit38.077 3.30447.295
get_annotation_table0.0310.0010.033
get_count_table0.1670.0250.201
get_data_table0.0530.0010.057
get_groups0.0010.0010.002
get_normalized_count_table0.0860.0020.093
get_replicates0.0000.0000.001
mapped_reads0.1630.0350.205
normalize_data0.0950.0010.101
plot_barcode_hit2.2520.0422.792
plot_barcode_lost0.9250.2041.516
plot_barcode_lost_for_gene3.9130.1155.019
plot_barcode_trend 77.271 3.423100.591
plot_boxplot0.7520.0160.977
plot_common_hit0.4100.0060.519
plot_explained_variance0.7660.0150.971
plot_mapped_reads0.4320.0390.590
plot_mapped_reads_distribution3.3610.2184.445
plot_mds0.6280.0230.777
plot_trend3.2162.6667.024
plot_zscore_distribution75.820 4.53789.708
remove_all_zero_row0.0240.0010.028
set_annotation_table0.2700.0040.283
set_count_table0.2860.0310.340
set_data_table0.2690.0040.294
set_groups0.2600.0030.267
set_normalized_count_table0.3810.0140.412
set_replicates0.2640.0030.276