| Back to Multiple platform build/check report for BioC 3.20: simplified long | 
  | 
This page was generated on 2024-11-20 12:06 -0500 (Wed, 20 Nov 2024).
| Hostname | OS | Arch (*) | R version | Installed pkgs | 
|---|---|---|---|---|
| teran2 | Linux (Ubuntu 24.04.1 LTS) | x86_64 | 4.4.2 (2024-10-31) -- "Pile of Leaves" | 4481 | 
| nebbiolo2 | Linux (Ubuntu 24.04.1 LTS) | x86_64 | 4.4.2 (2024-10-31) -- "Pile of Leaves" | 4479 | 
| palomino8 | Windows Server 2022 Datacenter | x64 | 4.4.2 (2024-10-31 ucrt) -- "Pile of Leaves" | 4359 | 
| lconway | macOS 12.7.1 Monterey | x86_64 | 4.4.1 (2024-06-14) -- "Race for Your Life" | 4539 | 
| kunpeng2 | Linux (openEuler 22.03 LTS-SP1) | aarch64 | 4.4.1 (2024-06-14) -- "Race for Your Life" | 4493 | 
| Click on any hostname to see more info about the system (e.g. compilers) (*) as reported by 'uname -p', except on Windows and Mac OS X | ||||
| Package 1698/2289 | Hostname | OS / Arch | INSTALL | BUILD | CHECK | BUILD BIN | ||||||||
| ReactomeGSA 1.20.0  (landing page) Johannes Griss 
  | teran2 | Linux (Ubuntu 24.04.1 LTS) / x86_64 | OK | OK | OK | |||||||||
| nebbiolo2 | Linux (Ubuntu 24.04.1 LTS) / x86_64 | OK | OK | OK | ||||||||||
| palomino8 | Windows Server 2022 Datacenter / x64 | OK | OK | OK | OK | |||||||||
| lconway | macOS 12.7.1 Monterey / x86_64 | OK | OK | OK | OK | |||||||||
| kunpeng2 | Linux (openEuler 22.03 LTS-SP1) / aarch64 | OK | OK | OK | ||||||||||
| 
To the developers/maintainers of the ReactomeGSA package: - Allow up to 24 hours (and sometimes 48 hours) for your latest push to git@git.bioconductor.org:packages/ReactomeGSA.git to reflect on this report. See Troubleshooting Build Report for more information. - Use the following Renviron settings to reproduce errors and warnings. - If 'R CMD check' started to fail recently on the Linux builder(s) over a missing dependency, add the missing dependency to 'Suggests:' in your DESCRIPTION file. See Renviron.bioc for more information.  | 
| Package: ReactomeGSA | 
| Version: 1.20.0 | 
| Command: /Library/Frameworks/R.framework/Resources/bin/R CMD check --install=check:ReactomeGSA.install-out.txt --library=/Library/Frameworks/R.framework/Resources/library --no-vignettes --timings ReactomeGSA_1.20.0.tar.gz | 
| StartedAt: 2024-11-20 01:42:31 -0500 (Wed, 20 Nov 2024) | 
| EndedAt: 2024-11-20 01:57:42 -0500 (Wed, 20 Nov 2024) | 
| EllapsedTime: 911.4 seconds | 
| RetCode: 0 | 
| Status: OK | 
| CheckDir: ReactomeGSA.Rcheck | 
| Warnings: 0 | 
##############################################################################
##############################################################################
###
### Running command:
###
###   /Library/Frameworks/R.framework/Resources/bin/R CMD check --install=check:ReactomeGSA.install-out.txt --library=/Library/Frameworks/R.framework/Resources/library --no-vignettes --timings ReactomeGSA_1.20.0.tar.gz
###
##############################################################################
##############################################################################
* using log directory ‘/Users/biocbuild/bbs-3.20-bioc/meat/ReactomeGSA.Rcheck’
* using R version 4.4.1 (2024-06-14)
* using platform: x86_64-apple-darwin20
* R was compiled by
    Apple clang version 14.0.0 (clang-1400.0.29.202)
    GNU Fortran (GCC) 12.2.0
* running under: macOS Monterey 12.7.6
* using session charset: UTF-8
* using option ‘--no-vignettes’
* checking for file ‘ReactomeGSA/DESCRIPTION’ ... OK
* checking extension type ... Package
* this is package ‘ReactomeGSA’ version ‘1.20.0’
* package encoding: UTF-8
* checking package namespace information ... OK
* checking package dependencies ...Warning: unable to access index for repository https://CRAN.R-project.org/src/contrib:
  cannot open URL 'https://CRAN.R-project.org/src/contrib/PACKAGES'
 OK
* checking if this is a source package ... OK
* checking if there is a namespace ... OK
* checking for hidden files and directories ... OK
* checking for portable file names ... OK
* checking for sufficient/correct file permissions ... OK
* checking whether package ‘ReactomeGSA’ can be installed ... OK
* checking installed package size ... OK
* checking package directory ... OK
* checking ‘build’ directory ... OK
* checking DESCRIPTION meta-information ... OK
* checking top-level files ... OK
* checking for left-over files ... OK
* checking index information ... OK
* checking package subdirectories ... OK
* checking code files for non-ASCII characters ... OK
* checking R files for syntax errors ... OK
* checking whether the package can be loaded ... OK
* checking whether the package can be loaded with stated dependencies ... OK
* checking whether the package can be unloaded cleanly ... OK
* checking whether the namespace can be loaded with stated dependencies ... OK
* checking whether the namespace can be unloaded cleanly ... OK
* checking whether startup messages can be suppressed ... OK
* checking dependencies in R code ... OK
* checking S3 generic/method consistency ... OK
* checking replacement functions ... OK
* checking foreign function calls ... OK
* checking R code for possible problems ... NOTE
plot_correlations,ReactomeAnalysisResult: no visible binding for global
  variable ‘combined_sig’
plot_correlations,ReactomeAnalysisResult: no visible binding for global
  variable ‘alpha’
plot_gsva_pathway,ReactomeAnalysisResult: no visible binding for global
  variable ‘cluster_id’
plot_gsva_pathway,ReactomeAnalysisResult: no visible binding for global
  variable ‘expr’
plot_gsva_pca,ReactomeAnalysisResult: no visible binding for global
  variable ‘gsva_result’
plot_gsva_pca,ReactomeAnalysisResult: no visible binding for global
  variable ‘PC1’
plot_gsva_pca,ReactomeAnalysisResult: no visible binding for global
  variable ‘PC2’
plot_heatmap,ReactomeAnalysisResult: no visible global function
  definition for ‘desc’
plot_heatmap,ReactomeAnalysisResult: no visible binding for global
  variable ‘n_sig’
plot_heatmap,ReactomeAnalysisResult: no visible binding for global
  variable ‘dataset’
plot_heatmap,ReactomeAnalysisResult: no visible binding for global
  variable ‘Name’
plot_volcano,ReactomeAnalysisResult: no visible binding for global
  variable ‘av_foldchange’
plot_volcano,ReactomeAnalysisResult: no visible binding for global
  variable ‘FDR’
Undefined global functions or variables:
  FDR Name PC1 PC2 alpha av_foldchange cluster_id combined_sig dataset
  desc expr gsva_result n_sig
* checking Rd files ... OK
* checking Rd metadata ... OK
* checking Rd cross-references ... OK
* checking for missing documentation entries ... OK
* checking for code/documentation mismatches ... OK
* checking Rd \usage sections ... OK
* checking Rd contents ... OK
* checking for unstated dependencies in examples ... OK
* checking files in ‘vignettes’ ... OK
* checking examples ... OK
Examples with CPU (user + system) or elapsed time > 5s
                                                  user system elapsed
plot_gsva_heatmap                               28.591  1.989  63.758
plot_gsva_pathway-ReactomeAnalysisResult-method 28.258  1.769  66.549
plot_gsva_heatmap-ReactomeAnalysisResult-method 27.289  1.692  61.476
plot_gsva_pathway                               25.042  1.757  60.643
analyse_sc_clusters-Seurat-method               24.855  1.844  66.124
analyse_sc_clusters-SingleCellExperiment-method 24.901  1.607  59.436
plot_gsva_pca-ReactomeAnalysisResult-method     24.154  1.540  59.815
analyse_sc_clusters                             22.690  1.795  61.533
plot_gsva_pca                                   22.453  1.459  57.057
ReactomeAnalysisRequest                          4.117  0.320   6.647
perform_reactome_analysis                        2.249  0.245  16.086
load_public_dataset                              1.207  0.106  39.848
* checking for unstated dependencies in ‘tests’ ... OK
* checking tests ...
  Running ‘testthat.R’
 OK
* checking for unstated dependencies in vignettes ... OK
* checking package vignettes ... OK
* checking running R code from vignettes ... SKIPPED
* checking re-building of vignette outputs ... SKIPPED
* checking PDF version of manual ... OK
* DONE
Status: 1 NOTE
See
  ‘/Users/biocbuild/bbs-3.20-bioc/meat/ReactomeGSA.Rcheck/00check.log’
for details.
ReactomeGSA.Rcheck/00install.out
############################################################################## ############################################################################## ### ### Running command: ### ### /Library/Frameworks/R.framework/Resources/bin/R CMD INSTALL ReactomeGSA ### ############################################################################## ############################################################################## * installing to library ‘/Library/Frameworks/R.framework/Versions/4.4-x86_64/Resources/library’ * installing *source* package ‘ReactomeGSA’ ... ** using staged installation ** R ** inst ** byte-compile and prepare package for lazy loading in method for ‘analyse_sc_clusters’ with signature ‘object="Seurat"’: no definition for class “Seurat” in method for ‘analyse_sc_clusters’ with signature ‘object="SingleCellExperiment"’: no definition for class “SingleCellExperiment” in method for ‘add_dataset’ with signature ‘request="ReactomeAnalysisRequest",expression_values="EList"’: no definition for class “EList” in method for ‘add_dataset’ with signature ‘request="ReactomeAnalysisRequest",expression_values="DGEList"’: no definition for class “DGEList” ** help *** installing help indices ** building package indices ** installing vignettes ** testing if installed package can be loaded from temporary location ** testing if installed package can be loaded from final location ** testing if installed package keeps a record of temporary installation path * DONE (ReactomeGSA)
ReactomeGSA.Rcheck/tests/testthat.Rout
R version 4.4.1 (2024-06-14) -- "Race for Your Life"
Copyright (C) 2024 The R Foundation for Statistical Computing
Platform: x86_64-apple-darwin20
R is free software and comes with ABSOLUTELY NO WARRANTY.
You are welcome to redistribute it under certain conditions.
Type 'license()' or 'licence()' for distribution details.
R is a collaborative project with many contributors.
Type 'contributors()' for more information and
'citation()' on how to cite R or R packages in publications.
Type 'demo()' for some demos, 'help()' for on-line help, or
'help.start()' for an HTML browser interface to help.
Type 'q()' to quit R.
> library(testthat)
> library(ReactomeGSA)
> 
> test_check("ReactomeGSA")
[ FAIL 0 | WARN 0 | SKIP 0 | PASS 17 ]
> 
> proc.time()
   user  system elapsed 
  1.280   0.144   1.441 
ReactomeGSA.Rcheck/ReactomeGSA-Ex.timings
| name | user | system | elapsed | |
| ReactomeAnalysisRequest | 4.117 | 0.320 | 6.647 | |
| ReactomeAnalysisResult-class | 1.090 | 0.016 | 1.224 | |
| add_dataset-ReactomeAnalysisRequest-DGEList-method | 0.626 | 0.052 | 0.681 | |
| add_dataset-ReactomeAnalysisRequest-EList-method | 0.512 | 0.040 | 0.554 | |
| add_dataset-ReactomeAnalysisRequest-ExpressionSet-method | 0.505 | 0.047 | 0.552 | |
| add_dataset-ReactomeAnalysisRequest-data.frame-method | 0.737 | 0.049 | 0.789 | |
| add_dataset-ReactomeAnalysisRequest-matrix-method | 0.498 | 0.056 | 0.556 | |
| add_dataset | 0.487 | 0.035 | 0.524 | |
| analyse_sc_clusters-Seurat-method | 24.855 | 1.844 | 66.124 | |
| analyse_sc_clusters-SingleCellExperiment-method | 24.901 | 1.607 | 59.436 | |
| analyse_sc_clusters | 22.690 | 1.795 | 61.533 | |
| find_public_datasets | 0.072 | 0.013 | 2.707 | |
| get_public_species | 0.019 | 0.003 | 0.282 | |
| get_reactome_data_types | 0.037 | 0.005 | 0.536 | |
| get_reactome_methods | 0.064 | 0.008 | 0.861 | |
| get_result-ReactomeAnalysisResult-method | 0.138 | 0.007 | 0.144 | |
| get_result | 0.138 | 0.007 | 0.145 | |
| load_public_dataset | 1.207 | 0.106 | 39.848 | |
| names-ReactomeAnalysisResult-method | 0.184 | 0.095 | 0.279 | |
| open_reactome-ReactomeAnalysisResult-method | 0.159 | 0.006 | 0.166 | |
| open_reactome | 0.149 | 0.006 | 0.156 | |
| pathways-ReactomeAnalysisResult-method | 1.044 | 0.011 | 1.058 | |
| pathways | 1.063 | 0.011 | 1.119 | |
| perform_reactome_analysis | 2.249 | 0.245 | 16.086 | |
| plot_correlations-ReactomeAnalysisResult-method | 1.096 | 0.053 | 1.154 | |
| plot_correlations | 1.073 | 0.012 | 1.091 | |
| plot_gsva_heatmap-ReactomeAnalysisResult-method | 27.289 | 1.692 | 61.476 | |
| plot_gsva_heatmap | 28.591 | 1.989 | 63.758 | |
| plot_gsva_pathway-ReactomeAnalysisResult-method | 28.258 | 1.769 | 66.549 | |
| plot_gsva_pathway | 25.042 | 1.757 | 60.643 | |
| plot_gsva_pca-ReactomeAnalysisResult-method | 24.154 | 1.540 | 59.815 | |
| plot_gsva_pca | 22.453 | 1.459 | 57.057 | |
| plot_heatmap-ReactomeAnalysisResult-method | 1.525 | 0.119 | 1.647 | |
| plot_heatmap | 1.241 | 0.015 | 1.258 | |
| plot_volcano-ReactomeAnalysisResult-method | 0.150 | 0.007 | 0.157 | |
| plot_volcano | 0.165 | 0.007 | 0.172 | |
| print-ReactomeAnalysisRequest-method | 0.001 | 0.001 | 0.001 | |
| print-ReactomeAnalysisResult-method | 0.163 | 0.017 | 0.181 | |
| reactome_links-ReactomeAnalysisResult-method | 0.149 | 0.006 | 0.156 | |
| reactome_links | 0.144 | 0.007 | 0.151 | |
| result_types-ReactomeAnalysisResult-method | 0.145 | 0.006 | 0.152 | |
| result_types | 0.154 | 0.007 | 0.162 | |
| set_method-ReactomeAnalysisRequest-method | 0.001 | 0.001 | 0.003 | |
| set_method | 0.002 | 0.001 | 0.002 | |
| set_parameters-ReactomeAnalysisRequest-method | 0.001 | 0.001 | 0.001 | |
| set_parameters | 0.001 | 0.000 | 0.001 | |
| show-ReactomeAnalysisRequest-method | 0.001 | 0.000 | 0.001 | |
| show-ReactomeAnalysisResult-method | 0.148 | 0.007 | 0.154 | |