| Back to Multiple platform build/check report for BioC 3.20: simplified long |
|
This page was generated on 2025-04-02 19:29 -0400 (Wed, 02 Apr 2025).
| Hostname | OS | Arch (*) | R version | Installed pkgs |
|---|---|---|---|---|
| nebbiolo2 | Linux (Ubuntu 24.04.1 LTS) | x86_64 | 4.4.3 (2025-02-28) -- "Trophy Case" | 4764 |
| palomino8 | Windows Server 2022 Datacenter | x64 | 4.4.3 (2025-02-28 ucrt) -- "Trophy Case" | 4495 |
| merida1 | macOS 12.7.5 Monterey | x86_64 | 4.4.3 (2025-02-28) -- "Trophy Case" | 4522 |
| kjohnson1 | macOS 13.6.6 Ventura | arm64 | 4.4.3 (2025-02-28) -- "Trophy Case" | 4449 |
| taishan | Linux (openEuler 24.03 LTS) | aarch64 | 4.4.3 (2025-02-28) -- "Trophy Case" | 4426 |
| Click on any hostname to see more info about the system (e.g. compilers) (*) as reported by 'uname -p', except on Windows and Mac OS X | ||||
| Package 1698/2289 | Hostname | OS / Arch | INSTALL | BUILD | CHECK | BUILD BIN | ||||||||
| ReactomeGSA 1.20.0 (landing page) Johannes Griss
| nebbiolo2 | Linux (Ubuntu 24.04.1 LTS) / x86_64 | OK | OK | OK | |||||||||
| palomino8 | Windows Server 2022 Datacenter / x64 | OK | OK | OK | OK | |||||||||
| merida1 | macOS 12.7.5 Monterey / x86_64 | OK | OK | OK | OK | |||||||||
| kjohnson1 | macOS 13.6.6 Ventura / arm64 | OK | OK | OK | OK | |||||||||
| taishan | Linux (openEuler 24.03 LTS) / aarch64 | OK | OK | OK | ||||||||||
|
To the developers/maintainers of the ReactomeGSA package: - Allow up to 24 hours (and sometimes 48 hours) for your latest push to git@git.bioconductor.org:packages/ReactomeGSA.git to reflect on this report. See Troubleshooting Build Report for more information. - Use the following Renviron settings to reproduce errors and warnings. - If 'R CMD check' started to fail recently on the Linux builder(s) over a missing dependency, add the missing dependency to 'Suggests:' in your DESCRIPTION file. See Renviron.bioc for more information. |
| Package: ReactomeGSA |
| Version: 1.20.0 |
| Command: /home/biocbuild/bbs-3.20-bioc/R/bin/R CMD check --install=check:ReactomeGSA.install-out.txt --library=/home/biocbuild/bbs-3.20-bioc/R/site-library --timings ReactomeGSA_1.20.0.tar.gz |
| StartedAt: 2025-04-01 01:23:32 -0400 (Tue, 01 Apr 2025) |
| EndedAt: 2025-04-01 01:39:16 -0400 (Tue, 01 Apr 2025) |
| EllapsedTime: 944.1 seconds |
| RetCode: 0 |
| Status: OK |
| CheckDir: ReactomeGSA.Rcheck |
| Warnings: 0 |
##############################################################################
##############################################################################
###
### Running command:
###
### /home/biocbuild/bbs-3.20-bioc/R/bin/R CMD check --install=check:ReactomeGSA.install-out.txt --library=/home/biocbuild/bbs-3.20-bioc/R/site-library --timings ReactomeGSA_1.20.0.tar.gz
###
##############################################################################
##############################################################################
* using log directory ‘/home/biocbuild/bbs-3.20-bioc/meat/ReactomeGSA.Rcheck’
* using R version 4.4.3 (2025-02-28)
* using platform: x86_64-pc-linux-gnu
* R was compiled by
gcc (Ubuntu 13.3.0-6ubuntu2~24.04) 13.3.0
GNU Fortran (Ubuntu 13.3.0-6ubuntu2~24.04) 13.3.0
* running under: Ubuntu 24.04.2 LTS
* using session charset: UTF-8
* checking for file ‘ReactomeGSA/DESCRIPTION’ ... OK
* checking extension type ... Package
* this is package ‘ReactomeGSA’ version ‘1.20.0’
* package encoding: UTF-8
* checking package namespace information ... OK
* checking package dependencies ... OK
* checking if this is a source package ... OK
* checking if there is a namespace ... OK
* checking for hidden files and directories ... OK
* checking for portable file names ... OK
* checking for sufficient/correct file permissions ... OK
* checking whether package ‘ReactomeGSA’ can be installed ... OK
* checking installed package size ... OK
* checking package directory ... OK
* checking ‘build’ directory ... OK
* checking DESCRIPTION meta-information ... OK
* checking top-level files ... OK
* checking for left-over files ... OK
* checking index information ... OK
* checking package subdirectories ... OK
* checking code files for non-ASCII characters ... OK
* checking R files for syntax errors ... OK
* checking whether the package can be loaded ... OK
* checking whether the package can be loaded with stated dependencies ... OK
* checking whether the package can be unloaded cleanly ... OK
* checking whether the namespace can be loaded with stated dependencies ... OK
* checking whether the namespace can be unloaded cleanly ... OK
* checking loading without being on the library search path ... OK
* checking whether startup messages can be suppressed ... OK
* checking dependencies in R code ... OK
* checking S3 generic/method consistency ... OK
* checking replacement functions ... OK
* checking foreign function calls ... OK
* checking R code for possible problems ... NOTE
plot_correlations,ReactomeAnalysisResult: no visible binding for global
variable ‘combined_sig’
plot_correlations,ReactomeAnalysisResult: no visible binding for global
variable ‘alpha’
plot_gsva_pathway,ReactomeAnalysisResult: no visible binding for global
variable ‘cluster_id’
plot_gsva_pathway,ReactomeAnalysisResult: no visible binding for global
variable ‘expr’
plot_gsva_pca,ReactomeAnalysisResult: no visible binding for global
variable ‘gsva_result’
plot_gsva_pca,ReactomeAnalysisResult: no visible binding for global
variable ‘PC1’
plot_gsva_pca,ReactomeAnalysisResult: no visible binding for global
variable ‘PC2’
plot_heatmap,ReactomeAnalysisResult: no visible global function
definition for ‘desc’
plot_heatmap,ReactomeAnalysisResult: no visible binding for global
variable ‘n_sig’
plot_heatmap,ReactomeAnalysisResult: no visible binding for global
variable ‘dataset’
plot_heatmap,ReactomeAnalysisResult: no visible binding for global
variable ‘Name’
plot_volcano,ReactomeAnalysisResult: no visible binding for global
variable ‘av_foldchange’
plot_volcano,ReactomeAnalysisResult: no visible binding for global
variable ‘FDR’
Undefined global functions or variables:
FDR Name PC1 PC2 alpha av_foldchange cluster_id combined_sig dataset
desc expr gsva_result n_sig
* checking Rd files ... OK
* checking Rd metadata ... OK
* checking Rd cross-references ... OK
* checking for missing documentation entries ... OK
* checking for code/documentation mismatches ... OK
* checking Rd \usage sections ... OK
* checking Rd contents ... OK
* checking for unstated dependencies in examples ... OK
* checking files in ‘vignettes’ ... OK
* checking examples ... OK
Examples with CPU (user + system) or elapsed time > 5s
user system elapsed
analyse_sc_clusters-SingleCellExperiment-method 34.097 1.135 102.535
plot_gsva_heatmap-ReactomeAnalysisResult-method 32.371 0.791 63.988
plot_gsva_heatmap 31.777 0.505 61.561
analyse_sc_clusters-Seurat-method 30.651 1.141 62.867
plot_gsva_pathway-ReactomeAnalysisResult-method 31.392 0.396 62.437
analyse_sc_clusters 30.580 0.984 62.946
plot_gsva_pca-ReactomeAnalysisResult-method 31.098 0.376 62.142
plot_gsva_pca 30.914 0.401 61.999
plot_gsva_pathway 30.627 0.288 60.278
load_public_dataset 4.234 0.410 39.938
perform_reactome_analysis 2.819 0.344 16.063
find_public_datasets 0.494 0.034 5.189
* checking for unstated dependencies in ‘tests’ ... OK
* checking tests ...
Running ‘testthat.R’
OK
* checking for unstated dependencies in vignettes ... OK
* checking package vignettes ... OK
* checking re-building of vignette outputs ... OK
* checking PDF version of manual ... OK
* DONE
Status: 1 NOTE
See
‘/home/biocbuild/bbs-3.20-bioc/meat/ReactomeGSA.Rcheck/00check.log’
for details.
ReactomeGSA.Rcheck/00install.out
############################################################################## ############################################################################## ### ### Running command: ### ### /home/biocbuild/bbs-3.20-bioc/R/bin/R CMD INSTALL ReactomeGSA ### ############################################################################## ############################################################################## * installing to library ‘/home/biocbuild/bbs-3.20-bioc/R/site-library’ * installing *source* package ‘ReactomeGSA’ ... ** using staged installation ** R ** inst ** byte-compile and prepare package for lazy loading in method for ‘analyse_sc_clusters’ with signature ‘object="Seurat"’: no definition for class “Seurat” in method for ‘analyse_sc_clusters’ with signature ‘object="SingleCellExperiment"’: no definition for class “SingleCellExperiment” in method for ‘add_dataset’ with signature ‘request="ReactomeAnalysisRequest",expression_values="EList"’: no definition for class “EList” in method for ‘add_dataset’ with signature ‘request="ReactomeAnalysisRequest",expression_values="DGEList"’: no definition for class “DGEList” ** help *** installing help indices ** building package indices ** installing vignettes ** testing if installed package can be loaded from temporary location ** testing if installed package can be loaded from final location ** testing if installed package keeps a record of temporary installation path * DONE (ReactomeGSA)
ReactomeGSA.Rcheck/tests/testthat.Rout
R version 4.4.3 (2025-02-28) -- "Trophy Case"
Copyright (C) 2025 The R Foundation for Statistical Computing
Platform: x86_64-pc-linux-gnu
R is free software and comes with ABSOLUTELY NO WARRANTY.
You are welcome to redistribute it under certain conditions.
Type 'license()' or 'licence()' for distribution details.
R is a collaborative project with many contributors.
Type 'contributors()' for more information and
'citation()' on how to cite R or R packages in publications.
Type 'demo()' for some demos, 'help()' for on-line help, or
'help.start()' for an HTML browser interface to help.
Type 'q()' to quit R.
> library(testthat)
> library(ReactomeGSA)
>
> test_check("ReactomeGSA")
[ FAIL 0 | WARN 0 | SKIP 0 | PASS 17 ]
>
> proc.time()
user system elapsed
1.429 0.089 1.506
ReactomeGSA.Rcheck/ReactomeGSA-Ex.timings
| name | user | system | elapsed | |
| ReactomeAnalysisRequest | 4.298 | 0.218 | 4.518 | |
| ReactomeAnalysisResult-class | 1.388 | 0.036 | 1.425 | |
| add_dataset-ReactomeAnalysisRequest-DGEList-method | 0.523 | 0.027 | 0.551 | |
| add_dataset-ReactomeAnalysisRequest-EList-method | 0.542 | 0.001 | 0.543 | |
| add_dataset-ReactomeAnalysisRequest-ExpressionSet-method | 0.888 | 0.040 | 0.927 | |
| add_dataset-ReactomeAnalysisRequest-data.frame-method | 0.507 | 0.011 | 0.518 | |
| add_dataset-ReactomeAnalysisRequest-matrix-method | 0.508 | 0.006 | 0.515 | |
| add_dataset | 0.506 | 0.002 | 0.508 | |
| analyse_sc_clusters-Seurat-method | 30.651 | 1.141 | 62.867 | |
| analyse_sc_clusters-SingleCellExperiment-method | 34.097 | 1.135 | 102.535 | |
| analyse_sc_clusters | 30.580 | 0.984 | 62.946 | |
| find_public_datasets | 0.494 | 0.034 | 5.189 | |
| get_public_species | 0.170 | 0.004 | 0.594 | |
| get_reactome_data_types | 0.253 | 0.013 | 1.210 | |
| get_reactome_methods | 0.455 | 0.031 | 1.770 | |
| get_result-ReactomeAnalysisResult-method | 0.204 | 0.097 | 0.302 | |
| get_result | 0.190 | 0.015 | 0.204 | |
| load_public_dataset | 4.234 | 0.410 | 39.938 | |
| names-ReactomeAnalysisResult-method | 0.180 | 0.015 | 0.195 | |
| open_reactome-ReactomeAnalysisResult-method | 0.185 | 0.015 | 0.199 | |
| open_reactome | 0.185 | 0.026 | 0.211 | |
| pathways-ReactomeAnalysisResult-method | 1.913 | 0.462 | 2.375 | |
| pathways | 1.283 | 0.036 | 1.319 | |
| perform_reactome_analysis | 2.819 | 0.344 | 16.063 | |
| plot_correlations-ReactomeAnalysisResult-method | 1.348 | 0.039 | 1.388 | |
| plot_correlations | 1.318 | 0.055 | 1.373 | |
| plot_gsva_heatmap-ReactomeAnalysisResult-method | 32.371 | 0.791 | 63.988 | |
| plot_gsva_heatmap | 31.777 | 0.505 | 61.561 | |
| plot_gsva_pathway-ReactomeAnalysisResult-method | 31.392 | 0.396 | 62.437 | |
| plot_gsva_pathway | 30.627 | 0.288 | 60.278 | |
| plot_gsva_pca-ReactomeAnalysisResult-method | 31.098 | 0.376 | 62.142 | |
| plot_gsva_pca | 30.914 | 0.401 | 61.999 | |
| plot_heatmap-ReactomeAnalysisResult-method | 1.564 | 0.005 | 1.570 | |
| plot_heatmap | 1.643 | 0.003 | 1.646 | |
| plot_volcano-ReactomeAnalysisResult-method | 0.188 | 0.001 | 0.189 | |
| plot_volcano | 0.217 | 0.001 | 0.219 | |
| print-ReactomeAnalysisRequest-method | 0.001 | 0.000 | 0.001 | |
| print-ReactomeAnalysisResult-method | 0.174 | 0.001 | 0.175 | |
| reactome_links-ReactomeAnalysisResult-method | 0.168 | 0.003 | 0.171 | |
| reactome_links | 0.169 | 0.000 | 0.169 | |
| result_types-ReactomeAnalysisResult-method | 0.170 | 0.004 | 0.174 | |
| result_types | 0.170 | 0.007 | 0.177 | |
| set_method-ReactomeAnalysisRequest-method | 0.002 | 0.000 | 0.002 | |
| set_method | 0.002 | 0.000 | 0.001 | |
| set_parameters-ReactomeAnalysisRequest-method | 0.001 | 0.000 | 0.001 | |
| set_parameters | 0.001 | 0.000 | 0.001 | |
| show-ReactomeAnalysisRequest-method | 0.001 | 0.000 | 0.001 | |
| show-ReactomeAnalysisResult-method | 0.172 | 0.003 | 0.175 | |