Back to Multiple platform build/check report for BioC 3.20:   simplified   long
ABCDEFGHIJKLMNOPQ[R]STUVWXYZ

This page was generated on 2025-01-30 12:12 -0500 (Thu, 30 Jan 2025).

HostnameOSArch (*)R versionInstalled pkgs
nebbiolo2Linux (Ubuntu 24.04.1 LTS)x86_644.4.2 (2024-10-31) -- "Pile of Leaves" 4746
palomino8Windows Server 2022 Datacenterx644.4.2 (2024-10-31 ucrt) -- "Pile of Leaves" 4494
merida1macOS 12.7.5 Montereyx86_644.4.2 (2024-10-31) -- "Pile of Leaves" 4517
kjohnson1macOS 13.6.6 Venturaarm644.4.2 (2024-10-31) -- "Pile of Leaves" 4469
taishanLinux (openEuler 24.03 LTS)aarch644.4.2 (2024-10-31) -- "Pile of Leaves" 4400
Click on any hostname to see more info about the system (e.g. compilers)      (*) as reported by 'uname -p', except on Windows and Mac OS X

Package 1654/2289HostnameOS / ArchINSTALLBUILDCHECKBUILD BIN
RAIDS 1.4.0  (landing page)
Pascal Belleau
Snapshot Date: 2025-01-27 13:00 -0500 (Mon, 27 Jan 2025)
git_url: https://git.bioconductor.org/packages/RAIDS
git_branch: RELEASE_3_20
git_last_commit: 6b32a2c
git_last_commit_date: 2024-10-29 11:24:12 -0500 (Tue, 29 Oct 2024)
nebbiolo2Linux (Ubuntu 24.04.1 LTS) / x86_64  OK    OK    OK  UNNEEDED, same version is already published
palomino8Windows Server 2022 Datacenter / x64  OK    OK    OK    OK  UNNEEDED, same version is already published
merida1macOS 12.7.5 Monterey / x86_64  OK    OK    OK    OK  UNNEEDED, same version is already published
kjohnson1macOS 13.6.6 Ventura / arm64  OK    OK    OK    OK  UNNEEDED, same version is already published
taishanLinux (openEuler 24.03 LTS) / aarch64  OK    OK    OK  


CHECK results for RAIDS on taishan

To the developers/maintainers of the RAIDS package:
- Allow up to 24 hours (and sometimes 48 hours) for your latest push to git@git.bioconductor.org:packages/RAIDS.git to reflect on this report. See Troubleshooting Build Report for more information.
- Use the following Renviron settings to reproduce errors and warnings.
- If 'R CMD check' started to fail recently on the Linux builder(s) over a missing dependency, add the missing dependency to 'Suggests:' in your DESCRIPTION file. See Renviron.bioc for more information.
- See Martin Grigorov's blog post for how to debug Linux ARM64 related issues on a x86_64 host.

raw results


Summary

Package: RAIDS
Version: 1.4.0
Command: /home/biocbuild/R/R/bin/R CMD check --install=check:RAIDS.install-out.txt --library=/home/biocbuild/R/R/site-library --no-vignettes --timings RAIDS_1.4.0.tar.gz
StartedAt: 2025-01-28 10:22:01 -0000 (Tue, 28 Jan 2025)
EndedAt: 2025-01-28 10:29:50 -0000 (Tue, 28 Jan 2025)
EllapsedTime: 468.6 seconds
RetCode: 0
Status:   OK  
CheckDir: RAIDS.Rcheck
Warnings: 0

Command output

##############################################################################
##############################################################################
###
### Running command:
###
###   /home/biocbuild/R/R/bin/R CMD check --install=check:RAIDS.install-out.txt --library=/home/biocbuild/R/R/site-library --no-vignettes --timings RAIDS_1.4.0.tar.gz
###
##############################################################################
##############################################################################


* using log directory ‘/home/biocbuild/bbs-3.20-bioc/meat/RAIDS.Rcheck’
* using R version 4.4.2 (2024-10-31)
* using platform: aarch64-unknown-linux-gnu
* R was compiled by
    aarch64-unknown-linux-gnu-gcc (GCC) 14.2.0
    GNU Fortran (GCC) 12.3.1 (openEuler 12.3.1-36.oe2403)
* running under: openEuler 24.03 (LTS)
* using session charset: UTF-8
* using option ‘--no-vignettes’
* checking for file ‘RAIDS/DESCRIPTION’ ... OK
* checking extension type ... Package
* this is package ‘RAIDS’ version ‘1.4.0’
* package encoding: UTF-8
* checking package namespace information ... OK
* checking package dependencies ... OK
* checking if this is a source package ... OK
* checking if there is a namespace ... OK
* checking for hidden files and directories ... OK
* checking for portable file names ... OK
* checking for sufficient/correct file permissions ... OK
* checking whether package ‘RAIDS’ can be installed ... OK
* checking installed package size ... OK
* checking package directory ... OK
* checking ‘build’ directory ... OK
* checking DESCRIPTION meta-information ... OK
* checking top-level files ... OK
* checking for left-over files ... OK
* checking index information ... OK
* checking package subdirectories ... OK
* checking code files for non-ASCII characters ... OK
* checking R files for syntax errors ... OK
* checking whether the package can be loaded ... OK
* checking whether the package can be loaded with stated dependencies ... OK
* checking whether the package can be unloaded cleanly ... OK
* checking whether the namespace can be loaded with stated dependencies ... OK
* checking whether the namespace can be unloaded cleanly ... OK
* checking loading without being on the library search path ... OK
* checking dependencies in R code ... OK
* checking S3 generic/method consistency ... OK
* checking replacement functions ... OK
* checking foreign function calls ... OK
* checking R code for possible problems ... OK
* checking Rd files ... OK
* checking Rd metadata ... OK
* checking Rd cross-references ... OK
* checking for missing documentation entries ... OK
* checking for code/documentation mismatches ... OK
* checking Rd \usage sections ... OK
* checking Rd contents ... OK
* checking for unstated dependencies in examples ... OK
* checking contents of ‘data’ directory ... OK
* checking data for non-ASCII characters ... OK
* checking data for ASCII and uncompressed saves ... OK
* checking files in ‘vignettes’ ... OK
* checking examples ... OK
Examples with CPU (user + system) or elapsed time > 5s
                                  user system elapsed
computeAncestryFromSyntheticFile 7.648  0.112   7.785
readSNVVCF                       7.534  0.064   7.624
selParaPCAUpQuartile             6.644  0.059   6.719
* checking for unstated dependencies in ‘tests’ ... OK
* checking tests ...
  Running ‘testthat.R’
 OK
* checking for unstated dependencies in vignettes ... OK
* checking package vignettes ... OK
* checking running R code from vignettes ... SKIPPED
* checking re-building of vignette outputs ... SKIPPED
* checking PDF version of manual ... OK
* DONE

Status: OK


Installation output

RAIDS.Rcheck/00install.out

##############################################################################
##############################################################################
###
### Running command:
###
###   /home/biocbuild/R/R/bin/R CMD INSTALL RAIDS
###
##############################################################################
##############################################################################


* installing to library ‘/home/biocbuild/R/R-4.4.2/site-library’
* installing *source* package ‘RAIDS’ ...
** using staged installation
** R
** data
** inst
** byte-compile and prepare package for lazy loading
** help
*** installing help indices
** building package indices
** installing vignettes
** testing if installed package can be loaded from temporary location
** testing if installed package can be loaded from final location
** testing if installed package keeps a record of temporary installation path
* DONE (RAIDS)

Tests output

RAIDS.Rcheck/tests/testthat.Rout


R version 4.4.2 (2024-10-31) -- "Pile of Leaves"
Copyright (C) 2024 The R Foundation for Statistical Computing
Platform: aarch64-unknown-linux-gnu

R is free software and comes with ABSOLUTELY NO WARRANTY.
You are welcome to redistribute it under certain conditions.
Type 'license()' or 'licence()' for distribution details.

R is a collaborative project with many contributors.
Type 'contributors()' for more information and
'citation()' on how to cite R or R packages in publications.

Type 'demo()' for some demos, 'help()' for on-line help, or
'help.start()' for an HTML browser interface to help.
Type 'q()' to quit R.

> library(testthat)
> library(RAIDS)
Loading required package: gdsfmt
Loading required package: SNPRelate
Loading required package: GENESIS
> 
> ## Run all unit tests
> test_check("RAIDS")
[ FAIL 0 | WARN 0 | SKIP 0 | PASS 442 ]
> 
> proc.time()
   user  system elapsed 
 36.587   1.673  38.382 

Example timings

RAIDS.Rcheck/RAIDS-Ex.timings

nameusersystemelapsed
add1KG2SampleGDS0.0570.0280.100
addBlockFromDetFile0.0020.0000.004
addBlockInGDSAnnot0.0070.0000.010
addGDS1KGLDBlock0.0020.0000.001
addGDSRef0.0030.0000.006
addGDSStudyPruning0.0010.0000.002
addGeneBlockGDSRefAnnot0.9940.0681.101
addGeneBlockRefAnnot0.0020.0000.002
addRef2GDS1KG0.0060.0000.006
addStudy1Kg0.0130.0000.014
addStudyGDSSample0.0060.0030.011
addUpdateLap0.0010.0000.002
addUpdateSegment0.0010.0000.002
appendGDSRefSample0.0070.0010.009
appendGDSSampleOnly0.0000.0020.003
appendGDSgenotype0.0190.0010.030
appendGDSgenotypeMat0.0010.0000.002
calcAFMLRNA0.0020.0030.005
computeAlleleFraction0.0030.0000.004
computeAllelicFractionDNA0.2160.0080.228
computeAllelicFractionRNA0.3310.0040.340
computeAllelicImbDNAChr0.0070.0000.008
computeAncestryFromSynthetic0.0130.0040.023
computeAncestryFromSyntheticFile7.6480.1127.785
computeKNNRefSample0.0160.0080.024
computeKNNRefSynthetic3.0020.0753.088
computeLOHBlocksDNAChr0.0110.0000.011
computePCAMultiSynthetic0.0060.0040.009
computePCARefRMMulti0.6740.0040.680
computePCARefSample0.7840.0000.787
computePoolSyntheticAncestryGr1.0980.0121.114
computeSyntheticConfMat0.0170.0020.019
computeSyntheticROC0.0470.0090.057
createAUROCGraph0.9860.0561.047
createAccuracyGraph0.9820.0040.990
createStudy2GDS1KG0.0650.0000.069
demoKnownSuperPop1KG2.1310.0282.166
demoPCA1KG0.0050.0040.009
demoPCASyntheticProfiles2.1530.0032.162
demoPedigreeEx10.0150.0070.022
estimateAllelicFraction0.1210.0000.121
generateGDS1KG0.0180.0000.019
generateGDS1KGgenotypeFromSNPPileup0.0570.0000.059
generateGDSRefSample0.0020.0030.007
generateGDSSNPinfo0.0050.0000.007
generateGDSgenotype0.0130.0040.019
generateGeneBlock0.0010.0000.002
generateMapSnvSel0.0040.0000.005
generatePhase1KG2GDS0.0180.0000.020
generatePhaseRef0.0170.0000.018
getBlockIDs0.0020.0000.003
getRef1KGPop0.0040.0000.005
getRefSuperPop0.0030.0000.004
getTableSNV0.0120.0040.016
groupChr1KGSNV0.0660.0130.083
identifyRelative0.0070.0040.011
identifyRelativeRef0.0070.0000.007
inferAncestry0.0190.0000.018
inferAncestryGeneAware0.0180.0000.018
matKNNSynthetic0.0530.0000.053
pedSynthetic0.0530.0000.053
prepPed1KG0.0060.0000.007
prepPedSynthetic1KG0.0070.0000.007
prepSynthetic0.0140.0000.013
processBlockChr0.0030.0000.004
profileAncestry0.0230.0000.024
pruning1KGbyChr0.0040.0000.005
pruningSample0.0560.0000.056
readSNVFileGeneric0.0050.0000.005
readSNVPileupFile0.0390.0000.042
readSNVVCF7.5340.0647.624
runExomeAncestry0.0240.0000.024
runIBDKING0.0520.0040.061
runLDPruning0.0350.0000.036
runProfileAncestry0.0260.0000.025
runRNAAncestry0.0230.0000.022
runWrapperAncestry0.0230.0000.022
selParaPCAUpQuartile6.6440.0596.719
select1KGPop0.0030.0030.007
select1KGPopForSynthetic0.0070.0000.007
snpPositionDemo0.0030.0000.003
snvListVCF0.0050.0000.005
splitSelectByPop0.0020.0000.002
syntheticGeno0.0370.0020.039
tableBlockAF0.0280.0020.030
testAlleleFractionChange0.0020.0000.002
testEmptyBox0.0020.0000.001
validateAdd1KG2SampleGDS0.0020.0000.002
validateAddStudy1Kg0.0020.0000.002
validateCharacterString000
validateComputeAncestryFromSyntheticFile0.0020.0000.002
validateComputeKNNRefSample0.0050.0000.005
validateComputeKNNRefSynthetic0.0030.0040.006
validateComputePCAMultiSynthetic0.0050.0000.005
validateComputePCARefSample0.0010.0000.001
validateComputePoolSyntheticAncestryGr0.0010.0000.002
validateComputeSyntheticRoc0.0150.0000.015
validateCreateAccuracyGraph0.0020.0000.001
validateCreateStudy2GDS1KG0.0020.0000.003
validateDataRefSynParameter0.0010.0000.001
validateEstimateAllelicFraction0.0010.0030.003
validateGDSClass0.0010.0000.001
validateGenerateGDS1KG0.0010.0000.001
validateLogical0.0000.0000.001
validatePEDStudyParameter0.0010.0000.001
validatePepSynthetic0.0020.0000.002
validatePositiveIntegerVector000
validatePrepPed1KG0.0010.0000.001
validateProfileGDSExist0.0010.0000.001
validatePruningSample0.0010.0000.002
validateRunExomeOrRNAAncestry0.0050.0000.005
validateSingleRatio000
validateStudyDataFrameParameter0.0010.0000.001
validateSyntheticGeno0.0000.0020.002
wrapperAncestry0.0200.0010.021