Back to Multiple platform build/check report for BioC 3.20:   simplified   long
ABCDEFGHIJKLMNOPQ[R]STUVWXYZ

This page was generated on 2025-02-06 12:05 -0500 (Thu, 06 Feb 2025).

HostnameOSArch (*)R versionInstalled pkgs
nebbiolo2Linux (Ubuntu 24.04.1 LTS)x86_644.4.2 (2024-10-31) -- "Pile of Leaves" 4753
palomino8Windows Server 2022 Datacenterx644.4.2 (2024-10-31 ucrt) -- "Pile of Leaves" 4501
merida1macOS 12.7.5 Montereyx86_644.4.2 (2024-10-31) -- "Pile of Leaves" 4524
kjohnson1macOS 13.6.6 Venturaarm644.4.2 (2024-10-31) -- "Pile of Leaves" 4476
taishanLinux (openEuler 24.03 LTS)aarch644.4.2 (2024-10-31) -- "Pile of Leaves" 4407
Click on any hostname to see more info about the system (e.g. compilers)      (*) as reported by 'uname -p', except on Windows and Mac OS X

Package 1654/2289HostnameOS / ArchINSTALLBUILDCHECKBUILD BIN
RAIDS 1.4.0  (landing page)
Pascal Belleau
Snapshot Date: 2025-02-03 13:00 -0500 (Mon, 03 Feb 2025)
git_url: https://git.bioconductor.org/packages/RAIDS
git_branch: RELEASE_3_20
git_last_commit: 6b32a2c
git_last_commit_date: 2024-10-29 11:24:12 -0500 (Tue, 29 Oct 2024)
nebbiolo2Linux (Ubuntu 24.04.1 LTS) / x86_64  OK    OK    OK  UNNEEDED, same version is already published
palomino8Windows Server 2022 Datacenter / x64  OK    OK    OK    OK  UNNEEDED, same version is already published
merida1macOS 12.7.5 Monterey / x86_64  OK    OK    OK    OK  UNNEEDED, same version is already published
kjohnson1macOS 13.6.6 Ventura / arm64  OK    OK    OK    OK  UNNEEDED, same version is already published
taishanLinux (openEuler 24.03 LTS) / aarch64  OK    OK    OK  


CHECK results for RAIDS on nebbiolo2

To the developers/maintainers of the RAIDS package:
- Allow up to 24 hours (and sometimes 48 hours) for your latest push to git@git.bioconductor.org:packages/RAIDS.git to reflect on this report. See Troubleshooting Build Report for more information.
- Use the following Renviron settings to reproduce errors and warnings.
- If 'R CMD check' started to fail recently on the Linux builder(s) over a missing dependency, add the missing dependency to 'Suggests:' in your DESCRIPTION file. See Renviron.bioc for more information.

raw results


Summary

Package: RAIDS
Version: 1.4.0
Command: /home/biocbuild/bbs-3.20-bioc/R/bin/R CMD check --install=check:RAIDS.install-out.txt --library=/home/biocbuild/bbs-3.20-bioc/R/site-library --timings RAIDS_1.4.0.tar.gz
StartedAt: 2025-02-04 01:33:37 -0500 (Tue, 04 Feb 2025)
EndedAt: 2025-02-04 01:41:25 -0500 (Tue, 04 Feb 2025)
EllapsedTime: 467.7 seconds
RetCode: 0
Status:   OK  
CheckDir: RAIDS.Rcheck
Warnings: 0

Command output

##############################################################################
##############################################################################
###
### Running command:
###
###   /home/biocbuild/bbs-3.20-bioc/R/bin/R CMD check --install=check:RAIDS.install-out.txt --library=/home/biocbuild/bbs-3.20-bioc/R/site-library --timings RAIDS_1.4.0.tar.gz
###
##############################################################################
##############################################################################


* using log directory ‘/home/biocbuild/bbs-3.20-bioc/meat/RAIDS.Rcheck’
* using R version 4.4.2 (2024-10-31)
* using platform: x86_64-pc-linux-gnu
* R was compiled by
    gcc (Ubuntu 13.2.0-23ubuntu4) 13.2.0
    GNU Fortran (Ubuntu 13.2.0-23ubuntu4) 13.2.0
* running under: Ubuntu 24.04.1 LTS
* using session charset: UTF-8
* checking for file ‘RAIDS/DESCRIPTION’ ... OK
* checking extension type ... Package
* this is package ‘RAIDS’ version ‘1.4.0’
* package encoding: UTF-8
* checking package namespace information ... OK
* checking package dependencies ... OK
* checking if this is a source package ... OK
* checking if there is a namespace ... OK
* checking for hidden files and directories ... OK
* checking for portable file names ... OK
* checking for sufficient/correct file permissions ... OK
* checking whether package ‘RAIDS’ can be installed ... OK
* checking installed package size ... OK
* checking package directory ... OK
* checking ‘build’ directory ... OK
* checking DESCRIPTION meta-information ... OK
* checking top-level files ... OK
* checking for left-over files ... OK
* checking index information ... OK
* checking package subdirectories ... OK
* checking code files for non-ASCII characters ... OK
* checking R files for syntax errors ... OK
* checking whether the package can be loaded ... OK
* checking whether the package can be loaded with stated dependencies ... OK
* checking whether the package can be unloaded cleanly ... OK
* checking whether the namespace can be loaded with stated dependencies ... OK
* checking whether the namespace can be unloaded cleanly ... OK
* checking loading without being on the library search path ... OK
* checking dependencies in R code ... OK
* checking S3 generic/method consistency ... OK
* checking replacement functions ... OK
* checking foreign function calls ... OK
* checking R code for possible problems ... OK
* checking Rd files ... OK
* checking Rd metadata ... OK
* checking Rd cross-references ... OK
* checking for missing documentation entries ... OK
* checking for code/documentation mismatches ... OK
* checking Rd \usage sections ... OK
* checking Rd contents ... OK
* checking for unstated dependencies in examples ... OK
* checking contents of ‘data’ directory ... OK
* checking data for non-ASCII characters ... OK
* checking data for ASCII and uncompressed saves ... OK
* checking files in ‘vignettes’ ... OK
* checking examples ... OK
Examples with CPU (user + system) or elapsed time > 5s
                                  user system elapsed
computeAncestryFromSyntheticFile 5.036  0.106   5.143
* checking for unstated dependencies in ‘tests’ ... OK
* checking tests ...
  Running ‘testthat.R’
 OK
* checking for unstated dependencies in vignettes ... OK
* checking package vignettes ... OK
* checking re-building of vignette outputs ... OK
* checking PDF version of manual ... OK
* DONE

Status: OK


Installation output

RAIDS.Rcheck/00install.out

##############################################################################
##############################################################################
###
### Running command:
###
###   /home/biocbuild/bbs-3.20-bioc/R/bin/R CMD INSTALL RAIDS
###
##############################################################################
##############################################################################


* installing to library ‘/home/biocbuild/bbs-3.20-bioc/R/site-library’
* installing *source* package ‘RAIDS’ ...
** using staged installation
** R
** data
** inst
** byte-compile and prepare package for lazy loading
** help
*** installing help indices
** building package indices
** installing vignettes
** testing if installed package can be loaded from temporary location
** testing if installed package can be loaded from final location
** testing if installed package keeps a record of temporary installation path
* DONE (RAIDS)

Tests output

RAIDS.Rcheck/tests/testthat.Rout


R version 4.4.2 (2024-10-31) -- "Pile of Leaves"
Copyright (C) 2024 The R Foundation for Statistical Computing
Platform: x86_64-pc-linux-gnu

R is free software and comes with ABSOLUTELY NO WARRANTY.
You are welcome to redistribute it under certain conditions.
Type 'license()' or 'licence()' for distribution details.

R is a collaborative project with many contributors.
Type 'contributors()' for more information and
'citation()' on how to cite R or R packages in publications.

Type 'demo()' for some demos, 'help()' for on-line help, or
'help.start()' for an HTML browser interface to help.
Type 'q()' to quit R.

> library(testthat)
> library(RAIDS)
Loading required package: gdsfmt
Loading required package: SNPRelate
SNPRelate -- supported by Streaming SIMD Extensions 2 (SSE2)
Loading required package: GENESIS
> 
> ## Run all unit tests
> test_check("RAIDS")
[ FAIL 0 | WARN 0 | SKIP 0 | PASS 442 ]
> 
> proc.time()
   user  system elapsed 
 26.242   1.458  27.783 

Example timings

RAIDS.Rcheck/RAIDS-Ex.timings

nameusersystemelapsed
add1KG2SampleGDS0.0490.0140.065
addBlockFromDetFile0.0020.0000.003
addBlockInGDSAnnot0.0030.0010.005
addGDS1KGLDBlock0.0010.0010.002
addGDSRef0.0030.0000.002
addGDSStudyPruning0.0000.0010.001
addGeneBlockGDSRefAnnot0.7120.0890.810
addGeneBlockRefAnnot0.0010.0000.002
addRef2GDS1KG0.0040.0010.004
addStudy1Kg0.0060.0010.008
addStudyGDSSample0.0060.0000.005
addUpdateLap0.0010.0000.001
addUpdateSegment0.0010.0000.001
appendGDSRefSample0.0040.0010.005
appendGDSSampleOnly0.0010.0000.001
appendGDSgenotype0.0090.0030.014
appendGDSgenotypeMat0.0010.0000.001
calcAFMLRNA0.0030.0000.004
computeAlleleFraction0.0020.0000.002
computeAllelicFractionDNA0.1510.0120.163
computeAllelicFractionRNA0.2160.0020.219
computeAllelicImbDNAChr0.0060.0000.006
computeAncestryFromSynthetic0.0140.0010.015
computeAncestryFromSyntheticFile5.0360.1065.143
computeKNNRefSample0.0140.0030.018
computeKNNRefSynthetic2.2870.1222.409
computeLOHBlocksDNAChr0.0080.0000.008
computePCAMultiSynthetic0.0070.0000.008
computePCARefRMMulti0.1600.0120.174
computePCARefSample0.1870.0010.188
computePoolSyntheticAncestryGr0.4420.0000.442
computeSyntheticConfMat0.0140.0000.014
computeSyntheticROC0.0370.0000.038
createAUROCGraph0.6280.0110.639
createAccuracyGraph0.6290.0310.660
createStudy2GDS1KG0.0490.0030.053
demoKnownSuperPop1KG1.3960.0431.439
demoPCA1KG0.0060.0020.007
demoPCASyntheticProfiles1.4120.0411.453
demoPedigreeEx10.0140.0000.013
estimateAllelicFraction0.0720.0000.072
generateGDS1KG0.0090.0020.011
generateGDS1KGgenotypeFromSNPPileup0.0420.0010.042
generateGDSRefSample0.0040.0000.003
generateGDSSNPinfo0.0030.0010.003
generateGDSgenotype0.0110.0000.011
generateGeneBlock0.0000.0010.001
generateMapSnvSel0.0010.0010.003
generatePhase1KG2GDS0.0100.0010.011
generatePhaseRef0.0090.0010.011
getBlockIDs0.0020.0000.002
getRef1KGPop0.0030.0000.002
getRefSuperPop0.0020.0000.002
getTableSNV0.0080.0020.010
groupChr1KGSNV0.0430.0090.052
identifyRelative0.0070.0010.008
identifyRelativeRef0.0050.0010.006
inferAncestry0.0120.0000.012
inferAncestryGeneAware0.0120.0000.012
matKNNSynthetic0.0370.0010.039
pedSynthetic0.0350.0030.038
prepPed1KG0.0040.0000.004
prepPedSynthetic1KG0.0040.0000.004
prepSynthetic0.0070.0010.009
processBlockChr0.0020.0010.003
profileAncestry0.0150.0000.016
pruning1KGbyChr0.0030.0000.003
pruningSample0.0360.0020.038
readSNVFileGeneric0.0020.0010.004
readSNVPileupFile0.0330.0000.032
readSNVVCF4.6970.0444.741
runExomeAncestry0.0130.0010.014
runIBDKING0.0520.0020.055
runLDPruning0.0170.0050.023
runProfileAncestry0.0140.0010.016
runRNAAncestry0.0130.0010.014
runWrapperAncestry0.0130.0010.014
selParaPCAUpQuartile4.6090.0174.627
select1KGPop0.0020.0020.004
select1KGPopForSynthetic0.0050.0000.004
snpPositionDemo0.0020.0010.002
snvListVCF0.0030.0010.004
splitSelectByPop0.0000.0010.001
syntheticGeno0.0260.0010.026
tableBlockAF0.0190.0000.019
testAlleleFractionChange0.0020.0000.001
testEmptyBox0.0010.0000.001
validateAdd1KG2SampleGDS0.0010.0000.001
validateAddStudy1Kg0.0010.0000.001
validateCharacterString0.0000.0000.001
validateComputeAncestryFromSyntheticFile0.0010.0000.001
validateComputeKNNRefSample0.0020.0020.004
validateComputeKNNRefSynthetic0.0030.0010.005
validateComputePCAMultiSynthetic0.0030.0000.004
validateComputePCARefSample0.0010.0000.001
validateComputePoolSyntheticAncestryGr0.0010.0000.001
validateComputeSyntheticRoc0.0100.0010.011
validateCreateAccuracyGraph0.0010.0000.001
validateCreateStudy2GDS1KG0.0020.0000.002
validateDataRefSynParameter0.0010.0000.000
validateEstimateAllelicFraction0.0030.0000.003
validateGDSClass0.0010.0000.001
validateGenerateGDS1KG0.0010.0000.001
validateLogical000
validatePEDStudyParameter0.0000.0000.001
validatePepSynthetic0.0010.0000.002
validatePositiveIntegerVector000
validatePrepPed1KG0.0000.0000.001
validateProfileGDSExist0.0010.0000.001
validatePruningSample0.0020.0020.003
validateRunExomeOrRNAAncestry0.0040.0000.004
validateSingleRatio000
validateStudyDataFrameParameter0.0010.0000.000
validateSyntheticGeno0.0020.0000.001
wrapperAncestry0.0150.0000.014