Back to Multiple platform build/check report for BioC 3.20:   simplified   long
ABCDEFGHIJKLMNO[P]QRSTUVWXYZ

This page was generated on 2025-01-30 12:12 -0500 (Thu, 30 Jan 2025).

HostnameOSArch (*)R versionInstalled pkgs
nebbiolo2Linux (Ubuntu 24.04.1 LTS)x86_644.4.2 (2024-10-31) -- "Pile of Leaves" 4746
palomino8Windows Server 2022 Datacenterx644.4.2 (2024-10-31 ucrt) -- "Pile of Leaves" 4494
merida1macOS 12.7.5 Montereyx86_644.4.2 (2024-10-31) -- "Pile of Leaves" 4517
kjohnson1macOS 13.6.6 Venturaarm644.4.2 (2024-10-31) -- "Pile of Leaves" 4469
taishanLinux (openEuler 24.03 LTS)aarch644.4.2 (2024-10-31) -- "Pile of Leaves" 4400
Click on any hostname to see more info about the system (e.g. compilers)      (*) as reported by 'uname -p', except on Windows and Mac OS X

Package 1542/2289HostnameOS / ArchINSTALLBUILDCHECKBUILD BIN
PhenStat 2.42.0  (landing page)
Hamed Haselimashhadi
Snapshot Date: 2025-01-27 13:00 -0500 (Mon, 27 Jan 2025)
git_url: https://git.bioconductor.org/packages/PhenStat
git_branch: RELEASE_3_20
git_last_commit: b157f71
git_last_commit_date: 2024-10-29 09:49:35 -0500 (Tue, 29 Oct 2024)
nebbiolo2Linux (Ubuntu 24.04.1 LTS) / x86_64  OK    OK    OK  UNNEEDED, same version is already published
palomino8Windows Server 2022 Datacenter / x64  OK    OK    OK    OK  UNNEEDED, same version is already published
merida1macOS 12.7.5 Monterey / x86_64  OK    OK    OK    OK  UNNEEDED, same version is already published
kjohnson1macOS 13.6.6 Ventura / arm64  OK    OK    OK    OK  UNNEEDED, same version is already published
taishanLinux (openEuler 24.03 LTS) / aarch64  OK    OK    OK  


CHECK results for PhenStat on taishan

To the developers/maintainers of the PhenStat package:
- Allow up to 24 hours (and sometimes 48 hours) for your latest push to git@git.bioconductor.org:packages/PhenStat.git to reflect on this report. See Troubleshooting Build Report for more information.
- Use the following Renviron settings to reproduce errors and warnings.
- If 'R CMD check' started to fail recently on the Linux builder(s) over a missing dependency, add the missing dependency to 'Suggests:' in your DESCRIPTION file. See Renviron.bioc for more information.
- See Martin Grigorov's blog post for how to debug Linux ARM64 related issues on a x86_64 host.

raw results


Summary

Package: PhenStat
Version: 2.42.0
Command: /home/biocbuild/R/R/bin/R CMD check --install=check:PhenStat.install-out.txt --library=/home/biocbuild/R/R/site-library --no-vignettes --timings PhenStat_2.42.0.tar.gz
StartedAt: 2025-01-28 09:59:55 -0000 (Tue, 28 Jan 2025)
EndedAt: 2025-01-28 10:02:09 -0000 (Tue, 28 Jan 2025)
EllapsedTime: 134.2 seconds
RetCode: 0
Status:   OK  
CheckDir: PhenStat.Rcheck
Warnings: 0

Command output

##############################################################################
##############################################################################
###
### Running command:
###
###   /home/biocbuild/R/R/bin/R CMD check --install=check:PhenStat.install-out.txt --library=/home/biocbuild/R/R/site-library --no-vignettes --timings PhenStat_2.42.0.tar.gz
###
##############################################################################
##############################################################################


* using log directory ‘/home/biocbuild/bbs-3.20-bioc/meat/PhenStat.Rcheck’
* using R version 4.4.2 (2024-10-31)
* using platform: aarch64-unknown-linux-gnu
* R was compiled by
    aarch64-unknown-linux-gnu-gcc (GCC) 14.2.0
    GNU Fortran (GCC) 12.3.1 (openEuler 12.3.1-36.oe2403)
* running under: openEuler 24.03 (LTS)
* using session charset: UTF-8
* using option ‘--no-vignettes’
* checking for file ‘PhenStat/DESCRIPTION’ ... OK
* checking extension type ... Package
* this is package ‘PhenStat’ version ‘2.42.0’
* checking package namespace information ... OK
* checking package dependencies ... OK
* checking if this is a source package ... OK
* checking if there is a namespace ... OK
* checking for hidden files and directories ... OK
* checking for portable file names ... OK
* checking for sufficient/correct file permissions ... OK
* checking whether package ‘PhenStat’ can be installed ... OK
* checking installed package size ... OK
* checking package directory ... OK
* checking ‘build’ directory ... OK
* checking DESCRIPTION meta-information ... OK
* checking top-level files ... OK
* checking for left-over files ... OK
* checking index information ... OK
* checking package subdirectories ... OK
* checking code files for non-ASCII characters ... OK
* checking R files for syntax errors ... OK
* checking whether the package can be loaded ... OK
* checking whether the package can be loaded with stated dependencies ... OK
* checking whether the package can be unloaded cleanly ... OK
* checking whether the namespace can be loaded with stated dependencies ... OK
* checking whether the namespace can be unloaded cleanly ... OK
* checking loading without being on the library search path ... OK
* checking whether startup messages can be suppressed ... OK
* checking dependencies in R code ... NOTE
Namespace in Imports field not imported from: ‘SmoothWin’
  All declared Imports should be used.
* checking S3 generic/method consistency ... OK
* checking replacement functions ... OK
* checking foreign function calls ... OK
* checking R code for possible problems ... OK
* checking Rd files ... NOTE
checkRd: (-1) plot.PhenList.Rd:49-53: Lost braces
    49 |       \item boxplotSexGenotype. See documentations for {
       |                                                        ^
checkRd: (-1) plot.PhenList.Rd:54-58: Lost braces
    54 |       \item boxplotSexGenotypeBatchAdjusted. See documentations for {
       |                                                                     ^
checkRd: (-1) plot.PhenList.Rd:59-63: Lost braces
    59 |       \item boxplotSexGenotypeWeightBatchAdjusted. See documentations for {
       |                                                                           ^
checkRd: (-1) plot.PhenList.Rd:64-68: Lost braces
    64 |       \item scatterplotSexGenotypeBatch. See documentations for {
       |                                                                 ^
checkRd: (-1) plot.PhenList.Rd:69-73: Lost braces
    69 |       \item scatterplotGenotypeWeight. See documentations for {
       |                                                               ^
checkRd: (-1) plot.PhenList.Rd:74-78: Lost braces
    74 |       \item boxplotSexGenotypeBatch. See documentations for {
       |                                                             ^
checkRd: (-1) plot.PhenTestResult.Rd:41-45: Lost braces
    41 |       \item boxplotSexGenotypeResult. See documentations for {
       |                                                              ^
checkRd: (-1) plot.PhenTestResult.Rd:46-50: Lost braces
    46 |       \item scatterplotSexGenotypeBatchResult. See documentations for {
       |                                                                       ^
checkRd: (-1) plot.PhenTestResult.Rd:51-55: Lost braces
    51 |       \item scatterplotGenotypeWeightResult. See documentations for {
       |                                                                     ^
checkRd: (-1) plot.PhenTestResult.Rd:56-60: Lost braces
    56 |       \item plotResidualPredicted. See documentations for {
       |                                                           ^
checkRd: (-1) plot.PhenTestResult.Rd:61-65: Lost braces
    61 |       \item qqplotRandomEffects. See documentations for {
       |                                                         ^
checkRd: (-1) plot.PhenTestResult.Rd:66-70: Lost braces
    66 |       \item boxplotResidualBatch. See documentations for {
       |                                                          ^
checkRd: (-1) plot.PhenTestResult.Rd:71-75: Lost braces
    71 |       \item qqplotRotatedResiduals. See documentations for {
       |                                                            ^
checkRd: (-1) plot.PhenTestResult.Rd:76-80: Lost braces
    76 |       \item qqplotGenotype. See documentations for {
       |                                                    ^
checkRd: (-1) plot.PhenTestResult.Rd:81-85: Lost braces
    81 |       \item categoricalBarplot. See documentations for {
       |                                                        ^
checkRd: (-1) qqplotRotatedResiduals.Rd:18: Lost braces
    18 |     Houseman, E. A., Ryan, L. M., Coull, B. A. (2004): Cholesky residuals for assessing normal errors in a linear model with correlated outcomes. \emph{Journal of the American Statistical Association} \bold{99}{466}: pg 383-394. Doi 10.1198
       |                                                                                                                                                                                                                   ^
* checking Rd metadata ... OK
* checking Rd cross-references ... OK
* checking for missing documentation entries ... OK
* checking for code/documentation mismatches ... OK
* checking Rd \usage sections ... NOTE
Documented arguments not in \usage in Rd file 'printLROutput.Rd':
  ‘effectValues’

Functions with \usage entries need to have the appropriate \alias
entries, and all their arguments documented.
The \usage entries must correspond to syntactically valid R code.
See chapter ‘Writing R documentation files’ in the ‘Writing R
Extensions’ manual.
* checking Rd contents ... NOTE
Argument items with no description in Rd file 'plot.PhenList.Rd':
  ‘\dots’
Argument items with no description in Rd file 'plot.PhenTestResult.Rd':
  ‘\dots’
* checking for unstated dependencies in examples ... OK
* checking installed files from ‘inst/doc’ ... OK
* checking files in ‘vignettes’ ... OK
* checking examples ... OK
* checking for unstated dependencies in ‘tests’ ... OK
* checking tests ...
  Running ‘runTests.R’
 OK
* checking for unstated dependencies in vignettes ... OK
* checking package vignettes ... OK
* checking running R code from vignettes ... SKIPPED
* checking re-building of vignette outputs ... SKIPPED
* checking PDF version of manual ... OK
* DONE

Status: 4 NOTEs
See
  ‘/home/biocbuild/bbs-3.20-bioc/meat/PhenStat.Rcheck/00check.log’
for details.


Installation output

PhenStat.Rcheck/00install.out

##############################################################################
##############################################################################
###
### Running command:
###
###   /home/biocbuild/R/R/bin/R CMD INSTALL PhenStat
###
##############################################################################
##############################################################################


* installing to library ‘/home/biocbuild/R/R-4.4.2/site-library’
* installing *source* package ‘PhenStat’ ...
** using staged installation
** R
** inst
** byte-compile and prepare package for lazy loading
** help
*** installing help indices
** building package indices
** installing vignettes
** testing if installed package can be loaded from temporary location
** testing if installed package can be loaded from final location
** testing if installed package keeps a record of temporary installation path
* DONE (PhenStat)

Tests output

PhenStat.Rcheck/tests/runTests.Rout


R version 4.4.2 (2024-10-31) -- "Pile of Leaves"
Copyright (C) 2024 The R Foundation for Statistical Computing
Platform: aarch64-unknown-linux-gnu

R is free software and comes with ABSOLUTELY NO WARRANTY.
You are welcome to redistribute it under certain conditions.
Type 'license()' or 'licence()' for distribution details.

R is a collaborative project with many contributors.
Type 'contributors()' for more information and
'citation()' on how to cite R or R packages in publications.

Type 'demo()' for some demos, 'help()' for on-line help, or
'help.start()' for an HTML browser interface to help.
Type 'q()' to quit R.

> BiocGenerics:::testPackage("PhenStat")

 >=========================================================================<
 This version of PhenStat includes *FEWER* functions than the previous ones 
 You *still* can use the previous functions by using `:::`. For example :   
 PhenStat:::boxplotSexGenotype   or   PhenStat:::FisherExactTest            
 *** Want to know what is new in this version? run PhenStat:::WhatIsNew()   
 >=========================================================================<


RUNIT TEST PROTOCOL -- Tue Jan 28 10:02:03 2025 
*********************************************** 
Number of test functions: 0 
Number of errors: 0 
Number of failures: 0 

 
1 Test Suite : 
PhenStat RUnit Tests - 0 test functions, 0 errors, 0 failures
Number of test functions: 0 
Number of errors: 0 
Number of failures: 0 
> 
> proc.time()
   user  system elapsed 
  3.570   0.131   3.693 

Example timings

PhenStat.Rcheck/PhenStat-Ex.timings

nameusersystemelapsed
FisherExactTest0.3390.0200.364
JSONOutput0.7690.0280.801
LRDataset0.0570.0000.058
PhenList-class0.1980.0000.201
PhenList0.1960.0040.203
PhenStatReport0.0410.0000.041
PhenTestResult-class0.6060.0080.615
PhenTestResult0.4650.0120.478
RRTest0.1030.0000.103
TFDataset0.3270.0200.348
analysedDataset0.6060.0160.623
analysisResults0.6120.0000.613
boxplotResidualBatch0.6630.0080.673
boxplotSexGenotype0.0870.0000.089
boxplotSexGenotypeBatch0.1790.0000.179
boxplotSexGenotypeBatchAdjusted0.080.000.08
boxplotSexGenotypeResult0.8080.0000.811
boxplotSexGenotypeWeightBatchAdjusted0.080.000.08
categoricalBarplot0.1750.0000.175
checkDataset0.0420.0000.041
classificationTag0.8050.0000.807
determiningLambda0.6670.0440.712
dim0.0400.0000.041
finalLRModel0.5790.0080.593
finalModel0.4610.0040.467
finalTFModel0.5830.0200.607
htestPhenStat-class0.1680.0000.169
modelFormula0.0000.0000.001
modelFormulaLR000
parserOutputSummary0.5980.0020.601
parserOutputSummaryLR0.5430.0020.547
parserOutputTFSummary0.1190.0000.121
performReverseTransformation0.0000.0000.001
performTransformation000
plot.PhenList1.9330.0241.962
plot.PhenTestResult1.9210.0191.946
plotResidualPredicted0.6270.0040.633
printLROutput0.5720.0000.574
printTabStyle0.0000.0000.001
qqplotGenotype0.6050.0000.606
qqplotRandomEffects0.6210.0080.631
qqplotRotatedResiduals1.9060.0201.930
recommendMethod0.5170.0040.522
scatterplotGenotypeWeight0.1620.0040.167
scatterplotGenotypeWeightResult0.8040.0040.810
scatterplotSexGenotypeBatch0.1000.0000.099
scatterplotSexGenotypeBatchResult0.8020.0000.803
startLRModel0.5030.0000.504
startModel0.5170.0080.527
startTFModel0.5090.0000.510
summaryOutput0.7360.0000.737
summaryPhenListResult0.7270.0040.733
testDataset1.8540.0241.884
testFinalLRModel0.5290.0000.531
testFinalModel0.6430.0040.649
vectorOutput0.7420.0000.745
vectorOutputMatrices0.1600.0000.161