| Back to Multiple platform build/check report for BioC 3.20: simplified long |
|
This page was generated on 2025-04-02 19:34 -0400 (Wed, 02 Apr 2025).
| Hostname | OS | Arch (*) | R version | Installed pkgs |
|---|---|---|---|---|
| nebbiolo2 | Linux (Ubuntu 24.04.1 LTS) | x86_64 | 4.4.3 (2025-02-28) -- "Trophy Case" | 4764 |
| palomino8 | Windows Server 2022 Datacenter | x64 | 4.4.3 (2025-02-28 ucrt) -- "Trophy Case" | 4495 |
| merida1 | macOS 12.7.5 Monterey | x86_64 | 4.4.3 (2025-02-28) -- "Trophy Case" | 4522 |
| kjohnson1 | macOS 13.6.6 Ventura | arm64 | 4.4.3 (2025-02-28) -- "Trophy Case" | 4449 |
| taishan | Linux (openEuler 24.03 LTS) | aarch64 | 4.4.3 (2025-02-28) -- "Trophy Case" | 4426 |
| Click on any hostname to see more info about the system (e.g. compilers) (*) as reported by 'uname -p', except on Windows and Mac OS X | ||||
| Package 1542/2289 | Hostname | OS / Arch | INSTALL | BUILD | CHECK | BUILD BIN | ||||||||
| PhenStat 2.42.0 (landing page) Hamed Haselimashhadi
| nebbiolo2 | Linux (Ubuntu 24.04.1 LTS) / x86_64 | OK | OK | OK | |||||||||
| palomino8 | Windows Server 2022 Datacenter / x64 | OK | OK | OK | OK | |||||||||
| merida1 | macOS 12.7.5 Monterey / x86_64 | OK | OK | OK | OK | |||||||||
| kjohnson1 | macOS 13.6.6 Ventura / arm64 | OK | OK | OK | OK | |||||||||
| taishan | Linux (openEuler 24.03 LTS) / aarch64 | OK | OK | OK | ||||||||||
|
To the developers/maintainers of the PhenStat package: - Allow up to 24 hours (and sometimes 48 hours) for your latest push to git@git.bioconductor.org:packages/PhenStat.git to reflect on this report. See Troubleshooting Build Report for more information. - Use the following Renviron settings to reproduce errors and warnings. - If 'R CMD check' started to fail recently on the Linux builder(s) over a missing dependency, add the missing dependency to 'Suggests:' in your DESCRIPTION file. See Renviron.bioc for more information. |
| Package: PhenStat |
| Version: 2.42.0 |
| Command: /Library/Frameworks/R.framework/Resources/bin/R CMD check --install=check:PhenStat.install-out.txt --library=/Library/Frameworks/R.framework/Resources/library --no-vignettes --timings PhenStat_2.42.0.tar.gz |
| StartedAt: 2025-04-02 04:09:31 -0400 (Wed, 02 Apr 2025) |
| EndedAt: 2025-04-02 04:11:52 -0400 (Wed, 02 Apr 2025) |
| EllapsedTime: 141.2 seconds |
| RetCode: 0 |
| Status: OK |
| CheckDir: PhenStat.Rcheck |
| Warnings: 0 |
##############################################################################
##############################################################################
###
### Running command:
###
### /Library/Frameworks/R.framework/Resources/bin/R CMD check --install=check:PhenStat.install-out.txt --library=/Library/Frameworks/R.framework/Resources/library --no-vignettes --timings PhenStat_2.42.0.tar.gz
###
##############################################################################
##############################################################################
* using log directory ‘/Users/biocbuild/bbs-3.20-bioc/meat/PhenStat.Rcheck’
* using R version 4.4.3 (2025-02-28)
* using platform: aarch64-apple-darwin20
* R was compiled by
Apple clang version 14.0.0 (clang-1400.0.29.202)
GNU Fortran (GCC) 12.2.0
* running under: macOS Ventura 13.7.1
* using session charset: UTF-8
* using option ‘--no-vignettes’
* checking for file ‘PhenStat/DESCRIPTION’ ... OK
* checking extension type ... Package
* this is package ‘PhenStat’ version ‘2.42.0’
* checking package namespace information ... OK
* checking package dependencies ... OK
* checking if this is a source package ... OK
* checking if there is a namespace ... OK
* checking for hidden files and directories ... OK
* checking for portable file names ... OK
* checking for sufficient/correct file permissions ... OK
* checking whether package ‘PhenStat’ can be installed ... OK
* checking installed package size ... OK
* checking package directory ... OK
* checking ‘build’ directory ... OK
* checking DESCRIPTION meta-information ... OK
* checking top-level files ... OK
* checking for left-over files ... OK
* checking index information ... OK
* checking package subdirectories ... OK
* checking code files for non-ASCII characters ... OK
* checking R files for syntax errors ... OK
* checking whether the package can be loaded ... OK
* checking whether the package can be loaded with stated dependencies ... OK
* checking whether the package can be unloaded cleanly ... OK
* checking whether the namespace can be loaded with stated dependencies ... OK
* checking whether the namespace can be unloaded cleanly ... OK
* checking whether startup messages can be suppressed ... OK
* checking dependencies in R code ... NOTE
Namespace in Imports field not imported from: ‘SmoothWin’
All declared Imports should be used.
* checking S3 generic/method consistency ... OK
* checking replacement functions ... OK
* checking foreign function calls ... OK
* checking R code for possible problems ... OK
* checking Rd files ... NOTE
checkRd: (-1) plot.PhenList.Rd:49-53: Lost braces
49 | \item boxplotSexGenotype. See documentations for {
| ^
checkRd: (-1) plot.PhenList.Rd:54-58: Lost braces
54 | \item boxplotSexGenotypeBatchAdjusted. See documentations for {
| ^
checkRd: (-1) plot.PhenList.Rd:59-63: Lost braces
59 | \item boxplotSexGenotypeWeightBatchAdjusted. See documentations for {
| ^
checkRd: (-1) plot.PhenList.Rd:64-68: Lost braces
64 | \item scatterplotSexGenotypeBatch. See documentations for {
| ^
checkRd: (-1) plot.PhenList.Rd:69-73: Lost braces
69 | \item scatterplotGenotypeWeight. See documentations for {
| ^
checkRd: (-1) plot.PhenList.Rd:74-78: Lost braces
74 | \item boxplotSexGenotypeBatch. See documentations for {
| ^
checkRd: (-1) plot.PhenTestResult.Rd:41-45: Lost braces
41 | \item boxplotSexGenotypeResult. See documentations for {
| ^
checkRd: (-1) plot.PhenTestResult.Rd:46-50: Lost braces
46 | \item scatterplotSexGenotypeBatchResult. See documentations for {
| ^
checkRd: (-1) plot.PhenTestResult.Rd:51-55: Lost braces
51 | \item scatterplotGenotypeWeightResult. See documentations for {
| ^
checkRd: (-1) plot.PhenTestResult.Rd:56-60: Lost braces
56 | \item plotResidualPredicted. See documentations for {
| ^
checkRd: (-1) plot.PhenTestResult.Rd:61-65: Lost braces
61 | \item qqplotRandomEffects. See documentations for {
| ^
checkRd: (-1) plot.PhenTestResult.Rd:66-70: Lost braces
66 | \item boxplotResidualBatch. See documentations for {
| ^
checkRd: (-1) plot.PhenTestResult.Rd:71-75: Lost braces
71 | \item qqplotRotatedResiduals. See documentations for {
| ^
checkRd: (-1) plot.PhenTestResult.Rd:76-80: Lost braces
76 | \item qqplotGenotype. See documentations for {
| ^
checkRd: (-1) plot.PhenTestResult.Rd:81-85: Lost braces
81 | \item categoricalBarplot. See documentations for {
| ^
checkRd: (-1) qqplotRotatedResiduals.Rd:18: Lost braces
18 | Houseman, E. A., Ryan, L. M., Coull, B. A. (2004): Cholesky residuals for assessing normal errors in a linear model with correlated outcomes. \emph{Journal of the American Statistical Association} \bold{99}{466}: pg 383-394. Doi 10.1198
| ^
* checking Rd metadata ... OK
* checking Rd cross-references ... OK
* checking for missing documentation entries ... OK
* checking for code/documentation mismatches ... OK
* checking Rd \usage sections ... NOTE
Documented arguments not in \usage in Rd file 'printLROutput.Rd':
‘effectValues’
Functions with \usage entries need to have the appropriate \alias
entries, and all their arguments documented.
The \usage entries must correspond to syntactically valid R code.
See chapter ‘Writing R documentation files’ in the ‘Writing R
Extensions’ manual.
* checking Rd contents ... NOTE
Argument items with no description in Rd file 'plot.PhenList.Rd':
‘\dots’
Argument items with no description in Rd file 'plot.PhenTestResult.Rd':
‘\dots’
* checking for unstated dependencies in examples ... OK
* checking sizes of PDF files under ‘inst/doc’ ... OK
* checking installed files from ‘inst/doc’ ... OK
* checking files in ‘vignettes’ ... OK
* checking examples ... OK
Examples with CPU (user + system) or elapsed time > 5s
user system elapsed
qqplotRotatedResiduals 5.525 0.056 5.584
* checking for unstated dependencies in ‘tests’ ... OK
* checking tests ...
Running ‘runTests.R’
OK
* checking for unstated dependencies in vignettes ... OK
* checking package vignettes ... OK
* checking running R code from vignettes ... SKIPPED
* checking re-building of vignette outputs ... SKIPPED
* checking PDF version of manual ... OK
* DONE
Status: 4 NOTEs
See
‘/Users/biocbuild/bbs-3.20-bioc/meat/PhenStat.Rcheck/00check.log’
for details.
PhenStat.Rcheck/00install.out
############################################################################## ############################################################################## ### ### Running command: ### ### /Library/Frameworks/R.framework/Resources/bin/R CMD INSTALL PhenStat ### ############################################################################## ############################################################################## * installing to library ‘/Library/Frameworks/R.framework/Versions/4.4-arm64/Resources/library’ * installing *source* package ‘PhenStat’ ... ** using staged installation ** R ** inst ** byte-compile and prepare package for lazy loading ** help *** installing help indices ** building package indices ** installing vignettes ** testing if installed package can be loaded from temporary location ** testing if installed package can be loaded from final location ** testing if installed package keeps a record of temporary installation path * DONE (PhenStat)
PhenStat.Rcheck/tests/runTests.Rout
R version 4.4.3 (2025-02-28) -- "Trophy Case"
Copyright (C) 2025 The R Foundation for Statistical Computing
Platform: aarch64-apple-darwin20
R is free software and comes with ABSOLUTELY NO WARRANTY.
You are welcome to redistribute it under certain conditions.
Type 'license()' or 'licence()' for distribution details.
R is a collaborative project with many contributors.
Type 'contributors()' for more information and
'citation()' on how to cite R or R packages in publications.
Type 'demo()' for some demos, 'help()' for on-line help, or
'help.start()' for an HTML browser interface to help.
Type 'q()' to quit R.
> BiocGenerics:::testPackage("PhenStat")
>=========================================================================<
This version of PhenStat includes *FEWER* functions than the previous ones
You *still* can use the previous functions by using `:::`. For example :
PhenStat:::boxplotSexGenotype or PhenStat:::FisherExactTest
*** Want to know what is new in this version? run PhenStat:::WhatIsNew()
>=========================================================================<
RUNIT TEST PROTOCOL -- Wed Apr 2 04:11:39 2025
***********************************************
Number of test functions: 0
Number of errors: 0
Number of failures: 0
1 Test Suite :
PhenStat RUnit Tests - 0 test functions, 0 errors, 0 failures
Number of test functions: 0
Number of errors: 0
Number of failures: 0
>
> proc.time()
user system elapsed
3.542 0.262 3.857
PhenStat.Rcheck/PhenStat-Ex.timings
| name | user | system | elapsed | |
| FisherExactTest | 0.144 | 0.012 | 0.158 | |
| JSONOutput | 1.064 | 0.018 | 1.082 | |
| LRDataset | 0.058 | 0.001 | 0.060 | |
| PhenList-class | 0.181 | 0.010 | 0.191 | |
| PhenList | 0.173 | 0.007 | 0.181 | |
| PhenStatReport | 0.047 | 0.001 | 0.047 | |
| PhenTestResult-class | 0.949 | 0.022 | 0.971 | |
| PhenTestResult | 0.812 | 0.010 | 0.822 | |
| RRTest | 0.087 | 0.005 | 0.091 | |
| TFDataset | 0.213 | 0.008 | 0.222 | |
| analysedDataset | 0.909 | 0.018 | 0.928 | |
| analysisResults | 0.913 | 0.009 | 0.934 | |
| boxplotResidualBatch | 0.957 | 0.014 | 0.971 | |
| boxplotSexGenotype | 0.064 | 0.004 | 0.069 | |
| boxplotSexGenotypeBatch | 0.129 | 0.006 | 0.135 | |
| boxplotSexGenotypeBatchAdjusted | 0.061 | 0.002 | 0.064 | |
| boxplotSexGenotypeResult | 1.344 | 0.020 | 1.365 | |
| boxplotSexGenotypeWeightBatchAdjusted | 0.053 | 0.005 | 0.058 | |
| categoricalBarplot | 0.098 | 0.003 | 0.102 | |
| checkDataset | 0.033 | 0.001 | 0.035 | |
| classificationTag | 0.894 | 0.011 | 0.911 | |
| determiningLambda | 0.838 | 0.298 | 1.137 | |
| dim | 0.033 | 0.001 | 0.034 | |
| finalLRModel | 0.491 | 0.018 | 0.511 | |
| finalModel | 0.785 | 0.009 | 0.795 | |
| finalTFModel | 0.442 | 0.033 | 0.477 | |
| htestPhenStat-class | 0.112 | 0.007 | 0.123 | |
| modelFormula | 0 | 0 | 0 | |
| modelFormulaLR | 0.000 | 0.001 | 0.000 | |
| parserOutputSummary | 0.905 | 0.023 | 0.951 | |
| parserOutputSummaryLR | 0.426 | 0.024 | 0.450 | |
| parserOutputTFSummary | 0.093 | 0.002 | 0.096 | |
| performReverseTransformation | 0 | 0 | 0 | |
| performTransformation | 0.001 | 0.001 | 0.000 | |
| plot.PhenList | 2.884 | 0.087 | 2.974 | |
| plot.PhenTestResult | 2.876 | 0.067 | 2.950 | |
| plotResidualPredicted | 0.895 | 0.020 | 0.916 | |
| printLROutput | 0.440 | 0.012 | 0.452 | |
| printTabStyle | 0.001 | 0.000 | 0.001 | |
| qqplotGenotype | 0.906 | 0.028 | 0.933 | |
| qqplotRandomEffects | 0.913 | 0.021 | 0.933 | |
| qqplotRotatedResiduals | 5.525 | 0.056 | 5.584 | |
| recommendMethod | 0.191 | 0.006 | 0.197 | |
| scatterplotGenotypeWeight | 0.174 | 0.007 | 0.182 | |
| scatterplotGenotypeWeightResult | 1.125 | 0.027 | 1.157 | |
| scatterplotSexGenotypeBatch | 0.087 | 0.004 | 0.091 | |
| scatterplotSexGenotypeBatchResult | 1.098 | 0.016 | 1.115 | |
| startLRModel | 0.419 | 0.008 | 0.426 | |
| startModel | 0.733 | 0.005 | 0.741 | |
| startTFModel | 0.369 | 0.010 | 0.378 | |
| summaryOutput | 1.032 | 0.026 | 1.059 | |
| summaryPhenListResult | 1.008 | 0.039 | 1.048 | |
| testDataset | 2.791 | 0.092 | 2.887 | |
| testFinalLRModel | 0.433 | 0.011 | 0.444 | |
| testFinalModel | 1.103 | 0.013 | 1.138 | |
| vectorOutput | 1.020 | 0.025 | 1.048 | |
| vectorOutputMatrices | 0.133 | 0.012 | 0.145 | |