| Back to Multiple platform build/check report for BioC 3.20: simplified long |
|
This page was generated on 2024-11-20 12:06 -0500 (Wed, 20 Nov 2024).
| Hostname | OS | Arch (*) | R version | Installed pkgs |
|---|---|---|---|---|
| teran2 | Linux (Ubuntu 24.04.1 LTS) | x86_64 | 4.4.2 (2024-10-31) -- "Pile of Leaves" | 4481 |
| nebbiolo2 | Linux (Ubuntu 24.04.1 LTS) | x86_64 | 4.4.2 (2024-10-31) -- "Pile of Leaves" | 4479 |
| palomino8 | Windows Server 2022 Datacenter | x64 | 4.4.2 (2024-10-31 ucrt) -- "Pile of Leaves" | 4359 |
| lconway | macOS 12.7.1 Monterey | x86_64 | 4.4.1 (2024-06-14) -- "Race for Your Life" | 4539 |
| kunpeng2 | Linux (openEuler 22.03 LTS-SP1) | aarch64 | 4.4.1 (2024-06-14) -- "Race for Your Life" | 4493 |
| Click on any hostname to see more info about the system (e.g. compilers) (*) as reported by 'uname -p', except on Windows and Mac OS X | ||||
| Package 1542/2289 | Hostname | OS / Arch | INSTALL | BUILD | CHECK | BUILD BIN | ||||||||
| PhenStat 2.42.0 (landing page) Hamed Haselimashhadi
| teran2 | Linux (Ubuntu 24.04.1 LTS) / x86_64 | OK | OK | OK | |||||||||
| nebbiolo2 | Linux (Ubuntu 24.04.1 LTS) / x86_64 | OK | OK | OK | ||||||||||
| palomino8 | Windows Server 2022 Datacenter / x64 | ERROR | ERROR | skipped | skipped | |||||||||
| lconway | macOS 12.7.1 Monterey / x86_64 | OK | OK | OK | OK | |||||||||
| kunpeng2 | Linux (openEuler 22.03 LTS-SP1) / aarch64 | OK | OK | OK | ||||||||||
|
To the developers/maintainers of the PhenStat package: - Allow up to 24 hours (and sometimes 48 hours) for your latest push to git@git.bioconductor.org:packages/PhenStat.git to reflect on this report. See Troubleshooting Build Report for more information. - Use the following Renviron settings to reproduce errors and warnings. - If 'R CMD check' started to fail recently on the Linux builder(s) over a missing dependency, add the missing dependency to 'Suggests:' in your DESCRIPTION file. See Renviron.bioc for more information. |
| Package: PhenStat |
| Version: 2.42.0 |
| Command: /Library/Frameworks/R.framework/Resources/bin/R CMD check --install=check:PhenStat.install-out.txt --library=/Library/Frameworks/R.framework/Resources/library --no-vignettes --timings PhenStat_2.42.0.tar.gz |
| StartedAt: 2024-11-20 01:08:58 -0500 (Wed, 20 Nov 2024) |
| EndedAt: 2024-11-20 01:14:44 -0500 (Wed, 20 Nov 2024) |
| EllapsedTime: 345.9 seconds |
| RetCode: 0 |
| Status: OK |
| CheckDir: PhenStat.Rcheck |
| Warnings: 0 |
##############################################################################
##############################################################################
###
### Running command:
###
### /Library/Frameworks/R.framework/Resources/bin/R CMD check --install=check:PhenStat.install-out.txt --library=/Library/Frameworks/R.framework/Resources/library --no-vignettes --timings PhenStat_2.42.0.tar.gz
###
##############################################################################
##############################################################################
* using log directory ‘/Users/biocbuild/bbs-3.20-bioc/meat/PhenStat.Rcheck’
* using R version 4.4.1 (2024-06-14)
* using platform: x86_64-apple-darwin20
* R was compiled by
Apple clang version 14.0.0 (clang-1400.0.29.202)
GNU Fortran (GCC) 12.2.0
* running under: macOS Monterey 12.7.6
* using session charset: UTF-8
* using option ‘--no-vignettes’
* checking for file ‘PhenStat/DESCRIPTION’ ... OK
* checking extension type ... Package
* this is package ‘PhenStat’ version ‘2.42.0’
* checking package namespace information ... OK
* checking package dependencies ...Warning: unable to access index for repository https://CRAN.R-project.org/src/contrib:
cannot open URL 'https://CRAN.R-project.org/src/contrib/PACKAGES'
OK
* checking if this is a source package ... OK
* checking if there is a namespace ... OK
* checking for hidden files and directories ... OK
* checking for portable file names ... OK
* checking for sufficient/correct file permissions ... OK
* checking whether package ‘PhenStat’ can be installed ... OK
* checking installed package size ... OK
* checking package directory ... OK
* checking ‘build’ directory ... OK
* checking DESCRIPTION meta-information ... OK
* checking top-level files ... OK
* checking for left-over files ... OK
* checking index information ... OK
* checking package subdirectories ... OK
* checking code files for non-ASCII characters ... OK
* checking R files for syntax errors ... OK
* checking whether the package can be loaded ... OK
* checking whether the package can be loaded with stated dependencies ... OK
* checking whether the package can be unloaded cleanly ... OK
* checking whether the namespace can be loaded with stated dependencies ... OK
* checking whether the namespace can be unloaded cleanly ... OK
* checking whether startup messages can be suppressed ... OK
* checking dependencies in R code ... NOTE
Namespace in Imports field not imported from: ‘SmoothWin’
All declared Imports should be used.
* checking S3 generic/method consistency ... OK
* checking replacement functions ... OK
* checking foreign function calls ... OK
* checking R code for possible problems ... OK
* checking Rd files ... NOTE
checkRd: (-1) plot.PhenList.Rd:49-53: Lost braces
49 | \item boxplotSexGenotype. See documentations for {
| ^
checkRd: (-1) plot.PhenList.Rd:54-58: Lost braces
54 | \item boxplotSexGenotypeBatchAdjusted. See documentations for {
| ^
checkRd: (-1) plot.PhenList.Rd:59-63: Lost braces
59 | \item boxplotSexGenotypeWeightBatchAdjusted. See documentations for {
| ^
checkRd: (-1) plot.PhenList.Rd:64-68: Lost braces
64 | \item scatterplotSexGenotypeBatch. See documentations for {
| ^
checkRd: (-1) plot.PhenList.Rd:69-73: Lost braces
69 | \item scatterplotGenotypeWeight. See documentations for {
| ^
checkRd: (-1) plot.PhenList.Rd:74-78: Lost braces
74 | \item boxplotSexGenotypeBatch. See documentations for {
| ^
checkRd: (-1) plot.PhenTestResult.Rd:41-45: Lost braces
41 | \item boxplotSexGenotypeResult. See documentations for {
| ^
checkRd: (-1) plot.PhenTestResult.Rd:46-50: Lost braces
46 | \item scatterplotSexGenotypeBatchResult. See documentations for {
| ^
checkRd: (-1) plot.PhenTestResult.Rd:51-55: Lost braces
51 | \item scatterplotGenotypeWeightResult. See documentations for {
| ^
checkRd: (-1) plot.PhenTestResult.Rd:56-60: Lost braces
56 | \item plotResidualPredicted. See documentations for {
| ^
checkRd: (-1) plot.PhenTestResult.Rd:61-65: Lost braces
61 | \item qqplotRandomEffects. See documentations for {
| ^
checkRd: (-1) plot.PhenTestResult.Rd:66-70: Lost braces
66 | \item boxplotResidualBatch. See documentations for {
| ^
checkRd: (-1) plot.PhenTestResult.Rd:71-75: Lost braces
71 | \item qqplotRotatedResiduals. See documentations for {
| ^
checkRd: (-1) plot.PhenTestResult.Rd:76-80: Lost braces
76 | \item qqplotGenotype. See documentations for {
| ^
checkRd: (-1) plot.PhenTestResult.Rd:81-85: Lost braces
81 | \item categoricalBarplot. See documentations for {
| ^
checkRd: (-1) qqplotRotatedResiduals.Rd:18: Lost braces
18 | Houseman, E. A., Ryan, L. M., Coull, B. A. (2004): Cholesky residuals for assessing normal errors in a linear model with correlated outcomes. \emph{Journal of the American Statistical Association} \bold{99}{466}: pg 383-394. Doi 10.1198
| ^
* checking Rd metadata ... OK
* checking Rd cross-references ... OK
* checking for missing documentation entries ... OK
* checking for code/documentation mismatches ... OK
* checking Rd \usage sections ... NOTE
Documented arguments not in \usage in Rd file 'printLROutput.Rd':
‘effectValues’
Functions with \usage entries need to have the appropriate \alias
entries, and all their arguments documented.
The \usage entries must correspond to syntactically valid R code.
See chapter ‘Writing R documentation files’ in the ‘Writing R
Extensions’ manual.
* checking Rd contents ... NOTE
Argument items with no description in Rd file 'plot.PhenList.Rd':
‘\dots’
Argument items with no description in Rd file 'plot.PhenTestResult.Rd':
‘\dots’
* checking for unstated dependencies in examples ... OK
* checking sizes of PDF files under ‘inst/doc’ ... OK
* checking installed files from ‘inst/doc’ ... OK
* checking files in ‘vignettes’ ... OK
* checking examples ... OK
* checking for unstated dependencies in ‘tests’ ... OK
* checking tests ...
Running ‘runTests.R’
OK
* checking for unstated dependencies in vignettes ... OK
* checking package vignettes ... OK
* checking running R code from vignettes ... SKIPPED
* checking re-building of vignette outputs ... SKIPPED
* checking PDF version of manual ... OK
* DONE
Status: 4 NOTEs
See
‘/Users/biocbuild/bbs-3.20-bioc/meat/PhenStat.Rcheck/00check.log’
for details.
PhenStat.Rcheck/00install.out
############################################################################## ############################################################################## ### ### Running command: ### ### /Library/Frameworks/R.framework/Resources/bin/R CMD INSTALL PhenStat ### ############################################################################## ############################################################################## * installing to library ‘/Library/Frameworks/R.framework/Versions/4.4-x86_64/Resources/library’ * installing *source* package ‘PhenStat’ ... ** using staged installation ** R ** inst ** byte-compile and prepare package for lazy loading ** help *** installing help indices ** building package indices ** installing vignettes ** testing if installed package can be loaded from temporary location ** testing if installed package can be loaded from final location ** testing if installed package keeps a record of temporary installation path * DONE (PhenStat)
PhenStat.Rcheck/tests/runTests.Rout
R version 4.4.1 (2024-06-14) -- "Race for Your Life"
Copyright (C) 2024 The R Foundation for Statistical Computing
Platform: x86_64-apple-darwin20
R is free software and comes with ABSOLUTELY NO WARRANTY.
You are welcome to redistribute it under certain conditions.
Type 'license()' or 'licence()' for distribution details.
R is a collaborative project with many contributors.
Type 'contributors()' for more information and
'citation()' on how to cite R or R packages in publications.
Type 'demo()' for some demos, 'help()' for on-line help, or
'help.start()' for an HTML browser interface to help.
Type 'q()' to quit R.
> BiocGenerics:::testPackage("PhenStat")
>=========================================================================<
This version of PhenStat includes *FEWER* functions than the previous ones
You *still* can use the previous functions by using `:::`. For example :
PhenStat:::boxplotSexGenotype or PhenStat:::FisherExactTest
*** Want to know what is new in this version? run PhenStat:::WhatIsNew()
>=========================================================================<
RUNIT TEST PROTOCOL -- Wed Nov 20 01:14:34 2024
***********************************************
Number of test functions: 0
Number of errors: 0
Number of failures: 0
1 Test Suite :
PhenStat RUnit Tests - 0 test functions, 0 errors, 0 failures
Number of test functions: 0
Number of errors: 0
Number of failures: 0
>
> proc.time()
user system elapsed
2.661 0.239 2.914
PhenStat.Rcheck/PhenStat-Ex.timings
| name | user | system | elapsed | |
| FisherExactTest | 0.157 | 0.018 | 0.179 | |
| JSONOutput | 0.884 | 0.039 | 0.934 | |
| LRDataset | 0.043 | 0.002 | 0.045 | |
| PhenList-class | 0.134 | 0.009 | 0.143 | |
| PhenList | 0.134 | 0.009 | 0.144 | |
| PhenStatReport | 0.027 | 0.002 | 0.029 | |
| PhenTestResult-class | 0.666 | 0.014 | 0.683 | |
| PhenTestResult | 0.564 | 0.013 | 0.582 | |
| RRTest | 0.079 | 0.005 | 0.084 | |
| TFDataset | 0.198 | 0.006 | 0.205 | |
| analysedDataset | 0.625 | 0.017 | 0.645 | |
| analysisResults | 0.644 | 0.014 | 0.662 | |
| boxplotResidualBatch | 0.707 | 0.020 | 0.739 | |
| boxplotSexGenotype | 0.065 | 0.005 | 0.069 | |
| boxplotSexGenotypeBatch | 0.122 | 0.005 | 0.128 | |
| boxplotSexGenotypeBatchAdjusted | 0.062 | 0.003 | 0.066 | |
| boxplotSexGenotypeResult | 1.037 | 0.020 | 1.067 | |
| boxplotSexGenotypeWeightBatchAdjusted | 0.051 | 0.002 | 0.055 | |
| categoricalBarplot | 0.111 | 0.005 | 0.118 | |
| checkDataset | 0.029 | 0.001 | 0.030 | |
| classificationTag | 0.610 | 0.012 | 0.625 | |
| determiningLambda | 0.619 | 0.207 | 0.833 | |
| dim | 0.026 | 0.001 | 0.027 | |
| finalLRModel | 0.432 | 0.010 | 0.445 | |
| finalModel | 0.568 | 0.009 | 0.580 | |
| finalTFModel | 0.411 | 0.016 | 0.431 | |
| htestPhenStat-class | 0.102 | 0.006 | 0.110 | |
| modelFormula | 0 | 0 | 0 | |
| modelFormulaLR | 0.001 | 0.000 | 0.000 | |
| parserOutputSummary | 0.669 | 0.011 | 0.684 | |
| parserOutputSummaryLR | 0.385 | 0.012 | 0.402 | |
| parserOutputTFSummary | 0.073 | 0.001 | 0.076 | |
| performReverseTransformation | 0.000 | 0.000 | 0.001 | |
| performTransformation | 0 | 0 | 0 | |
| plot.PhenList | 1.980 | 0.067 | 2.069 | |
| plot.PhenTestResult | 1.980 | 0.065 | 2.070 | |
| plotResidualPredicted | 0.679 | 0.013 | 0.700 | |
| printLROutput | 0.366 | 0.006 | 0.376 | |
| printTabStyle | 0.000 | 0.000 | 0.001 | |
| qqplotGenotype | 0.918 | 0.023 | 0.946 | |
| qqplotRandomEffects | 0.604 | 0.011 | 0.620 | |
| qqplotRotatedResiduals | 3.240 | 0.048 | 3.299 | |
| recommendMethod | 0.385 | 0.012 | 0.398 | |
| scatterplotGenotypeWeight | 0.119 | 0.005 | 0.126 | |
| scatterplotGenotypeWeightResult | 0.809 | 0.021 | 0.840 | |
| scatterplotSexGenotypeBatch | 0.081 | 0.007 | 0.090 | |
| scatterplotSexGenotypeBatchResult | 0.946 | 0.019 | 0.978 | |
| startLRModel | 0.388 | 0.007 | 0.399 | |
| startModel | 0.528 | 0.008 | 0.541 | |
| startTFModel | 0.291 | 0.007 | 0.299 | |
| summaryOutput | 0.688 | 0.010 | 0.703 | |
| summaryPhenListResult | 0.684 | 0.012 | 0.701 | |
| testDataset | 1.812 | 0.054 | 1.881 | |
| testFinalLRModel | 0.545 | 0.021 | 0.569 | |
| testFinalModel | 0.671 | 0.008 | 0.681 | |
| vectorOutput | 0.629 | 0.016 | 0.646 | |
| vectorOutputMatrices | 0.079 | 0.001 | 0.081 | |