| Back to Multiple platform build/check report for BioC 3.20: simplified long |
|
This page was generated on 2024-11-20 12:08 -0500 (Wed, 20 Nov 2024).
| Hostname | OS | Arch (*) | R version | Installed pkgs |
|---|---|---|---|---|
| teran2 | Linux (Ubuntu 24.04.1 LTS) | x86_64 | 4.4.2 (2024-10-31) -- "Pile of Leaves" | 4481 |
| nebbiolo2 | Linux (Ubuntu 24.04.1 LTS) | x86_64 | 4.4.2 (2024-10-31) -- "Pile of Leaves" | 4479 |
| palomino8 | Windows Server 2022 Datacenter | x64 | 4.4.2 (2024-10-31 ucrt) -- "Pile of Leaves" | 4359 |
| lconway | macOS 12.7.1 Monterey | x86_64 | 4.4.1 (2024-06-14) -- "Race for Your Life" | 4539 |
| kunpeng2 | Linux (openEuler 22.03 LTS-SP1) | aarch64 | 4.4.1 (2024-06-14) -- "Race for Your Life" | 4493 |
| Click on any hostname to see more info about the system (e.g. compilers) (*) as reported by 'uname -p', except on Windows and Mac OS X | ||||
| Package 1542/2289 | Hostname | OS / Arch | INSTALL | BUILD | CHECK | BUILD BIN | ||||||||
| PhenStat 2.42.0 (landing page) Hamed Haselimashhadi
| teran2 | Linux (Ubuntu 24.04.1 LTS) / x86_64 | OK | OK | OK | |||||||||
| nebbiolo2 | Linux (Ubuntu 24.04.1 LTS) / x86_64 | OK | OK | OK | ||||||||||
| palomino8 | Windows Server 2022 Datacenter / x64 | ERROR | ERROR | skipped | skipped | |||||||||
| lconway | macOS 12.7.1 Monterey / x86_64 | OK | OK | OK | OK | |||||||||
| kunpeng2 | Linux (openEuler 22.03 LTS-SP1) / aarch64 | OK | OK | OK | ||||||||||
|
To the developers/maintainers of the PhenStat package: - Allow up to 24 hours (and sometimes 48 hours) for your latest push to git@git.bioconductor.org:packages/PhenStat.git to reflect on this report. See Troubleshooting Build Report for more information. - Use the following Renviron settings to reproduce errors and warnings. - If 'R CMD check' started to fail recently on the Linux builder(s) over a missing dependency, add the missing dependency to 'Suggests:' in your DESCRIPTION file. See Renviron.bioc for more information. - See Martin Grigorov's blog post for how to debug Linux ARM64 related issues on a x86_64 host. |
| Package: PhenStat |
| Version: 2.42.0 |
| Command: /home/biocbuild/R/R/bin/R CMD check --install=check:PhenStat.install-out.txt --library=/home/biocbuild/R/R/site-library --no-vignettes --timings PhenStat_2.42.0.tar.gz |
| StartedAt: 2024-11-20 10:59:07 -0000 (Wed, 20 Nov 2024) |
| EndedAt: 2024-11-20 11:01:40 -0000 (Wed, 20 Nov 2024) |
| EllapsedTime: 152.3 seconds |
| RetCode: 0 |
| Status: OK |
| CheckDir: PhenStat.Rcheck |
| Warnings: 0 |
##############################################################################
##############################################################################
###
### Running command:
###
### /home/biocbuild/R/R/bin/R CMD check --install=check:PhenStat.install-out.txt --library=/home/biocbuild/R/R/site-library --no-vignettes --timings PhenStat_2.42.0.tar.gz
###
##############################################################################
##############################################################################
* using log directory ‘/home/biocbuild/bbs-3.20-bioc/meat/PhenStat.Rcheck’
* using R version 4.4.1 (2024-06-14)
* using platform: aarch64-unknown-linux-gnu
* R was compiled by
gcc (GCC) 12.2.1 20220819 (openEuler 12.2.1-14)
GNU Fortran (GCC) 10.3.1
* running under: openEuler 22.03 (LTS-SP1)
* using session charset: UTF-8
* using option ‘--no-vignettes’
* checking for file ‘PhenStat/DESCRIPTION’ ... OK
* checking extension type ... Package
* this is package ‘PhenStat’ version ‘2.42.0’
* checking package namespace information ... OK
* checking package dependencies ... OK
* checking if this is a source package ... OK
* checking if there is a namespace ... OK
* checking for hidden files and directories ... OK
* checking for portable file names ... OK
* checking for sufficient/correct file permissions ... OK
* checking whether package ‘PhenStat’ can be installed ... OK
* checking installed package size ... OK
* checking package directory ... OK
* checking ‘build’ directory ... OK
* checking DESCRIPTION meta-information ... OK
* checking top-level files ... OK
* checking for left-over files ... OK
* checking index information ... OK
* checking package subdirectories ... OK
* checking code files for non-ASCII characters ... OK
* checking R files for syntax errors ... OK
* checking whether the package can be loaded ... OK
* checking whether the package can be loaded with stated dependencies ... OK
* checking whether the package can be unloaded cleanly ... OK
* checking whether the namespace can be loaded with stated dependencies ... OK
* checking whether the namespace can be unloaded cleanly ... OK
* checking loading without being on the library search path ... OK
* checking whether startup messages can be suppressed ... OK
* checking dependencies in R code ... NOTE
Namespace in Imports field not imported from: ‘SmoothWin’
All declared Imports should be used.
* checking S3 generic/method consistency ... OK
* checking replacement functions ... OK
* checking foreign function calls ... OK
* checking R code for possible problems ... OK
* checking Rd files ... NOTE
checkRd: (-1) plot.PhenList.Rd:49-53: Lost braces
49 | \item boxplotSexGenotype. See documentations for {
| ^
checkRd: (-1) plot.PhenList.Rd:54-58: Lost braces
54 | \item boxplotSexGenotypeBatchAdjusted. See documentations for {
| ^
checkRd: (-1) plot.PhenList.Rd:59-63: Lost braces
59 | \item boxplotSexGenotypeWeightBatchAdjusted. See documentations for {
| ^
checkRd: (-1) plot.PhenList.Rd:64-68: Lost braces
64 | \item scatterplotSexGenotypeBatch. See documentations for {
| ^
checkRd: (-1) plot.PhenList.Rd:69-73: Lost braces
69 | \item scatterplotGenotypeWeight. See documentations for {
| ^
checkRd: (-1) plot.PhenList.Rd:74-78: Lost braces
74 | \item boxplotSexGenotypeBatch. See documentations for {
| ^
checkRd: (-1) plot.PhenTestResult.Rd:41-45: Lost braces
41 | \item boxplotSexGenotypeResult. See documentations for {
| ^
checkRd: (-1) plot.PhenTestResult.Rd:46-50: Lost braces
46 | \item scatterplotSexGenotypeBatchResult. See documentations for {
| ^
checkRd: (-1) plot.PhenTestResult.Rd:51-55: Lost braces
51 | \item scatterplotGenotypeWeightResult. See documentations for {
| ^
checkRd: (-1) plot.PhenTestResult.Rd:56-60: Lost braces
56 | \item plotResidualPredicted. See documentations for {
| ^
checkRd: (-1) plot.PhenTestResult.Rd:61-65: Lost braces
61 | \item qqplotRandomEffects. See documentations for {
| ^
checkRd: (-1) plot.PhenTestResult.Rd:66-70: Lost braces
66 | \item boxplotResidualBatch. See documentations for {
| ^
checkRd: (-1) plot.PhenTestResult.Rd:71-75: Lost braces
71 | \item qqplotRotatedResiduals. See documentations for {
| ^
checkRd: (-1) plot.PhenTestResult.Rd:76-80: Lost braces
76 | \item qqplotGenotype. See documentations for {
| ^
checkRd: (-1) plot.PhenTestResult.Rd:81-85: Lost braces
81 | \item categoricalBarplot. See documentations for {
| ^
checkRd: (-1) qqplotRotatedResiduals.Rd:18: Lost braces
18 | Houseman, E. A., Ryan, L. M., Coull, B. A. (2004): Cholesky residuals for assessing normal errors in a linear model with correlated outcomes. \emph{Journal of the American Statistical Association} \bold{99}{466}: pg 383-394. Doi 10.1198
| ^
* checking Rd metadata ... OK
* checking Rd cross-references ... OK
* checking for missing documentation entries ... OK
* checking for code/documentation mismatches ... OK
* checking Rd \usage sections ... NOTE
Documented arguments not in \usage in Rd file 'printLROutput.Rd':
‘effectValues’
Functions with \usage entries need to have the appropriate \alias
entries, and all their arguments documented.
The \usage entries must correspond to syntactically valid R code.
See chapter ‘Writing R documentation files’ in the ‘Writing R
Extensions’ manual.
* checking Rd contents ... NOTE
Argument items with no description in Rd file 'plot.PhenList.Rd':
‘\dots’
Argument items with no description in Rd file 'plot.PhenTestResult.Rd':
‘\dots’
* checking for unstated dependencies in examples ... OK
* checking installed files from ‘inst/doc’ ... OK
* checking files in ‘vignettes’ ... OK
* checking examples ... OK
* checking for unstated dependencies in ‘tests’ ... OK
* checking tests ...
Running ‘runTests.R’
OK
* checking for unstated dependencies in vignettes ... OK
* checking package vignettes ... OK
* checking running R code from vignettes ... SKIPPED
* checking re-building of vignette outputs ... SKIPPED
* checking PDF version of manual ... OK
* DONE
Status: 4 NOTEs
See
‘/home/biocbuild/bbs-3.20-bioc/meat/PhenStat.Rcheck/00check.log’
for details.
PhenStat.Rcheck/00install.out
############################################################################## ############################################################################## ### ### Running command: ### ### /home/biocbuild/R/R/bin/R CMD INSTALL PhenStat ### ############################################################################## ############################################################################## * installing to library ‘/home/biocbuild/R/R-4.4.1/site-library’ * installing *source* package ‘PhenStat’ ... ** using staged installation ** R ** inst ** byte-compile and prepare package for lazy loading ** help *** installing help indices ** building package indices ** installing vignettes ** testing if installed package can be loaded from temporary location ** testing if installed package can be loaded from final location ** testing if installed package keeps a record of temporary installation path * DONE (PhenStat)
PhenStat.Rcheck/tests/runTests.Rout
R version 4.4.1 (2024-06-14) -- "Race for Your Life"
Copyright (C) 2024 The R Foundation for Statistical Computing
Platform: aarch64-unknown-linux-gnu
R is free software and comes with ABSOLUTELY NO WARRANTY.
You are welcome to redistribute it under certain conditions.
Type 'license()' or 'licence()' for distribution details.
R is a collaborative project with many contributors.
Type 'contributors()' for more information and
'citation()' on how to cite R or R packages in publications.
Type 'demo()' for some demos, 'help()' for on-line help, or
'help.start()' for an HTML browser interface to help.
Type 'q()' to quit R.
> BiocGenerics:::testPackage("PhenStat")
>=========================================================================<
This version of PhenStat includes *FEWER* functions than the previous ones
You *still* can use the previous functions by using `:::`. For example :
PhenStat:::boxplotSexGenotype or PhenStat:::FisherExactTest
*** Want to know what is new in this version? run PhenStat:::WhatIsNew()
>=========================================================================<
RUNIT TEST PROTOCOL -- Wed Nov 20 11:01:35 2024
***********************************************
Number of test functions: 0
Number of errors: 0
Number of failures: 0
1 Test Suite :
PhenStat RUnit Tests - 0 test functions, 0 errors, 0 failures
Number of test functions: 0
Number of errors: 0
Number of failures: 0
>
> proc.time()
user system elapsed
3.998 0.290 4.203
PhenStat.Rcheck/PhenStat-Ex.timings
| name | user | system | elapsed | |
| FisherExactTest | 0.184 | 0.016 | 0.202 | |
| JSONOutput | 0.934 | 0.016 | 0.822 | |
| LRDataset | 0.060 | 0.000 | 0.062 | |
| PhenList-class | 0.223 | 0.004 | 0.228 | |
| PhenList | 0.209 | 0.000 | 0.210 | |
| PhenStatReport | 0.055 | 0.000 | 0.055 | |
| PhenTestResult-class | 0.763 | 0.004 | 0.648 | |
| PhenTestResult | 0.538 | 0.000 | 0.492 | |
| RRTest | 0.205 | 0.004 | 0.128 | |
| TFDataset | 0.304 | 0.032 | 0.337 | |
| analysedDataset | 0.673 | 0.008 | 0.639 | |
| analysisResults | 0.727 | 0.052 | 0.665 | |
| boxplotResidualBatch | 0.873 | 0.008 | 0.692 | |
| boxplotSexGenotype | 0.120 | 0.004 | 0.104 | |
| boxplotSexGenotypeBatch | 0.181 | 0.012 | 0.193 | |
| boxplotSexGenotypeBatchAdjusted | 0.083 | 0.004 | 0.087 | |
| boxplotSexGenotypeResult | 1.256 | 0.028 | 1.167 | |
| boxplotSexGenotypeWeightBatchAdjusted | 0.083 | 0.004 | 0.087 | |
| categoricalBarplot | 0.169 | 0.019 | 0.189 | |
| checkDataset | 0.044 | 0.000 | 0.045 | |
| classificationTag | 0.602 | 0.015 | 0.585 | |
| determiningLambda | 0.896 | 0.027 | 0.842 | |
| dim | 0.044 | 0.000 | 0.044 | |
| finalLRModel | 0.615 | 0.031 | 0.648 | |
| finalModel | 0.486 | 0.012 | 0.465 | |
| finalTFModel | 0.683 | 0.012 | 0.617 | |
| htestPhenStat-class | 0.150 | 0.012 | 0.162 | |
| modelFormula | 0 | 0 | 0 | |
| modelFormulaLR | 0 | 0 | 0 | |
| parserOutputSummary | 0.620 | 0.016 | 0.601 | |
| parserOutputSummaryLR | 0.634 | 0.001 | 0.554 | |
| parserOutputTFSummary | 0.122 | 0.018 | 0.141 | |
| performReverseTransformation | 0.001 | 0.000 | 0.001 | |
| performTransformation | 0.001 | 0.000 | 0.001 | |
| plot.PhenList | 2.490 | 0.028 | 2.028 | |
| plot.PhenTestResult | 2.456 | 0.060 | 2.014 | |
| plotResidualPredicted | 0.668 | 0.004 | 0.622 | |
| printLROutput | 0.626 | 0.012 | 0.569 | |
| printTabStyle | 0.001 | 0.000 | 0.001 | |
| qqplotGenotype | 0.770 | 0.000 | 0.715 | |
| qqplotRandomEffects | 0.730 | 0.004 | 0.615 | |
| qqplotRotatedResiduals | 2.521 | 0.072 | 1.928 | |
| recommendMethod | 0.652 | 0.000 | 0.592 | |
| scatterplotGenotypeWeight | 0.161 | 0.004 | 0.165 | |
| scatterplotGenotypeWeightResult | 0.943 | 0.024 | 0.848 | |
| scatterplotSexGenotypeBatch | 0.099 | 0.004 | 0.104 | |
| scatterplotSexGenotypeBatchResult | 0.889 | 0.004 | 0.809 | |
| startLRModel | 0.511 | 0.000 | 0.512 | |
| startModel | 0.532 | 0.000 | 0.532 | |
| startTFModel | 0.547 | 0.032 | 0.580 | |
| summaryOutput | 0.885 | 0.020 | 0.773 | |
| summaryPhenListResult | 0.899 | 0.000 | 0.771 | |
| testDataset | 2.381 | 0.056 | 1.957 | |
| testFinalLRModel | 0.571 | 0.000 | 0.573 | |
| testFinalModel | 0.721 | 0.004 | 0.645 | |
| vectorOutput | 0.963 | 0.012 | 0.774 | |
| vectorOutputMatrices | 0.153 | 0.004 | 0.157 | |