Back to Multiple platform build/check report for BioC 3.20:   simplified   long
ABCDEFGHIJKLMN[O]PQRSTUVWXYZ

This page was generated on 2025-02-06 12:12 -0500 (Thu, 06 Feb 2025).

HostnameOSArch (*)R versionInstalled pkgs
nebbiolo2Linux (Ubuntu 24.04.1 LTS)x86_644.4.2 (2024-10-31) -- "Pile of Leaves" 4753
palomino8Windows Server 2022 Datacenterx644.4.2 (2024-10-31 ucrt) -- "Pile of Leaves" 4501
merida1macOS 12.7.5 Montereyx86_644.4.2 (2024-10-31) -- "Pile of Leaves" 4524
kjohnson1macOS 13.6.6 Venturaarm644.4.2 (2024-10-31) -- "Pile of Leaves" 4476
taishanLinux (openEuler 24.03 LTS)aarch644.4.2 (2024-10-31) -- "Pile of Leaves" 4407
Click on any hostname to see more info about the system (e.g. compilers)      (*) as reported by 'uname -p', except on Windows and Mac OS X

Package 1456/2289HostnameOS / ArchINSTALLBUILDCHECKBUILD BIN
OmnipathR 3.14.0  (landing page)
Denes Turei
Snapshot Date: 2025-02-03 13:00 -0500 (Mon, 03 Feb 2025)
git_url: https://git.bioconductor.org/packages/OmnipathR
git_branch: RELEASE_3_20
git_last_commit: 3c7d7f1
git_last_commit_date: 2024-10-29 10:41:00 -0500 (Tue, 29 Oct 2024)
nebbiolo2Linux (Ubuntu 24.04.1 LTS) / x86_64  OK    OK    OK  UNNEEDED, same version is already published
palomino8Windows Server 2022 Datacenter / x64  OK    OK    OK    OK  UNNEEDED, same version is already published
merida1macOS 12.7.5 Monterey / x86_64  OK    OK    OK    OK  UNNEEDED, same version is already published
kjohnson1macOS 13.6.6 Ventura / arm64  OK    OK    OK    OK  UNNEEDED, same version is already published
taishanLinux (openEuler 24.03 LTS) / aarch64  OK    OK    OK  


CHECK results for OmnipathR on taishan

To the developers/maintainers of the OmnipathR package:
- Allow up to 24 hours (and sometimes 48 hours) for your latest push to git@git.bioconductor.org:packages/OmnipathR.git to reflect on this report. See Troubleshooting Build Report for more information.
- Use the following Renviron settings to reproduce errors and warnings.
- If 'R CMD check' started to fail recently on the Linux builder(s) over a missing dependency, add the missing dependency to 'Suggests:' in your DESCRIPTION file. See Renviron.bioc for more information.
- See Martin Grigorov's blog post for how to debug Linux ARM64 related issues on a x86_64 host.

raw results


Summary

Package: OmnipathR
Version: 3.14.0
Command: /home/biocbuild/R/R/bin/R CMD check --install=check:OmnipathR.install-out.txt --library=/home/biocbuild/R/R/site-library --no-vignettes --timings OmnipathR_3.14.0.tar.gz
StartedAt: 2025-02-04 09:31:12 -0000 (Tue, 04 Feb 2025)
EndedAt: 2025-02-04 09:50:11 -0000 (Tue, 04 Feb 2025)
EllapsedTime: 1139.0 seconds
RetCode: 0
Status:   OK  
CheckDir: OmnipathR.Rcheck
Warnings: 0

Command output

##############################################################################
##############################################################################
###
### Running command:
###
###   /home/biocbuild/R/R/bin/R CMD check --install=check:OmnipathR.install-out.txt --library=/home/biocbuild/R/R/site-library --no-vignettes --timings OmnipathR_3.14.0.tar.gz
###
##############################################################################
##############################################################################


* using log directory ‘/home/biocbuild/bbs-3.20-bioc/meat/OmnipathR.Rcheck’
* using R version 4.4.2 (2024-10-31)
* using platform: aarch64-unknown-linux-gnu
* R was compiled by
    aarch64-unknown-linux-gnu-gcc (GCC) 14.2.0
    GNU Fortran (GCC) 12.3.1 (openEuler 12.3.1-36.oe2403)
* running under: openEuler 24.03 (LTS)
* using session charset: UTF-8
* using option ‘--no-vignettes’
* checking for file ‘OmnipathR/DESCRIPTION’ ... OK
* checking extension type ... Package
* this is package ‘OmnipathR’ version ‘3.14.0’
* package encoding: UTF-8
* checking package namespace information ... OK
* checking package dependencies ... OK
* checking if this is a source package ... OK
* checking if there is a namespace ... OK
* checking for hidden files and directories ... OK
* checking for portable file names ... OK
* checking for sufficient/correct file permissions ... OK
* checking whether package ‘OmnipathR’ can be installed ... OK
* checking installed package size ... OK
* checking package directory ... OK
* checking DESCRIPTION meta-information ... OK
* checking top-level files ... OK
* checking for left-over files ... OK
* checking index information ... OK
* checking package subdirectories ... OK
* checking code files for non-ASCII characters ... OK
* checking R files for syntax errors ... OK
* checking whether the package can be loaded ... OK
* checking whether the package can be loaded with stated dependencies ... OK
* checking whether the package can be unloaded cleanly ... OK
* checking whether the namespace can be loaded with stated dependencies ... OK
* checking whether the namespace can be unloaded cleanly ... OK
* checking loading without being on the library search path ... OK
* checking whether startup messages can be suppressed ... NOTE
[2025-02-04 09:31:47] [TRACE]   [OmnipathR] Reading JSON from `/home/biocbuild/.cache/OmnipathR/cache.json` (encoding: UTF-8).
[2025-02-04 09:31:47] [TRACE]   [OmnipathR] JSON validation successful: TRUE
[2025-02-04 09:31:47] [INFO]    [OmnipathR] Initialized cache: `/home/biocbuild/.cache/OmnipathR`.
[2025-02-04 09:31:47] [TRACE]   [OmnipathR] Running on a build server, wiping cache.
[2025-02-04 09:31:47] [TRACE]   [OmnipathR] Cache is at `/home/biocbuild/.cache/OmnipathR`.
[2025-02-04 09:31:47] [TRACE]   [OmnipathR] Contains 1 files.
[2025-02-04 09:31:47] [TRACE]   [OmnipathR] Cache is locked: FALSE.
[2025-02-04 09:31:47] [TRACE]   [OmnipathR] Reading JSON from `/home/biocbuild/.cache/OmnipathR/cache.json` (encoding: UTF-8).
[2025-02-04 09:31:47] [TRACE]   [OmnipathR] JSON validation successful: TRUE
[2025-02-04 09:31:47] [SUCCESS] [OmnipathR] Removing all cache contents from `/home/biocbuild/.cache/OmnipathR`.
[2025-02-04 09:31:47] [TRACE]   [OmnipathR] Pandoc version: `2.12`.
[2025-02-04 09:31:47] [TRACE]   [OmnipathR] Reading JSON from `/home/biocbuild/R/R-4.4.2/site-library/OmnipathR/db/db_def.json` (encoding: UTF-8).
[2025-02-04 09:31:47] [TRACE]   [OmnipathR] JSON validation successful: TRUE
[2025-02-04 09:31:47] [TRACE]   [OmnipathR] Reading JSON from `/home/biocbuild/R/R-4.4.2/site-library/OmnipathR/internal/magic_bytes.json` (encoding: UTF-8).
[2025-02-04 09:31:47] [TRACE]   [OmnipathR] JSON validation successful: TRUE
[2025-02-04 09:31:47] [TRACE]   [OmnipathR] Reading JSON from `/home/biocbuild/R/R-4.4.2/site-library/OmnipathR/internal/urls.json` (encoding: UTF-8).
[2025-02-04 09:31:47] [TRACE]   [OmnipathR] JSON validation successful: TRUE
[2025-02-04 09:31:47] [TRACE]   [OmnipathR] Reading JSON from `/home/biocbuild/R/R-4.4.2/site-library/OmnipathR/internal/id_types.json` (encoding: UTF-8).
[2025-02-04 09:31:47] [TRACE]   [OmnipathR] JSON validation successful: TRUE
[2025-02-04 09:31:47] [TRACE]   [OmnipathR] Cache locked: FALSE

It looks like this package (or a package it requires) has a startup
message which cannot be suppressed: see ?packageStartupMessage.
* checking dependencies in R code ... OK
* checking S3 generic/method consistency ... OK
* checking replacement functions ... OK
* checking foreign function calls ... OK
* checking R code for possible problems ... NOTE
[2025-02-04 09:32:06] [TRACE]   [OmnipathR] Reading JSON from `/home/biocbuild/.cache/OmnipathR/cache.json` (encoding: UTF-8).
[2025-02-04 09:32:06] [TRACE]   [OmnipathR] JSON validation successful: TRUE
[2025-02-04 09:32:06] [INFO]    [OmnipathR] Initialized cache: `/home/biocbuild/.cache/OmnipathR`.
[2025-02-04 09:32:06] [TRACE]   [OmnipathR] Running on a build server, wiping cache.
[2025-02-04 09:32:06] [TRACE]   [OmnipathR] Cache is at `/home/biocbuild/.cache/OmnipathR`.
[2025-02-04 09:32:06] [TRACE]   [OmnipathR] Contains 1 files.
[2025-02-04 09:32:06] [TRACE]   [OmnipathR] Cache is locked: FALSE.
[2025-02-04 09:32:06] [TRACE]   [OmnipathR] Reading JSON from `/home/biocbuild/.cache/OmnipathR/cache.json` (encoding: UTF-8).
[2025-02-04 09:32:06] [TRACE]   [OmnipathR] JSON validation successful: TRUE
[2025-02-04 09:32:06] [SUCCESS] [OmnipathR] Removing all cache contents from `/home/biocbuild/.cache/OmnipathR`.
[2025-02-04 09:32:06] [TRACE]   [OmnipathR] Pandoc version: `2.12`.
[2025-02-04 09:32:06] [TRACE]   [OmnipathR] Reading JSON from `/home/biocbuild/R/R-4.4.2/site-library/OmnipathR/db/db_def.json` (encoding: UTF-8).
[2025-02-04 09:32:06] [TRACE]   [OmnipathR] JSON validation successful: TRUE
[2025-02-04 09:32:06] [TRACE]   [OmnipathR] Reading JSON from `/home/biocbuild/R/R-4.4.2/site-library/OmnipathR/internal/magic_bytes.json` (encoding: UTF-8).
[2025-02-04 09:32:06] [TRACE]   [OmnipathR] JSON validation successful: TRUE
[2025-02-04 09:32:06] [TRACE]   [OmnipathR] Reading JSON from `/home/biocbuild/R/R-4.4.2/site-library/OmnipathR/internal/urls.json` (encoding: UTF-8).
[2025-02-04 09:32:06] [TRACE]   [OmnipathR] JSON validation successful: TRUE
[2025-02-04 09:32:06] [TRACE]   [OmnipathR] Reading JSON from `/home/biocbuild/R/R-4.4.2/site-library/OmnipathR/internal/id_types.json` (encoding: UTF-8).
[2025-02-04 09:32:06] [TRACE]   [OmnipathR] JSON validation successful: TRUE
[2025-02-04 09:32:06] [TRACE]   [OmnipathR] Cache locked: FALSE
* checking Rd files ... OK
* checking Rd metadata ... OK
* checking Rd cross-references ... OK
* checking for missing documentation entries ... OK
* checking for code/documentation mismatches ... OK
* checking Rd \usage sections ... OK
* checking Rd contents ... OK
* checking for unstated dependencies in examples ... OK
* checking R/sysdata.rda ... OK
* checking files in ‘vignettes’ ... OK
* checking examples ... OK
Examples with CPU (user + system) or elapsed time > 5s
                                        user system elapsed
annotation_categories                101.003  0.044 109.526
curated_ligrec_stats                  33.177  1.026 162.908
omnipath-interactions                 30.485  1.314  71.206
filter_extra_attrs                    25.511  0.143  53.130
go_annot_download                     11.572  7.474  58.630
nichenet_gr_network_omnipath          13.792  0.327  15.861
extra_attr_values                     13.623  0.138  17.150
extra_attrs_to_cols                   11.784  0.072  12.916
giant_component                       11.183  0.231  26.219
nichenet_signaling_network_omnipath   10.062  0.220  12.146
with_extra_attrs                       9.739  0.210  11.873
pivot_annotations                      9.469  0.238  22.155
omnipath_for_cosmos                    8.988  0.110  53.713
extra_attrs                            7.527  0.036   7.984
translate_ids_multi                    7.349  0.123  29.391
has_extra_attrs                        7.397  0.046   8.367
filter_by_resource                     6.837  0.071   9.258
print_interactions                     6.100  0.174  10.448
static_table                           6.125  0.110  13.394
find_all_paths                         6.004  0.120   6.429
curated_ligand_receptor_interactions   5.402  0.278  20.973
filter_intercell                       5.381  0.123  13.028
signed_ptms                            5.292  0.064   6.398
hpo_download                           2.375  0.069  19.862
print_path_vs                          2.279  0.071   5.783
ensembl_id_mapping_table               1.293  0.052  53.069
translate_ids                          1.246  0.008  20.155
all_uniprots                           0.851  0.061  23.213
annotated_network                      0.856  0.045   5.105
uniprot_full_id_mapping_table          0.853  0.008  22.438
* checking for unstated dependencies in ‘tests’ ... OK
* checking tests ...
  Running ‘testthat.R’
 OK
* checking for unstated dependencies in vignettes ... OK
* checking package vignettes ... OK
* checking running R code from vignettes ... SKIPPED
* checking re-building of vignette outputs ... SKIPPED
* checking PDF version of manual ... OK
* DONE

Status: 2 NOTEs
See
  ‘/home/biocbuild/bbs-3.20-bioc/meat/OmnipathR.Rcheck/00check.log’
for details.


Installation output

OmnipathR.Rcheck/00install.out

##############################################################################
##############################################################################
###
### Running command:
###
###   /home/biocbuild/R/R/bin/R CMD INSTALL OmnipathR
###
##############################################################################
##############################################################################


* installing to library ‘/home/biocbuild/R/R-4.4.2/site-library’
* installing *source* package ‘OmnipathR’ ...
** using staged installation
** R
** inst
** byte-compile and prepare package for lazy loading
** help
*** installing help indices
*** copying figures
** building package indices
** installing vignettes
** testing if installed package can be loaded from temporary location
[2025-02-03 20:58:17] [TRACE]   [OmnipathR] Reading JSON from `/home/biocbuild/.cache/OmnipathR/cache.json` (encoding: UTF-8).
[2025-02-03 20:58:17] [TRACE]   [OmnipathR] JSON validation successful: TRUE
[2025-02-03 20:58:17] [INFO]    [OmnipathR] Initialized cache: `/home/biocbuild/.cache/OmnipathR`.
[2025-02-03 20:58:17] [TRACE]   [OmnipathR] Running on a build server, wiping cache.
[2025-02-03 20:58:17] [TRACE]   [OmnipathR] Cache is at `/home/biocbuild/.cache/OmnipathR`.
[2025-02-03 20:58:17] [TRACE]   [OmnipathR] Contains 2 files.
[2025-02-03 20:58:17] [TRACE]   [OmnipathR] Cache is locked: FALSE.
[2025-02-03 20:58:17] [TRACE]   [OmnipathR] Reading JSON from `/home/biocbuild/.cache/OmnipathR/cache.json` (encoding: UTF-8).
[2025-02-03 20:58:17] [TRACE]   [OmnipathR] JSON validation successful: TRUE
[2025-02-03 20:58:17] [SUCCESS] [OmnipathR] Removing all cache contents from `/home/biocbuild/.cache/OmnipathR`.
[2025-02-03 20:58:17] [TRACE]   [OmnipathR] Pandoc version: `2.12`.
[2025-02-03 20:58:17] [TRACE]   [OmnipathR] Reading JSON from `/home/biocbuild/R/R-4.4.2/site-library/00LOCK-OmnipathR/00new/OmnipathR/db/db_def.json` (encoding: UTF-8).
[2025-02-03 20:58:17] [TRACE]   [OmnipathR] JSON validation successful: TRUE
[2025-02-03 20:58:17] [TRACE]   [OmnipathR] Reading JSON from `/home/biocbuild/R/R-4.4.2/site-library/00LOCK-OmnipathR/00new/OmnipathR/internal/magic_bytes.json` (encoding: UTF-8).
[2025-02-03 20:58:17] [TRACE]   [OmnipathR] JSON validation successful: TRUE
[2025-02-03 20:58:17] [TRACE]   [OmnipathR] Reading JSON from `/home/biocbuild/R/R-4.4.2/site-library/00LOCK-OmnipathR/00new/OmnipathR/internal/urls.json` (encoding: UTF-8).
[2025-02-03 20:58:17] [TRACE]   [OmnipathR] JSON validation successful: TRUE
[2025-02-03 20:58:17] [TRACE]   [OmnipathR] Reading JSON from `/home/biocbuild/R/R-4.4.2/site-library/00LOCK-OmnipathR/00new/OmnipathR/internal/id_types.json` (encoding: UTF-8).
[2025-02-03 20:58:17] [TRACE]   [OmnipathR] JSON validation successful: TRUE
[2025-02-03 20:58:17] [TRACE]   [OmnipathR] Cache locked: FALSE
** testing if installed package can be loaded from final location
[2025-02-03 20:58:20] [TRACE]   [OmnipathR] Reading JSON from `/home/biocbuild/.cache/OmnipathR/cache.json` (encoding: UTF-8).
[2025-02-03 20:58:20] [TRACE]   [OmnipathR] JSON validation successful: TRUE
[2025-02-03 20:58:20] [INFO]    [OmnipathR] Initialized cache: `/home/biocbuild/.cache/OmnipathR`.
[2025-02-03 20:58:20] [TRACE]   [OmnipathR] Running on a build server, wiping cache.
[2025-02-03 20:58:20] [TRACE]   [OmnipathR] Cache is at `/home/biocbuild/.cache/OmnipathR`.
[2025-02-03 20:58:20] [TRACE]   [OmnipathR] Contains 1 files.
[2025-02-03 20:58:20] [TRACE]   [OmnipathR] Cache is locked: FALSE.
[2025-02-03 20:58:20] [TRACE]   [OmnipathR] Reading JSON from `/home/biocbuild/.cache/OmnipathR/cache.json` (encoding: UTF-8).
[2025-02-03 20:58:20] [TRACE]   [OmnipathR] JSON validation successful: TRUE
[2025-02-03 20:58:20] [SUCCESS] [OmnipathR] Removing all cache contents from `/home/biocbuild/.cache/OmnipathR`.
[2025-02-03 20:58:20] [TRACE]   [OmnipathR] Pandoc version: `2.12`.
[2025-02-03 20:58:20] [TRACE]   [OmnipathR] Reading JSON from `/home/biocbuild/R/R-4.4.2/site-library/OmnipathR/db/db_def.json` (encoding: UTF-8).
[2025-02-03 20:58:20] [TRACE]   [OmnipathR] JSON validation successful: TRUE
[2025-02-03 20:58:20] [TRACE]   [OmnipathR] Reading JSON from `/home/biocbuild/R/R-4.4.2/site-library/OmnipathR/internal/magic_bytes.json` (encoding: UTF-8).
[2025-02-03 20:58:20] [TRACE]   [OmnipathR] JSON validation successful: TRUE
[2025-02-03 20:58:20] [TRACE]   [OmnipathR] Reading JSON from `/home/biocbuild/R/R-4.4.2/site-library/OmnipathR/internal/urls.json` (encoding: UTF-8).
[2025-02-03 20:58:20] [TRACE]   [OmnipathR] JSON validation successful: TRUE
[2025-02-03 20:58:20] [TRACE]   [OmnipathR] Reading JSON from `/home/biocbuild/R/R-4.4.2/site-library/OmnipathR/internal/id_types.json` (encoding: UTF-8).
[2025-02-03 20:58:20] [TRACE]   [OmnipathR] JSON validation successful: TRUE
[2025-02-03 20:58:20] [TRACE]   [OmnipathR] Cache locked: FALSE
** testing if installed package keeps a record of temporary installation path
* DONE (OmnipathR)

Tests output

OmnipathR.Rcheck/tests/testthat.Rout


R version 4.4.2 (2024-10-31) -- "Pile of Leaves"
Copyright (C) 2024 The R Foundation for Statistical Computing
Platform: aarch64-unknown-linux-gnu

R is free software and comes with ABSOLUTELY NO WARRANTY.
You are welcome to redistribute it under certain conditions.
Type 'license()' or 'licence()' for distribution details.

R is a collaborative project with many contributors.
Type 'contributors()' for more information and
'citation()' on how to cite R or R packages in publications.

Type 'demo()' for some demos, 'help()' for on-line help, or
'help.start()' for an HTML browser interface to help.
Type 'q()' to quit R.

> #!/usr/bin/env Rscript
> 
> #
> #  This file is part of the `OmnipathR` R package
> #
> #  Copyright
> #  2018-2024
> #  Saez Lab, Uniklinik RWTH Aachen, Heidelberg University
> #
> #  File author(s): Alberto Valdeolivas
> #                  Dénes Türei (turei.denes@gmail.com)
> #                  Attila Gábor
> #
> #  Distributed under the MIT (Expat) License.
> #  See accompanying file `LICENSE` or find a copy at
> #      https://directory.fsf.org/wiki/License:Expat
> #
> #  Website: https://r.omnipathdb.org/
> #  Git repo: https://github.com/saezlab/OmnipathR
> #
> 
> 
> library(testthat)
> library(OmnipathR)
[2025-02-04 09:49:10] [TRACE]   [OmnipathR] Reading JSON from `/home/biocbuild/.cache/OmnipathR/cache.json` (encoding: UTF-8).
[2025-02-04 09:49:10] [TRACE]   [OmnipathR] JSON validation successful: TRUE
[2025-02-04 09:49:10] [INFO]    [OmnipathR] Initialized cache: `/home/biocbuild/.cache/OmnipathR`.
[2025-02-04 09:49:10] [TRACE]   [OmnipathR] Running on a build server, wiping cache.
[2025-02-04 09:49:10] [TRACE]   [OmnipathR] Cache is at `/home/biocbuild/.cache/OmnipathR`.
[2025-02-04 09:49:10] [TRACE]   [OmnipathR] Contains 21 files.
[2025-02-04 09:49:10] [TRACE]   [OmnipathR] Cache is locked: FALSE.
[2025-02-04 09:49:10] [TRACE]   [OmnipathR] Reading JSON from `/home/biocbuild/.cache/OmnipathR/cache.json` (encoding: UTF-8).
[2025-02-04 09:49:10] [TRACE]   [OmnipathR] JSON validation successful: TRUE
[2025-02-04 09:49:10] [SUCCESS] [OmnipathR] Removing all cache contents from `/home/biocbuild/.cache/OmnipathR`.
[2025-02-04 09:49:10] [TRACE]   [OmnipathR] Pandoc version: `2.12`.
[2025-02-04 09:49:10] [TRACE]   [OmnipathR] Reading JSON from `/home/biocbuild/R/R-4.4.2/site-library/OmnipathR/db/db_def.json` (encoding: UTF-8).
[2025-02-04 09:49:10] [TRACE]   [OmnipathR] JSON validation successful: TRUE
[2025-02-04 09:49:10] [TRACE]   [OmnipathR] Reading JSON from `/home/biocbuild/R/R-4.4.2/site-library/OmnipathR/internal/magic_bytes.json` (encoding: UTF-8).
[2025-02-04 09:49:10] [TRACE]   [OmnipathR] JSON validation successful: TRUE
[2025-02-04 09:49:11] [TRACE]   [OmnipathR] Reading JSON from `/home/biocbuild/R/R-4.4.2/site-library/OmnipathR/internal/urls.json` (encoding: UTF-8).
[2025-02-04 09:49:11] [TRACE]   [OmnipathR] JSON validation successful: TRUE
[2025-02-04 09:49:11] [TRACE]   [OmnipathR] Reading JSON from `/home/biocbuild/R/R-4.4.2/site-library/OmnipathR/internal/id_types.json` (encoding: UTF-8).
[2025-02-04 09:49:11] [TRACE]   [OmnipathR] JSON validation successful: TRUE
[2025-02-04 09:49:11] [TRACE]   [OmnipathR] Cache locked: FALSE
> 
> test_check('OmnipathR')
[ FAIL 0 | WARN 0 | SKIP 0 | PASS 34 ]
> 
> proc.time()
   user  system elapsed 
 12.398   0.835  52.257 

Example timings

OmnipathR.Rcheck/OmnipathR-Ex.timings

nameusersystemelapsed
OmnipathR0.0000.0000.001
all_uniprot_acs0.0220.0000.022
all_uniprots 0.851 0.06123.213
ancestors0.0110.0000.011
annotated_network0.8560.0455.105
annotation_categories101.003 0.044109.526
annotation_resources0.0870.0081.060
annotations0.3340.0082.031
biomart_query0.9090.0323.180
bioplex10.0120.0000.012
bioplex20.0110.0000.011
bioplex30.0520.0000.051
bioplex_all0.0100.0000.011
bioplex_hct116_10.0110.0000.011
bma_motif_es0.4070.0442.185
bma_motif_vs0.2440.0321.291
chalmers_gem0.0130.0000.013
chalmers_gem_id_mapping_table0.0120.0000.012
chalmers_gem_id_type0.0020.0000.003
chalmers_gem_metabolites0.0120.0000.012
chalmers_gem_network0.0130.0000.012
chalmers_gem_raw0.0080.0040.011
chalmers_gem_reactions0.0110.0000.011
common_name0.070.000.07
complex_genes0.4930.0153.028
complex_resources0.1200.0121.227
complexes0.1630.0311.258
consensuspathdb_download000
consensuspathdb_raw_table0.0140.0000.025
cosmos_pkn000
curated_ligand_receptor_interactions 5.402 0.27820.973
curated_ligrec_stats 33.177 1.026162.908
database_summary1.5690.0493.588
descendants0.0110.0000.011
ensembl_dataset0.0120.0000.012
ensembl_id_mapping_table 1.293 0.05253.069
ensembl_id_type0.0000.0050.006
ensembl_name0.0760.0060.082
ensembl_organisms0.1540.0000.154
ensembl_organisms_raw0.1860.0040.225
ensembl_orthology0.0010.0000.001
enzsub_graph2.1910.0124.974
enzsub_resources0.0890.0001.100
enzyme_substrate1.1470.0002.279
evex_download0.010.000.01
evidences000
extra_attr_values13.623 0.13817.150
extra_attrs7.5270.0367.984
extra_attrs_to_cols11.784 0.07212.916
filter_by_resource6.8370.0719.258
filter_extra_attrs25.511 0.14353.130
filter_intercell 5.381 0.12313.028
filter_intercell_network0.0230.0000.027
find_all_paths6.0040.1206.429
from_evidences0.0000.0000.001
get_db000
get_ontology_db0.0130.0000.025
giant_component11.183 0.23126.219
go_annot_download11.572 7.47458.630
go_annot_slim0.0000.0010.000
go_ontology_download0.0120.0000.027
guide2pharma_download0.0120.0000.012
harmonizome_download0.0120.0000.012
has_extra_attrs7.3970.0468.367
hmdb_id_mapping_table0.0120.0000.011
hmdb_id_type0.0000.0030.003
hmdb_metabolite_fields0.0000.0000.001
hmdb_protein_fields000
hmdb_table0.0110.0000.012
homologene_download0.0120.0000.013
homologene_raw0.0250.0000.026
homologene_uniprot_orthology0.0120.0000.012
hpo_download 2.375 0.06919.862
htridb_download0.0100.0040.028
id_translation_resources000
id_types0.0470.0040.066
inbiomap_download0.0000.0000.001
inbiomap_raw000
interaction_datasets0.5070.0151.287
interaction_graph0.3910.0051.581
interaction_resources0.0970.0001.081
interaction_types0.0570.0000.114
intercell0.4930.0121.525
intercell_categories0.4090.0041.050
intercell_consensus_filter1.2500.1072.773
intercell_generic_categories0.0540.0040.058
intercell_network0.0050.0080.012
intercell_resources0.0980.0001.001
intercell_summary0.0510.0070.059
is_ontology_id000
is_swissprot0.0330.0000.033
is_trembl0.0330.0000.033
is_uniprot0.0130.0000.013
kegg_info0.0120.0000.012
kegg_open0.0170.0040.020
kegg_pathway_annotations000
kegg_pathway_download0.0090.0080.016
kegg_pathway_list0.0160.0000.015
kegg_pathways_download000
kegg_picture0.1270.0161.215
kegg_process0.0150.0070.022
latin_name0.0710.0000.072
load_db0.0910.0000.092
ncbi_taxid0.0740.0000.074
nichenet_build_model000
nichenet_expression_data0.0110.0000.012
nichenet_gr_network0.0350.0000.051
nichenet_gr_network_evex0.0110.0000.012
nichenet_gr_network_harmonizome0.0120.0000.012
nichenet_gr_network_htridb0.0110.0000.012
nichenet_gr_network_omnipath13.792 0.32715.861
nichenet_gr_network_pathwaycommons0.0100.0000.011
nichenet_gr_network_regnetwork0.0110.0000.011
nichenet_gr_network_remap0.0110.0000.011
nichenet_gr_network_trrust0.0110.0000.010
nichenet_ligand_activities0.0010.0000.000
nichenet_ligand_target_links000
nichenet_ligand_target_matrix000
nichenet_lr_network0.0320.0000.032
nichenet_lr_network_guide2pharma0.0110.0000.010
nichenet_lr_network_omnipath0.0330.0000.034
nichenet_lr_network_ramilowski0.0120.0000.012
nichenet_main0.0010.0000.000
nichenet_networks0.0520.0040.056
nichenet_optimization000
nichenet_remove_orphan_ligands0.0350.0000.034
nichenet_results_dir000
nichenet_signaling_network0.0320.0040.036
nichenet_signaling_network_cpdb0.0070.0040.012
nichenet_signaling_network_evex0.0120.0000.012
nichenet_signaling_network_harmonizome0.0120.0000.012
nichenet_signaling_network_inbiomap000
nichenet_signaling_network_omnipath10.062 0.22012.146
nichenet_signaling_network_pathwaycommons0.0130.0000.013
nichenet_signaling_network_vinayagam0.0120.0000.012
nichenet_test000
nichenet_workarounds000
obo_parser0.1090.0081.117
oma_code0.0410.0000.080
oma_organisms0.0670.0000.096
oma_pairwise0.0140.0000.013
oma_pairwise_genesymbols0.0130.0000.012
oma_pairwise_translated0.0120.0000.013
omnipath-interactions30.485 1.31471.206
omnipath_cache_autoclean000
omnipath_cache_clean0.0080.0000.008
omnipath_cache_clean_db0.1020.0000.102
omnipath_cache_download_ready0.5090.0040.967
omnipath_cache_filter_versions0.0970.0120.114
omnipath_cache_get0.0880.0040.094
omnipath_cache_key0.0010.0000.002
omnipath_cache_latest_or_new0.0920.0000.093
omnipath_cache_load0.5410.0122.898
omnipath_cache_move_in0.1680.0040.180
omnipath_cache_remove0.0970.0120.114
omnipath_cache_save0.1700.0080.287
omnipath_cache_search0.0000.0000.001
omnipath_cache_set_ext0.0830.0040.093
omnipath_cache_update_status0.1150.0080.124
omnipath_cache_wipe000
omnipath_config_path0.0010.0000.003
omnipath_for_cosmos 8.988 0.11053.713
omnipath_load_config0.0000.0000.001
omnipath_log000
omnipath_logfile0.0020.0000.001
omnipath_msg0.0060.0000.006
omnipath_query4.1160.0284.152
omnipath_reset_config0.0000.0000.001
omnipath_save_config000
omnipath_set_cachedir0.0280.0020.031
omnipath_set_console_loglevel0.0050.0000.005
omnipath_set_logfile_loglevel0.0010.0040.005
omnipath_set_loglevel0.0030.0000.003
omnipath_show_db0.0690.0040.073
omnipath_unlock_cache_db0.0010.0000.001
only_from000
ontology_ensure_id0.0000.0010.001
ontology_ensure_name0.0000.0000.001
ontology_name_id0.0000.0010.001
organism_for0.0560.0000.056
pathwaycommons_download0.0000.0010.001
pivot_annotations 9.469 0.23822.155
preppi_download0.0010.0000.001
preppi_filter0.0010.0000.001
print_bma_motif_es0.2300.0151.808
print_bma_motif_vs0.1410.0011.045
print_interactions 6.100 0.17410.448
print_path_es0.5000.0322.500
print_path_vs2.2790.0715.783
pubmed_open4.1080.0814.199
query_info0.1110.0040.690
ramilowski_download0.0010.0000.000
ramp_id_mapping_table0.0010.0000.000
ramp_id_type0.0020.0000.002
ramp_sqlite0.0010.0000.000
ramp_table000
ramp_tables000
regnetwork_directions0.0000.0000.001
regnetwork_download0.0010.0000.001
relations_list_to_table0.0980.0000.687
relations_table_to_graph0.0010.0000.000
relations_table_to_list0.0800.0040.302
remap_dorothea_download000
remap_filtered000
remap_tf_target_download000
resource_info0.1600.0141.082
resources0.0730.0041.162
resources_colname0.5770.0192.382
resources_in3.9420.0123.966
show_network000
signed_ptms5.2920.0646.398
simplify_intercell_network0.0550.0030.061
static_table 6.125 0.11013.394
static_tables0.0520.0040.260
stitch_actions0.0010.0000.001
stitch_links0.0010.0000.001
stitch_network0.0010.0000.001
stitch_remove_prefixes0.0040.0040.007
swap_relations0.1550.0000.367
swissprots_only0.0380.0000.039
tfcensus_download0.1770.0040.203
translate_ids 1.246 0.00820.155
translate_ids_multi 7.349 0.12329.391
trembls_only0.0360.0000.035
trrust_download0.0010.0000.001
uniprot_full_id_mapping_table 0.853 0.00822.438
uniprot_genesymbol_cleanup000
uniprot_id_mapping_table0.0010.0000.001
uniprot_id_type0.0020.0000.003
uniprot_idmapping_id_types0.1930.0041.225
unique_intercell_network0.0010.0000.001
unnest_evidences000
uploadlists_id_type0.0020.0000.002
vinayagam_download0.0010.0000.001
walk_ontology_tree0.0010.0000.002
with_extra_attrs 9.739 0.21011.873
with_references0.3900.0622.439
zenodo_download0.0010.0000.001