| Back to Multiple platform build/check report for BioC 3.20: simplified long |
|
This page was generated on 2025-04-02 19:29 -0400 (Wed, 02 Apr 2025).
| Hostname | OS | Arch (*) | R version | Installed pkgs |
|---|---|---|---|---|
| nebbiolo2 | Linux (Ubuntu 24.04.1 LTS) | x86_64 | 4.4.3 (2025-02-28) -- "Trophy Case" | 4764 |
| palomino8 | Windows Server 2022 Datacenter | x64 | 4.4.3 (2025-02-28 ucrt) -- "Trophy Case" | 4495 |
| merida1 | macOS 12.7.5 Monterey | x86_64 | 4.4.3 (2025-02-28) -- "Trophy Case" | 4522 |
| kjohnson1 | macOS 13.6.6 Ventura | arm64 | 4.4.3 (2025-02-28) -- "Trophy Case" | 4449 |
| taishan | Linux (openEuler 24.03 LTS) | aarch64 | 4.4.3 (2025-02-28) -- "Trophy Case" | 4426 |
| Click on any hostname to see more info about the system (e.g. compilers) (*) as reported by 'uname -p', except on Windows and Mac OS X | ||||
| Package 1456/2289 | Hostname | OS / Arch | INSTALL | BUILD | CHECK | BUILD BIN | ||||||||
| OmnipathR 3.14.0 (landing page) Denes Turei
| nebbiolo2 | Linux (Ubuntu 24.04.1 LTS) / x86_64 | OK | OK | OK | |||||||||
| palomino8 | Windows Server 2022 Datacenter / x64 | OK | OK | OK | OK | |||||||||
| merida1 | macOS 12.7.5 Monterey / x86_64 | OK | OK | OK | OK | |||||||||
| kjohnson1 | macOS 13.6.6 Ventura / arm64 | OK | OK | OK | OK | |||||||||
| taishan | Linux (openEuler 24.03 LTS) / aarch64 | OK | OK | OK | ||||||||||
|
To the developers/maintainers of the OmnipathR package: - Allow up to 24 hours (and sometimes 48 hours) for your latest push to git@git.bioconductor.org:packages/OmnipathR.git to reflect on this report. See Troubleshooting Build Report for more information. - Use the following Renviron settings to reproduce errors and warnings. - If 'R CMD check' started to fail recently on the Linux builder(s) over a missing dependency, add the missing dependency to 'Suggests:' in your DESCRIPTION file. See Renviron.bioc for more information. |
| Package: OmnipathR |
| Version: 3.14.0 |
| Command: /home/biocbuild/bbs-3.20-bioc/R/bin/R CMD check --install=check:OmnipathR.install-out.txt --library=/home/biocbuild/bbs-3.20-bioc/R/site-library --timings OmnipathR_3.14.0.tar.gz |
| StartedAt: 2025-04-01 00:36:48 -0400 (Tue, 01 Apr 2025) |
| EndedAt: 2025-04-01 01:02:38 -0400 (Tue, 01 Apr 2025) |
| EllapsedTime: 1550.0 seconds |
| RetCode: 0 |
| Status: OK |
| CheckDir: OmnipathR.Rcheck |
| Warnings: 0 |
##############################################################################
##############################################################################
###
### Running command:
###
### /home/biocbuild/bbs-3.20-bioc/R/bin/R CMD check --install=check:OmnipathR.install-out.txt --library=/home/biocbuild/bbs-3.20-bioc/R/site-library --timings OmnipathR_3.14.0.tar.gz
###
##############################################################################
##############################################################################
* using log directory ‘/home/biocbuild/bbs-3.20-bioc/meat/OmnipathR.Rcheck’
* using R version 4.4.3 (2025-02-28)
* using platform: x86_64-pc-linux-gnu
* R was compiled by
gcc (Ubuntu 13.3.0-6ubuntu2~24.04) 13.3.0
GNU Fortran (Ubuntu 13.3.0-6ubuntu2~24.04) 13.3.0
* running under: Ubuntu 24.04.2 LTS
* using session charset: UTF-8
* checking for file ‘OmnipathR/DESCRIPTION’ ... OK
* checking extension type ... Package
* this is package ‘OmnipathR’ version ‘3.14.0’
* package encoding: UTF-8
* checking package namespace information ... OK
* checking package dependencies ... OK
* checking if this is a source package ... OK
* checking if there is a namespace ... OK
* checking for hidden files and directories ... OK
* checking for portable file names ... OK
* checking for sufficient/correct file permissions ... OK
* checking whether package ‘OmnipathR’ can be installed ... OK
* checking installed package size ... OK
* checking package directory ... OK
* checking DESCRIPTION meta-information ... OK
* checking top-level files ... OK
* checking for left-over files ... OK
* checking index information ... OK
* checking package subdirectories ... OK
* checking code files for non-ASCII characters ... OK
* checking R files for syntax errors ... OK
* checking whether the package can be loaded ... OK
* checking whether the package can be loaded with stated dependencies ... OK
* checking whether the package can be unloaded cleanly ... OK
* checking whether the namespace can be loaded with stated dependencies ... OK
* checking whether the namespace can be unloaded cleanly ... OK
* checking loading without being on the library search path ... OK
* checking whether startup messages can be suppressed ... NOTE
[2025-04-01 00:37:11] [TRACE] [OmnipathR] Reading JSON from `/home/biocbuild/.cache/OmnipathR/cache.json` (encoding: UTF-8).
[2025-04-01 00:37:11] [TRACE] [OmnipathR] JSON validation successful: TRUE
[2025-04-01 00:37:11] [INFO] [OmnipathR] Initialized cache: `/home/biocbuild/.cache/OmnipathR`.
[2025-04-01 00:37:12] [TRACE] [OmnipathR] Running on a build server, wiping cache.
[2025-04-01 00:37:12] [TRACE] [OmnipathR] Cache is at `/home/biocbuild/.cache/OmnipathR`.
[2025-04-01 00:37:12] [TRACE] [OmnipathR] Contains 1 files.
[2025-04-01 00:37:12] [TRACE] [OmnipathR] Cache is locked: FALSE.
[2025-04-01 00:37:12] [TRACE] [OmnipathR] Reading JSON from `/home/biocbuild/.cache/OmnipathR/cache.json` (encoding: UTF-8).
[2025-04-01 00:37:12] [TRACE] [OmnipathR] JSON validation successful: TRUE
[2025-04-01 00:37:12] [SUCCESS] [OmnipathR] Removing all cache contents from `/home/biocbuild/.cache/OmnipathR`.
[2025-04-01 00:37:12] [TRACE] [OmnipathR] Pandoc version: `2.7.3`.
[2025-04-01 00:37:12] [TRACE] [OmnipathR] Reading JSON from `/home/biocbuild/bbs-3.20-bioc/R/site-library/OmnipathR/db/db_def.json` (encoding: UTF-8).
[2025-04-01 00:37:12] [TRACE] [OmnipathR] JSON validation successful: TRUE
[2025-04-01 00:37:12] [TRACE] [OmnipathR] Reading JSON from `/home/biocbuild/bbs-3.20-bioc/R/site-library/OmnipathR/internal/magic_bytes.json` (encoding: UTF-8).
[2025-04-01 00:37:12] [TRACE] [OmnipathR] JSON validation successful: TRUE
[2025-04-01 00:37:12] [TRACE] [OmnipathR] Reading JSON from `/home/biocbuild/bbs-3.20-bioc/R/site-library/OmnipathR/internal/urls.json` (encoding: UTF-8).
[2025-04-01 00:37:12] [TRACE] [OmnipathR] JSON validation successful: TRUE
[2025-04-01 00:37:12] [TRACE] [OmnipathR] Reading JSON from `/home/biocbuild/bbs-3.20-bioc/R/site-library/OmnipathR/internal/id_types.json` (encoding: UTF-8).
[2025-04-01 00:37:12] [TRACE] [OmnipathR] JSON validation successful: TRUE
[2025-04-01 00:37:12] [TRACE] [OmnipathR] Cache locked: FALSE
It looks like this package (or a package it requires) has a startup
message which cannot be suppressed: see ?packageStartupMessage.
* checking dependencies in R code ... OK
* checking S3 generic/method consistency ... OK
* checking replacement functions ... OK
* checking foreign function calls ... OK
* checking R code for possible problems ... NOTE
[2025-04-01 00:37:24] [TRACE] [OmnipathR] Reading JSON from `/home/biocbuild/.cache/OmnipathR/cache.json` (encoding: UTF-8).
[2025-04-01 00:37:24] [TRACE] [OmnipathR] JSON validation successful: TRUE
[2025-04-01 00:37:24] [INFO] [OmnipathR] Initialized cache: `/home/biocbuild/.cache/OmnipathR`.
[2025-04-01 00:37:24] [TRACE] [OmnipathR] Running on a build server, wiping cache.
[2025-04-01 00:37:24] [TRACE] [OmnipathR] Cache is at `/home/biocbuild/.cache/OmnipathR`.
[2025-04-01 00:37:24] [TRACE] [OmnipathR] Contains 1 files.
[2025-04-01 00:37:24] [TRACE] [OmnipathR] Cache is locked: FALSE.
[2025-04-01 00:37:24] [TRACE] [OmnipathR] Reading JSON from `/home/biocbuild/.cache/OmnipathR/cache.json` (encoding: UTF-8).
[2025-04-01 00:37:24] [TRACE] [OmnipathR] JSON validation successful: TRUE
[2025-04-01 00:37:24] [SUCCESS] [OmnipathR] Removing all cache contents from `/home/biocbuild/.cache/OmnipathR`.
[2025-04-01 00:37:24] [TRACE] [OmnipathR] Pandoc version: `2.7.3`.
[2025-04-01 00:37:24] [TRACE] [OmnipathR] Reading JSON from `/home/biocbuild/bbs-3.20-bioc/R/site-library/OmnipathR/db/db_def.json` (encoding: UTF-8).
[2025-04-01 00:37:24] [TRACE] [OmnipathR] JSON validation successful: TRUE
[2025-04-01 00:37:24] [TRACE] [OmnipathR] Reading JSON from `/home/biocbuild/bbs-3.20-bioc/R/site-library/OmnipathR/internal/magic_bytes.json` (encoding: UTF-8).
[2025-04-01 00:37:24] [TRACE] [OmnipathR] JSON validation successful: TRUE
[2025-04-01 00:37:24] [TRACE] [OmnipathR] Reading JSON from `/home/biocbuild/bbs-3.20-bioc/R/site-library/OmnipathR/internal/urls.json` (encoding: UTF-8).
[2025-04-01 00:37:24] [TRACE] [OmnipathR] JSON validation successful: TRUE
[2025-04-01 00:37:24] [TRACE] [OmnipathR] Reading JSON from `/home/biocbuild/bbs-3.20-bioc/R/site-library/OmnipathR/internal/id_types.json` (encoding: UTF-8).
[2025-04-01 00:37:24] [TRACE] [OmnipathR] JSON validation successful: TRUE
[2025-04-01 00:37:24] [TRACE] [OmnipathR] Cache locked: FALSE
* checking Rd files ... OK
* checking Rd metadata ... OK
* checking Rd cross-references ... OK
* checking for missing documentation entries ... OK
* checking for code/documentation mismatches ... OK
* checking Rd \usage sections ... OK
* checking Rd contents ... OK
* checking for unstated dependencies in examples ... OK
* checking R/sysdata.rda ... OK
* checking files in ‘vignettes’ ... OK
* checking examples ... OK
Examples with CPU (user + system) or elapsed time > 5s
user system elapsed
annotation_categories 95.959 0.083 97.465
omnipath-interactions 34.997 1.597 68.327
curated_ligrec_stats 30.941 2.814 107.291
go_annot_download 21.932 0.948 31.546
omnipath_for_cosmos 19.487 0.512 39.571
pivot_annotations 16.516 1.068 31.048
nichenet_gr_network_omnipath 17.040 0.320 22.166
nichenet_signaling_network_omnipath 16.414 0.086 25.670
filter_extra_attrs 15.623 0.219 16.606
with_extra_attrs 11.693 0.504 16.291
extra_attr_values 9.670 0.265 12.766
print_interactions 9.506 0.263 23.789
giant_component 8.375 0.141 11.563
extra_attrs_to_cols 8.191 0.028 8.219
signed_ptms 7.657 0.100 10.158
translate_ids_multi 7.059 0.336 18.746
has_extra_attrs 6.631 0.107 7.108
static_table 6.147 0.389 12.373
omnipath_query 5.772 0.014 12.256
pubmed_open 5.510 0.141 6.090
filter_intercell 5.233 0.416 9.904
extra_attrs 5.323 0.090 5.413
curated_ligand_receptor_interactions 4.756 0.476 15.605
print_path_vs 4.662 0.402 8.956
filter_by_resource 4.755 0.172 7.300
uniprot_full_id_mapping_table 1.352 0.078 22.420
ensembl_id_mapping_table 1.263 0.090 13.814
translate_ids 1.019 0.051 84.948
all_uniprots 0.868 0.108 20.269
kegg_picture 0.341 0.011 5.216
* checking for unstated dependencies in ‘tests’ ... OK
* checking tests ...
Running ‘testthat.R’
OK
* checking for unstated dependencies in vignettes ... OK
* checking package vignettes ... OK
* checking re-building of vignette outputs ... OK
* checking PDF version of manual ... OK
* DONE
Status: 2 NOTEs
See
‘/home/biocbuild/bbs-3.20-bioc/meat/OmnipathR.Rcheck/00check.log’
for details.
OmnipathR.Rcheck/00install.out
############################################################################## ############################################################################## ### ### Running command: ### ### /home/biocbuild/bbs-3.20-bioc/R/bin/R CMD INSTALL OmnipathR ### ############################################################################## ############################################################################## * installing to library ‘/home/biocbuild/bbs-3.20-bioc/R/site-library’ * installing *source* package ‘OmnipathR’ ... ** using staged installation ** R ** inst ** byte-compile and prepare package for lazy loading ** help *** installing help indices *** copying figures ** building package indices ** installing vignettes ** testing if installed package can be loaded from temporary location [2025-03-31 15:38:22] [TRACE] [OmnipathR] Reading JSON from `/home/biocbuild/.cache/OmnipathR/cache.json` (encoding: UTF-8). [2025-03-31 15:38:22] [TRACE] [OmnipathR] JSON validation successful: TRUE [2025-03-31 15:38:22] [INFO] [OmnipathR] Initialized cache: `/home/biocbuild/.cache/OmnipathR`. [2025-03-31 15:38:22] [TRACE] [OmnipathR] Running on a build server, wiping cache. [2025-03-31 15:38:22] [TRACE] [OmnipathR] Cache is at `/home/biocbuild/.cache/OmnipathR`. [2025-03-31 15:38:22] [TRACE] [OmnipathR] Contains 8 files. [2025-03-31 15:38:22] [TRACE] [OmnipathR] Cache is locked: FALSE. [2025-03-31 15:38:22] [TRACE] [OmnipathR] Reading JSON from `/home/biocbuild/.cache/OmnipathR/cache.json` (encoding: UTF-8). [2025-03-31 15:38:22] [TRACE] [OmnipathR] JSON validation successful: TRUE [2025-03-31 15:38:22] [SUCCESS] [OmnipathR] Removing all cache contents from `/home/biocbuild/.cache/OmnipathR`. [2025-03-31 15:38:22] [TRACE] [OmnipathR] Pandoc version: `2.7.3`. [2025-03-31 15:38:22] [TRACE] [OmnipathR] Reading JSON from `/home/biocbuild/bbs-3.20-bioc/R/site-library/00LOCK-OmnipathR/00new/OmnipathR/db/db_def.json` (encoding: UTF-8). [2025-03-31 15:38:22] [TRACE] [OmnipathR] JSON validation successful: TRUE [2025-03-31 15:38:22] [TRACE] [OmnipathR] Reading JSON from `/home/biocbuild/bbs-3.20-bioc/R/site-library/00LOCK-OmnipathR/00new/OmnipathR/internal/magic_bytes.json` (encoding: UTF-8). [2025-03-31 15:38:22] [TRACE] [OmnipathR] JSON validation successful: TRUE [2025-03-31 15:38:23] [TRACE] [OmnipathR] Reading JSON from `/home/biocbuild/bbs-3.20-bioc/R/site-library/00LOCK-OmnipathR/00new/OmnipathR/internal/urls.json` (encoding: UTF-8). [2025-03-31 15:38:23] [TRACE] [OmnipathR] JSON validation successful: TRUE [2025-03-31 15:38:23] [TRACE] [OmnipathR] Reading JSON from `/home/biocbuild/bbs-3.20-bioc/R/site-library/00LOCK-OmnipathR/00new/OmnipathR/internal/id_types.json` (encoding: UTF-8). [2025-03-31 15:38:23] [TRACE] [OmnipathR] JSON validation successful: TRUE [2025-03-31 15:38:23] [TRACE] [OmnipathR] Cache locked: FALSE ** testing if installed package can be loaded from final location [2025-03-31 15:38:24] [TRACE] [OmnipathR] Reading JSON from `/home/biocbuild/.cache/OmnipathR/cache.json` (encoding: UTF-8). [2025-03-31 15:38:24] [TRACE] [OmnipathR] JSON validation successful: TRUE [2025-03-31 15:38:24] [INFO] [OmnipathR] Initialized cache: `/home/biocbuild/.cache/OmnipathR`. [2025-03-31 15:38:24] [TRACE] [OmnipathR] Running on a build server, wiping cache. [2025-03-31 15:38:24] [TRACE] [OmnipathR] Cache is at `/home/biocbuild/.cache/OmnipathR`. [2025-03-31 15:38:24] [TRACE] [OmnipathR] Contains 1 files. [2025-03-31 15:38:24] [TRACE] [OmnipathR] Cache is locked: FALSE. [2025-03-31 15:38:25] [TRACE] [OmnipathR] Reading JSON from `/home/biocbuild/.cache/OmnipathR/cache.json` (encoding: UTF-8). [2025-03-31 15:38:25] [TRACE] [OmnipathR] JSON validation successful: TRUE [2025-03-31 15:38:25] [SUCCESS] [OmnipathR] Removing all cache contents from `/home/biocbuild/.cache/OmnipathR`. [2025-03-31 15:38:25] [TRACE] [OmnipathR] Pandoc version: `2.7.3`. [2025-03-31 15:38:25] [TRACE] [OmnipathR] Reading JSON from `/home/biocbuild/bbs-3.20-bioc/R/site-library/OmnipathR/db/db_def.json` (encoding: UTF-8). [2025-03-31 15:38:25] [TRACE] [OmnipathR] JSON validation successful: TRUE [2025-03-31 15:38:25] [TRACE] [OmnipathR] Reading JSON from `/home/biocbuild/bbs-3.20-bioc/R/site-library/OmnipathR/internal/magic_bytes.json` (encoding: UTF-8). [2025-03-31 15:38:25] [TRACE] [OmnipathR] JSON validation successful: TRUE [2025-03-31 15:38:25] [TRACE] [OmnipathR] Reading JSON from `/home/biocbuild/bbs-3.20-bioc/R/site-library/OmnipathR/internal/urls.json` (encoding: UTF-8). [2025-03-31 15:38:25] [TRACE] [OmnipathR] JSON validation successful: TRUE [2025-03-31 15:38:25] [TRACE] [OmnipathR] Reading JSON from `/home/biocbuild/bbs-3.20-bioc/R/site-library/OmnipathR/internal/id_types.json` (encoding: UTF-8). [2025-03-31 15:38:25] [TRACE] [OmnipathR] JSON validation successful: TRUE [2025-03-31 15:38:25] [TRACE] [OmnipathR] Cache locked: FALSE ** testing if installed package keeps a record of temporary installation path * DONE (OmnipathR)
OmnipathR.Rcheck/tests/testthat.Rout
R version 4.4.3 (2025-02-28) -- "Trophy Case"
Copyright (C) 2025 The R Foundation for Statistical Computing
Platform: x86_64-pc-linux-gnu
R is free software and comes with ABSOLUTELY NO WARRANTY.
You are welcome to redistribute it under certain conditions.
Type 'license()' or 'licence()' for distribution details.
R is a collaborative project with many contributors.
Type 'contributors()' for more information and
'citation()' on how to cite R or R packages in publications.
Type 'demo()' for some demos, 'help()' for on-line help, or
'help.start()' for an HTML browser interface to help.
Type 'q()' to quit R.
> #!/usr/bin/env Rscript
>
> #
> # This file is part of the `OmnipathR` R package
> #
> # Copyright
> # 2018-2024
> # Saez Lab, Uniklinik RWTH Aachen, Heidelberg University
> #
> # File author(s): Alberto Valdeolivas
> # Dénes Türei (turei.denes@gmail.com)
> # Attila Gábor
> #
> # Distributed under the MIT (Expat) License.
> # See accompanying file `LICENSE` or find a copy at
> # https://directory.fsf.org/wiki/License:Expat
> #
> # Website: https://r.omnipathdb.org/
> # Git repo: https://github.com/saezlab/OmnipathR
> #
>
>
> library(testthat)
> library(OmnipathR)
[2025-04-01 00:52:13] [TRACE] [OmnipathR] Reading JSON from `/home/biocbuild/.cache/OmnipathR/cache.json` (encoding: UTF-8).
[2025-04-01 00:52:13] [TRACE] [OmnipathR] JSON validation successful: TRUE
[2025-04-01 00:52:13] [INFO] [OmnipathR] Initialized cache: `/home/biocbuild/.cache/OmnipathR`.
[2025-04-01 00:52:13] [TRACE] [OmnipathR] Running on a build server, wiping cache.
[2025-04-01 00:52:13] [TRACE] [OmnipathR] Cache is at `/home/biocbuild/.cache/OmnipathR`.
[2025-04-01 00:52:13] [TRACE] [OmnipathR] Contains 21 files.
[2025-04-01 00:52:13] [TRACE] [OmnipathR] Cache is locked: FALSE.
[2025-04-01 00:52:13] [TRACE] [OmnipathR] Reading JSON from `/home/biocbuild/.cache/OmnipathR/cache.json` (encoding: UTF-8).
[2025-04-01 00:52:13] [TRACE] [OmnipathR] JSON validation successful: TRUE
[2025-04-01 00:52:13] [SUCCESS] [OmnipathR] Removing all cache contents from `/home/biocbuild/.cache/OmnipathR`.
[2025-04-01 00:52:13] [TRACE] [OmnipathR] Pandoc version: `2.7.3`.
[2025-04-01 00:52:13] [TRACE] [OmnipathR] Reading JSON from `/home/biocbuild/bbs-3.20-bioc/R/site-library/OmnipathR/db/db_def.json` (encoding: UTF-8).
[2025-04-01 00:52:13] [TRACE] [OmnipathR] JSON validation successful: TRUE
[2025-04-01 00:52:13] [TRACE] [OmnipathR] Reading JSON from `/home/biocbuild/bbs-3.20-bioc/R/site-library/OmnipathR/internal/magic_bytes.json` (encoding: UTF-8).
[2025-04-01 00:52:13] [TRACE] [OmnipathR] JSON validation successful: TRUE
[2025-04-01 00:52:13] [TRACE] [OmnipathR] Reading JSON from `/home/biocbuild/bbs-3.20-bioc/R/site-library/OmnipathR/internal/urls.json` (encoding: UTF-8).
[2025-04-01 00:52:13] [TRACE] [OmnipathR] JSON validation successful: TRUE
[2025-04-01 00:52:13] [TRACE] [OmnipathR] Reading JSON from `/home/biocbuild/bbs-3.20-bioc/R/site-library/OmnipathR/internal/id_types.json` (encoding: UTF-8).
[2025-04-01 00:52:13] [TRACE] [OmnipathR] JSON validation successful: TRUE
[2025-04-01 00:52:13] [TRACE] [OmnipathR] Cache locked: FALSE
>
> test_check('OmnipathR')
[ FAIL 0 | WARN 0 | SKIP 0 | PASS 34 ]
>
> proc.time()
user system elapsed
13.105 1.196 44.052
OmnipathR.Rcheck/OmnipathR-Ex.timings
| name | user | system | elapsed | |
| OmnipathR | 0 | 0 | 0 | |
| all_uniprot_acs | 0.014 | 0.002 | 0.017 | |
| all_uniprots | 0.868 | 0.108 | 20.269 | |
| ancestors | 0.009 | 0.007 | 0.016 | |
| annotated_network | 0.822 | 0.102 | 4.025 | |
| annotation_categories | 95.959 | 0.083 | 97.465 | |
| annotation_resources | 0.083 | 0.017 | 0.976 | |
| annotations | 0.299 | 0.017 | 1.324 | |
| biomart_query | 0.838 | 0.047 | 3.359 | |
| bioplex1 | 0.008 | 0.000 | 0.009 | |
| bioplex2 | 0.008 | 0.000 | 0.008 | |
| bioplex3 | 0.007 | 0.000 | 0.008 | |
| bioplex_all | 0.007 | 0.000 | 0.008 | |
| bioplex_hct116_1 | 0.047 | 0.000 | 0.047 | |
| bma_motif_es | 0.352 | 0.040 | 1.308 | |
| bma_motif_vs | 0.207 | 0.004 | 0.927 | |
| chalmers_gem | 0.008 | 0.000 | 0.008 | |
| chalmers_gem_id_mapping_table | 0.007 | 0.000 | 0.007 | |
| chalmers_gem_id_type | 0.001 | 0.000 | 0.002 | |
| chalmers_gem_metabolites | 0.007 | 0.000 | 0.007 | |
| chalmers_gem_network | 0.007 | 0.000 | 0.007 | |
| chalmers_gem_raw | 0.007 | 0.000 | 0.007 | |
| chalmers_gem_reactions | 0.007 | 0.000 | 0.007 | |
| common_name | 0.031 | 0.000 | 0.030 | |
| complex_genes | 0.507 | 0.047 | 2.309 | |
| complex_resources | 0.111 | 0.003 | 0.720 | |
| complexes | 0.181 | 0.001 | 0.870 | |
| consensuspathdb_download | 0 | 0 | 0 | |
| consensuspathdb_raw_table | 0.007 | 0.000 | 0.007 | |
| cosmos_pkn | 0 | 0 | 0 | |
| curated_ligand_receptor_interactions | 4.756 | 0.476 | 15.605 | |
| curated_ligrec_stats | 30.941 | 2.814 | 107.291 | |
| database_summary | 1.396 | 0.060 | 4.163 | |
| descendants | 0.009 | 0.000 | 0.009 | |
| ensembl_dataset | 0.012 | 0.001 | 0.012 | |
| ensembl_id_mapping_table | 1.263 | 0.090 | 13.814 | |
| ensembl_id_type | 0.002 | 0.000 | 0.002 | |
| ensembl_name | 0.062 | 0.000 | 0.062 | |
| ensembl_organisms | 0.126 | 0.001 | 0.128 | |
| ensembl_organisms_raw | 0.096 | 0.000 | 0.096 | |
| ensembl_orthology | 0 | 0 | 0 | |
| enzsub_graph | 1.914 | 0.044 | 4.241 | |
| enzsub_resources | 0.126 | 0.000 | 0.838 | |
| enzyme_substrate | 1.169 | 0.081 | 2.012 | |
| evex_download | 0.007 | 0.000 | 0.007 | |
| evidences | 0 | 0 | 0 | |
| extra_attr_values | 9.670 | 0.265 | 12.766 | |
| extra_attrs | 5.323 | 0.090 | 5.413 | |
| extra_attrs_to_cols | 8.191 | 0.028 | 8.219 | |
| filter_by_resource | 4.755 | 0.172 | 7.300 | |
| filter_extra_attrs | 15.623 | 0.219 | 16.606 | |
| filter_intercell | 5.233 | 0.416 | 9.904 | |
| filter_intercell_network | 0.016 | 0.000 | 0.016 | |
| find_all_paths | 4.798 | 0.086 | 4.885 | |
| from_evidences | 0 | 0 | 0 | |
| get_db | 0.001 | 0.000 | 0.000 | |
| get_ontology_db | 0.008 | 0.000 | 0.009 | |
| giant_component | 8.375 | 0.141 | 11.563 | |
| go_annot_download | 21.932 | 0.948 | 31.546 | |
| go_annot_slim | 0 | 0 | 0 | |
| go_ontology_download | 0.010 | 0.000 | 0.009 | |
| guide2pharma_download | 0.008 | 0.000 | 0.007 | |
| harmonizome_download | 0.006 | 0.001 | 0.007 | |
| has_extra_attrs | 6.631 | 0.107 | 7.108 | |
| hmdb_id_mapping_table | 0.010 | 0.001 | 0.010 | |
| hmdb_id_type | 0.002 | 0.001 | 0.003 | |
| hmdb_metabolite_fields | 0.000 | 0.000 | 0.001 | |
| hmdb_protein_fields | 0 | 0 | 0 | |
| hmdb_table | 0.01 | 0.00 | 0.01 | |
| homologene_download | 0.009 | 0.000 | 0.009 | |
| homologene_raw | 0.024 | 0.000 | 0.023 | |
| homologene_uniprot_orthology | 0.009 | 0.000 | 0.010 | |
| hpo_download | 2.829 | 0.231 | 3.661 | |
| htridb_download | 0.017 | 0.000 | 0.032 | |
| id_translation_resources | 0 | 0 | 0 | |
| id_types | 0.075 | 0.000 | 0.078 | |
| inbiomap_download | 0 | 0 | 0 | |
| inbiomap_raw | 0 | 0 | 0 | |
| interaction_datasets | 0.736 | 0.019 | 1.475 | |
| interaction_graph | 0.636 | 0.005 | 1.733 | |
| interaction_resources | 0.290 | 0.002 | 1.014 | |
| interaction_types | 0.092 | 0.002 | 0.093 | |
| intercell | 0.732 | 0.040 | 1.691 | |
| intercell_categories | 0.615 | 0.012 | 1.203 | |
| intercell_consensus_filter | 1.911 | 0.098 | 4.295 | |
| intercell_generic_categories | 0.104 | 0.000 | 0.208 | |
| intercell_network | 0.022 | 0.000 | 0.044 | |
| intercell_resources | 0.180 | 0.003 | 0.907 | |
| intercell_summary | 0.112 | 0.005 | 0.186 | |
| is_ontology_id | 0 | 0 | 0 | |
| is_swissprot | 0.064 | 0.000 | 0.086 | |
| is_trembl | 0.064 | 0.000 | 0.064 | |
| is_uniprot | 0.022 | 0.001 | 0.035 | |
| kegg_info | 0.020 | 0.002 | 0.030 | |
| kegg_open | 0.018 | 0.000 | 0.018 | |
| kegg_pathway_annotations | 0 | 0 | 0 | |
| kegg_pathway_download | 0.016 | 0.001 | 0.017 | |
| kegg_pathway_list | 0.017 | 0.001 | 0.018 | |
| kegg_pathways_download | 0 | 0 | 0 | |
| kegg_picture | 0.341 | 0.011 | 5.216 | |
| kegg_process | 0.042 | 0.003 | 0.057 | |
| latin_name | 0.151 | 0.000 | 0.152 | |
| load_db | 0.164 | 0.002 | 0.166 | |
| ncbi_taxid | 0.144 | 0.000 | 0.144 | |
| nichenet_build_model | 0 | 0 | 0 | |
| nichenet_expression_data | 0.021 | 0.000 | 0.022 | |
| nichenet_gr_network | 0.049 | 0.002 | 0.051 | |
| nichenet_gr_network_evex | 0.016 | 0.001 | 0.017 | |
| nichenet_gr_network_harmonizome | 0.018 | 0.000 | 0.018 | |
| nichenet_gr_network_htridb | 0.017 | 0.000 | 0.018 | |
| nichenet_gr_network_omnipath | 17.040 | 0.320 | 22.166 | |
| nichenet_gr_network_pathwaycommons | 0.023 | 0.001 | 0.070 | |
| nichenet_gr_network_regnetwork | 0.026 | 0.000 | 0.074 | |
| nichenet_gr_network_remap | 0.021 | 0.000 | 0.045 | |
| nichenet_gr_network_trrust | 0.019 | 0.001 | 0.040 | |
| nichenet_ligand_activities | 0.001 | 0.000 | 0.000 | |
| nichenet_ligand_target_links | 0.000 | 0.000 | 0.004 | |
| nichenet_ligand_target_matrix | 0 | 0 | 0 | |
| nichenet_lr_network | 0.065 | 0.000 | 0.131 | |
| nichenet_lr_network_guide2pharma | 0.017 | 0.001 | 0.040 | |
| nichenet_lr_network_omnipath | 0.055 | 0.000 | 0.107 | |
| nichenet_lr_network_ramilowski | 0.020 | 0.000 | 0.043 | |
| nichenet_main | 0 | 0 | 0 | |
| nichenet_networks | 0.097 | 0.001 | 0.198 | |
| nichenet_optimization | 0.001 | 0.000 | 0.000 | |
| nichenet_remove_orphan_ligands | 0.054 | 0.001 | 0.113 | |
| nichenet_results_dir | 0.001 | 0.000 | 0.000 | |
| nichenet_signaling_network | 0.060 | 0.001 | 0.121 | |
| nichenet_signaling_network_cpdb | 0.019 | 0.001 | 0.040 | |
| nichenet_signaling_network_evex | 0.021 | 0.000 | 0.044 | |
| nichenet_signaling_network_harmonizome | 0.018 | 0.001 | 0.038 | |
| nichenet_signaling_network_inbiomap | 0 | 0 | 0 | |
| nichenet_signaling_network_omnipath | 16.414 | 0.086 | 25.670 | |
| nichenet_signaling_network_pathwaycommons | 0.029 | 0.002 | 0.031 | |
| nichenet_signaling_network_vinayagam | 0.023 | 0.000 | 0.023 | |
| nichenet_test | 0 | 0 | 0 | |
| nichenet_workarounds | 0 | 0 | 0 | |
| obo_parser | 0.277 | 0.003 | 0.400 | |
| oma_code | 0.106 | 0.000 | 0.106 | |
| oma_organisms | 0.176 | 0.001 | 0.177 | |
| oma_pairwise | 0.026 | 0.001 | 0.027 | |
| oma_pairwise_genesymbols | 0.200 | 0.002 | 0.201 | |
| oma_pairwise_translated | 0.029 | 0.001 | 0.030 | |
| omnipath-interactions | 34.997 | 1.597 | 68.327 | |
| omnipath_cache_autoclean | 0.001 | 0.000 | 0.000 | |
| omnipath_cache_clean | 0.012 | 0.001 | 0.013 | |
| omnipath_cache_clean_db | 0.260 | 0.031 | 0.515 | |
| omnipath_cache_download_ready | 1.012 | 0.112 | 1.727 | |
| omnipath_cache_filter_versions | 0.212 | 0.005 | 0.330 | |
| omnipath_cache_get | 0.188 | 0.008 | 0.295 | |
| omnipath_cache_key | 0.002 | 0.000 | 0.005 | |
| omnipath_cache_latest_or_new | 0.221 | 0.004 | 0.402 | |
| omnipath_cache_load | 1.122 | 0.039 | 4.573 | |
| omnipath_cache_move_in | 0.367 | 0.028 | 0.804 | |
| omnipath_cache_remove | 0.247 | 0.007 | 0.522 | |
| omnipath_cache_save | 0.506 | 0.032 | 1.210 | |
| omnipath_cache_search | 0.001 | 0.000 | 0.001 | |
| omnipath_cache_set_ext | 0.182 | 0.010 | 0.362 | |
| omnipath_cache_update_status | 0.210 | 0.011 | 0.345 | |
| omnipath_cache_wipe | 0.000 | 0.000 | 0.004 | |
| omnipath_config_path | 0.002 | 0.000 | 0.005 | |
| omnipath_for_cosmos | 19.487 | 0.512 | 39.571 | |
| omnipath_load_config | 0 | 0 | 0 | |
| omnipath_log | 0.000 | 0.000 | 0.001 | |
| omnipath_logfile | 0.002 | 0.001 | 0.007 | |
| omnipath_msg | 0.009 | 0.000 | 0.018 | |
| omnipath_query | 5.772 | 0.014 | 12.256 | |
| omnipath_reset_config | 0 | 0 | 0 | |
| omnipath_save_config | 0 | 0 | 0 | |
| omnipath_set_cachedir | 0.043 | 0.000 | 0.043 | |
| omnipath_set_console_loglevel | 0.007 | 0.000 | 0.007 | |
| omnipath_set_logfile_loglevel | 0.005 | 0.000 | 0.006 | |
| omnipath_set_loglevel | 0.003 | 0.000 | 0.003 | |
| omnipath_show_db | 0.115 | 0.001 | 0.200 | |
| omnipath_unlock_cache_db | 0.000 | 0.000 | 0.001 | |
| only_from | 0 | 0 | 0 | |
| ontology_ensure_id | 0.001 | 0.000 | 0.002 | |
| ontology_ensure_name | 0.001 | 0.000 | 0.005 | |
| ontology_name_id | 0.001 | 0.001 | 0.002 | |
| organism_for | 0.102 | 0.002 | 0.209 | |
| pathwaycommons_download | 0.002 | 0.000 | 0.002 | |
| pivot_annotations | 16.516 | 1.068 | 31.048 | |
| preppi_download | 0.001 | 0.000 | 0.001 | |
| preppi_filter | 0.002 | 0.000 | 0.002 | |
| print_bma_motif_es | 0.489 | 0.042 | 1.798 | |
| print_bma_motif_vs | 0.300 | 0.003 | 1.150 | |
| print_interactions | 9.506 | 0.263 | 23.789 | |
| print_path_es | 1.056 | 0.063 | 3.148 | |
| print_path_vs | 4.662 | 0.402 | 8.956 | |
| pubmed_open | 5.510 | 0.141 | 6.090 | |
| query_info | 0.186 | 0.007 | 0.522 | |
| ramilowski_download | 0.002 | 0.000 | 0.005 | |
| ramp_id_mapping_table | 0.001 | 0.000 | 0.000 | |
| ramp_id_type | 0.003 | 0.000 | 0.007 | |
| ramp_sqlite | 0.001 | 0.000 | 0.001 | |
| ramp_table | 0 | 0 | 0 | |
| ramp_tables | 0.001 | 0.000 | 0.004 | |
| regnetwork_directions | 0.001 | 0.000 | 0.001 | |
| regnetwork_download | 0.001 | 0.000 | 0.005 | |
| relations_list_to_table | 0.164 | 0.004 | 0.332 | |
| relations_table_to_graph | 0 | 0 | 0 | |
| relations_table_to_list | 0.117 | 0.000 | 0.191 | |
| remap_dorothea_download | 0.001 | 0.000 | 0.001 | |
| remap_filtered | 0 | 0 | 0 | |
| remap_tf_target_download | 0 | 0 | 0 | |
| resource_info | 0.264 | 0.010 | 0.951 | |
| resources | 0.135 | 0.001 | 0.824 | |
| resources_colname | 0.777 | 0.037 | 2.787 | |
| resources_in | 4.680 | 0.131 | 4.832 | |
| show_network | 0.001 | 0.000 | 0.000 | |
| signed_ptms | 7.657 | 0.100 | 10.158 | |
| simplify_intercell_network | 0.002 | 0.000 | 0.002 | |
| static_table | 6.147 | 0.389 | 12.373 | |
| static_tables | 0.046 | 0.001 | 0.055 | |
| stitch_actions | 0.001 | 0.000 | 0.000 | |
| stitch_links | 0 | 0 | 0 | |
| stitch_network | 0.001 | 0.000 | 0.001 | |
| stitch_remove_prefixes | 0.008 | 0.000 | 0.007 | |
| swap_relations | 0.112 | 0.010 | 0.142 | |
| swissprots_only | 0.033 | 0.001 | 0.033 | |
| tfcensus_download | 0.158 | 0.011 | 0.326 | |
| translate_ids | 1.019 | 0.051 | 84.948 | |
| translate_ids_multi | 7.059 | 0.336 | 18.746 | |
| trembls_only | 0.034 | 0.001 | 0.035 | |
| trrust_download | 0.000 | 0.000 | 0.001 | |
| uniprot_full_id_mapping_table | 1.352 | 0.078 | 22.420 | |
| uniprot_genesymbol_cleanup | 0.000 | 0.000 | 0.001 | |
| uniprot_id_mapping_table | 0.001 | 0.000 | 0.001 | |
| uniprot_id_type | 0.003 | 0.000 | 0.003 | |
| uniprot_idmapping_id_types | 0.294 | 0.012 | 1.053 | |
| unique_intercell_network | 0.001 | 0.000 | 0.001 | |
| unnest_evidences | 0 | 0 | 0 | |
| uploadlists_id_type | 0.003 | 0.000 | 0.003 | |
| vinayagam_download | 0.001 | 0.000 | 0.001 | |
| walk_ontology_tree | 0.001 | 0.000 | 0.002 | |
| with_extra_attrs | 11.693 | 0.504 | 16.291 | |
| with_references | 0.661 | 0.083 | 2.412 | |
| zenodo_download | 0.001 | 0.000 | 0.002 | |