| Back to Multiple platform build/check report for BioC 3.20: simplified long |
|
This page was generated on 2024-11-09 21:31 -0500 (Sat, 09 Nov 2024).
| Hostname | OS | Arch (*) | R version | Installed pkgs |
|---|---|---|---|---|
| teran2 | Linux (Ubuntu 24.04.1 LTS) | x86_64 | 4.4.1 (2024-06-14) -- "Race for Your Life" | 4505 |
| palomino8 | Windows Server 2022 Datacenter | x64 | 4.4.1 (2024-06-14 ucrt) -- "Race for Your Life" | 4506 |
| lconway | macOS 12.7.1 Monterey | x86_64 | 4.4.1 (2024-06-14) -- "Race for Your Life" | 4538 |
| kjohnson3 | macOS 13.6.5 Ventura | arm64 | 4.4.1 (2024-06-14) -- "Race for Your Life" | 4486 |
| kunpeng2 | Linux (openEuler 22.03 LTS-SP1) | aarch64 | 4.4.1 (2024-06-14) -- "Race for Your Life" | 4493 |
| Click on any hostname to see more info about the system (e.g. compilers) (*) as reported by 'uname -p', except on Windows and Mac OS X | ||||
| Package 1334/2289 | Hostname | OS / Arch | INSTALL | BUILD | CHECK | BUILD BIN | ||||||||
| MsBackendSql 1.6.0 (landing page) Johannes Rainer
| teran2 | Linux (Ubuntu 24.04.1 LTS) / x86_64 | OK | OK | OK | |||||||||
| palomino8 | Windows Server 2022 Datacenter / x64 | OK | OK | OK | OK | |||||||||
| lconway | macOS 12.7.1 Monterey / x86_64 | OK | OK | OK | OK | |||||||||
| kjohnson3 | macOS 13.6.5 Ventura / arm64 | OK | OK | OK | OK | |||||||||
| kunpeng2 | Linux (openEuler 22.03 LTS-SP1) / aarch64 | OK | OK | ERROR | ||||||||||
|
To the developers/maintainers of the MsBackendSql package: - Allow up to 24 hours (and sometimes 48 hours) for your latest push to git@git.bioconductor.org:packages/MsBackendSql.git to reflect on this report. See Troubleshooting Build Report for more information. - Use the following Renviron settings to reproduce errors and warnings. - If 'R CMD check' started to fail recently on the Linux builder(s) over a missing dependency, add the missing dependency to 'Suggests:' in your DESCRIPTION file. See Renviron.bioc for more information. |
| Package: MsBackendSql |
| Version: 1.6.0 |
| Command: /Library/Frameworks/R.framework/Resources/bin/R CMD check --install=check:MsBackendSql.install-out.txt --library=/Library/Frameworks/R.framework/Resources/library --no-vignettes --timings MsBackendSql_1.6.0.tar.gz |
| StartedAt: 2024-11-09 07:53:53 -0500 (Sat, 09 Nov 2024) |
| EndedAt: 2024-11-09 07:59:30 -0500 (Sat, 09 Nov 2024) |
| EllapsedTime: 336.3 seconds |
| RetCode: 0 |
| Status: OK |
| CheckDir: MsBackendSql.Rcheck |
| Warnings: 0 |
##############################################################################
##############################################################################
###
### Running command:
###
### /Library/Frameworks/R.framework/Resources/bin/R CMD check --install=check:MsBackendSql.install-out.txt --library=/Library/Frameworks/R.framework/Resources/library --no-vignettes --timings MsBackendSql_1.6.0.tar.gz
###
##############################################################################
##############################################################################
* using log directory ‘/Users/biocbuild/bbs-3.20-bioc/meat/MsBackendSql.Rcheck’
* using R version 4.4.1 (2024-06-14)
* using platform: aarch64-apple-darwin20
* R was compiled by
Apple clang version 14.0.0 (clang-1400.0.29.202)
GNU Fortran (GCC) 12.2.0
* running under: macOS Ventura 13.6.7
* using session charset: UTF-8
* using option ‘--no-vignettes’
* checking for file ‘MsBackendSql/DESCRIPTION’ ... OK
* this is package ‘MsBackendSql’ version ‘1.6.0’
* package encoding: UTF-8
* checking package namespace information ... OK
* checking package dependencies ...Warning: unable to access index for repository https://CRAN.R-project.org/src/contrib:
cannot open URL 'https://CRAN.R-project.org/src/contrib/PACKAGES'
OK
* checking if this is a source package ... OK
* checking if there is a namespace ... OK
* checking for hidden files and directories ... OK
* checking for portable file names ... OK
* checking for sufficient/correct file permissions ... OK
* checking whether package ‘MsBackendSql’ can be installed ... OK
* checking installed package size ... OK
* checking package directory ... OK
* checking ‘build’ directory ... OK
* checking DESCRIPTION meta-information ... OK
* checking top-level files ... OK
* checking for left-over files ... OK
* checking index information ... OK
* checking package subdirectories ... OK
* checking code files for non-ASCII characters ... OK
* checking R files for syntax errors ... OK
* checking whether the package can be loaded ... OK
* checking whether the package can be loaded with stated dependencies ... OK
* checking whether the package can be unloaded cleanly ... OK
* checking whether the namespace can be loaded with stated dependencies ... OK
* checking whether the namespace can be unloaded cleanly ... OK
* checking dependencies in R code ... OK
* checking S3 generic/method consistency ... OK
* checking replacement functions ... OK
* checking foreign function calls ... OK
* checking R code for possible problems ... OK
* checking Rd files ... OK
* checking Rd metadata ... OK
* checking Rd cross-references ... OK
* checking for missing documentation entries ... OK
* checking for code/documentation mismatches ... OK
* checking Rd \usage sections ... OK
* checking Rd contents ... OK
* checking for unstated dependencies in examples ... OK
* checking files in ‘vignettes’ ... OK
* checking examples ... OK
* checking for unstated dependencies in ‘tests’ ... OK
* checking tests ...
Running ‘testthat.R’
OK
* checking for unstated dependencies in vignettes ... OK
* checking package vignettes ... OK
* checking running R code from vignettes ... SKIPPED
* checking re-building of vignette outputs ... SKIPPED
* checking PDF version of manual ... OK
* DONE
Status: OK
MsBackendSql.Rcheck/00install.out
############################################################################## ############################################################################## ### ### Running command: ### ### /Library/Frameworks/R.framework/Resources/bin/R CMD INSTALL MsBackendSql ### ############################################################################## ############################################################################## * installing to library ‘/Library/Frameworks/R.framework/Versions/4.4-arm64/Resources/library’ * installing *source* package ‘MsBackendSql’ ... ** using staged installation ** R ** byte-compile and prepare package for lazy loading ** help *** installing help indices *** copying figures ** building package indices ** installing vignettes ** testing if installed package can be loaded from temporary location ** testing if installed package can be loaded from final location ** testing if installed package keeps a record of temporary installation path * DONE (MsBackendSql)
MsBackendSql.Rcheck/tests/testthat.Rout
R version 4.4.1 (2024-06-14) -- "Race for Your Life"
Copyright (C) 2024 The R Foundation for Statistical Computing
Platform: aarch64-apple-darwin20
R is free software and comes with ABSOLUTELY NO WARRANTY.
You are welcome to redistribute it under certain conditions.
Type 'license()' or 'licence()' for distribution details.
R is a collaborative project with many contributors.
Type 'contributors()' for more information and
'citation()' on how to cite R or R packages in publications.
Type 'demo()' for some demos, 'help()' for on-line help, or
'help.start()' for an HTML browser interface to help.
Type 'q()' to quit R.
> library(testthat)
> library(MsBackendSql)
Loading required package: Spectra
Loading required package: S4Vectors
Loading required package: stats4
Loading required package: BiocGenerics
Attaching package: 'BiocGenerics'
The following objects are masked from 'package:stats':
IQR, mad, sd, var, xtabs
The following objects are masked from 'package:base':
Filter, Find, Map, Position, Reduce, anyDuplicated, aperm, append,
as.data.frame, basename, cbind, colnames, dirname, do.call,
duplicated, eval, evalq, get, grep, grepl, intersect, is.unsorted,
lapply, mapply, match, mget, order, paste, pmax, pmax.int, pmin,
pmin.int, rank, rbind, rownames, sapply, saveRDS, setdiff, table,
tapply, union, unique, unsplit, which.max, which.min
Attaching package: 'S4Vectors'
The following object is masked from 'package:utils':
findMatches
The following objects are masked from 'package:base':
I, expand.grid, unname
Loading required package: BiocParallel
> library(Spectra)
> library(RSQLite)
> library(msdata)
>
> mm8_file <- system.file("microtofq", "MM8.mzML", package = "msdata")
> mm8_sps <- Spectra(mm8_file)
> mm8_db <- dbConnect(SQLite(), tempfile())
> createMsBackendSqlDatabase(mm8_db, mm8_file, blob = FALSE)
Importing data ...
[==========================================================] 1/1 (100%) in 0s
Creating indices .... Done
[1] TRUE
> mm8_be <- backendInitialize(MsBackendSql(), mm8_db)
>
> mm8_db_blob <- dbConnect(SQLite(), tempfile())
> createMsBackendSqlDatabase(mm8_db_blob, mm8_file, blob = TRUE)
Importing data ...
[==========================================================] 1/1 (100%) in 0s
Creating indices .... Done
[1] TRUE
> mm8_be_blob <- backendInitialize(MsBackendSql(), mm8_db_blob)
>
> mm14_file <- system.file("microtofq", "MM14.mzML", package = "msdata")
> mm_db <- dbConnect(SQLite(), tempfile())
> createMsBackendSqlDatabase(mm_db, c(mm8_file, mm14_file), blob = FALSE)
Importing data ...
[==========================================================] 1/1 (100%) in 0s
Creating indices .... Done
[1] TRUE
> mm_be <- backendInitialize(MsBackendSql(), mm_db)
>
> tmt_file <- proteomics(full.names = TRUE)[4L]
> tmt_mzr <- backendInitialize(MsBackendMzR(), tmt_file)
> tmt_db <- dbConnect(SQLite(), tempfile())
> createMsBackendSqlDatabase(tmt_db, tmt_file, blob = FALSE)
Importing data ...
[==========================================================] 1/1 (100%) in 26s
Creating indices .... Done
[1] TRUE
> tmt_be <- backendInitialize(MsBackendSql(), tmt_db)
>
> test_check("MsBackendSql")
[ FAIL 0 | WARN 1 | SKIP 0 | PASS 367 ]
[ FAIL 0 | WARN 1 | SKIP 0 | PASS 367 ]
>
> test_suite <- system.file("test_backends", "test_MsBackend",
+ package = "Spectra")
>
> be <- mm8_be
> test_dir(test_suite, stop_on_failure = TRUE)
✔ | F W S OK | Context
⠏ | 0 | peaks_variables
⠙ | 2 | peaks_variables
⠸ | 4 | peaks_variables
✔ | 4 | peaks_variables
⠏ | 0 | spectra_subsetting
⠴ | 86 | spectra_subsetting
⠴ | 196 | spectra_subsetting
⠦ | 307 | spectra_subsetting
⠼ | 415 | spectra_subsetting
⠏ | 520 | spectra_subsetting
⠇ | 599 | spectra_subsetting
⠹ | 603 | spectra_subsetting
⠦ | 607 | spectra_subsetting
⠏ | 610 | spectra_subsetting
⠸ | 614 | spectra_subsetting
⠧ | 618 | spectra_subsetting
⠙ | 622 | spectra_subsetting
⠴ | 626 | spectra_subsetting
⠏ | 630 | spectra_subsetting
⠸ | 634 | spectra_subsetting
⠧ | 638 | spectra_subsetting
⠋ | 641 | spectra_subsetting
⠼ | 645 | spectra_subsetting
⠇ | 649 | spectra_subsetting
⠹ | 653 | spectra_subsetting
⠦ | 657 | spectra_subsetting
⠋ | 661 | spectra_subsetting
⠼ | 665 | spectra_subsetting
⠇ | 669 | spectra_subsetting
⠹ | 673 | spectra_subsetting
⠦ | 677 | spectra_subsetting
⠋ | 681 | spectra_subsetting
⠼ | 685 | spectra_subsetting
⠇ | 689 | spectra_subsetting
⠹ | 693 | spectra_subsetting
⠦ | 697 | spectra_subsetting
⠋ | 701 | spectra_subsetting
⠼ | 705 | spectra_subsetting
⠇ | 709 | spectra_subsetting
⠹ | 713 | spectra_subsetting
⠦ | 717 | spectra_subsetting
⠋ | 721 | spectra_subsetting
⠼ | 725 | spectra_subsetting
⠇ | 729 | spectra_subsetting
⠹ | 733 | spectra_subsetting
⠦ | 737 | spectra_subsetting
⠋ | 741 | spectra_subsetting
⠼ | 745 | spectra_subsetting
⠇ | 749 | spectra_subsetting
⠹ | 753 | spectra_subsetting
⠦ | 757 | spectra_subsetting
⠋ | 761 | spectra_subsetting
⠼ | 765 | spectra_subsetting
⠇ | 769 | spectra_subsetting
⠹ | 773 | spectra_subsetting
⠦ | 777 | spectra_subsetting
⠋ | 781 | spectra_subsetting
⠼ | 785 | spectra_subsetting
⠇ | 789 | spectra_subsetting
⠹ | 793 | spectra_subsetting
⠇ | 799 | spectra_subsetting
⠏ | 820 | spectra_subsetting
✔ | 820 | spectra_subsetting [6.8s]
⠏ | 0 | spectra_variables
⠙ | 12 | spectra_variables
⠸ | 14 | spectra_variables
⠼ | 25 | spectra_variables
⠇ | 29 | spectra_variables
⠇ | 39 | spectra_variables
⠹ | 43 | spectra_variables
⠸ | 54 | spectra_variables
✔ | 64 | spectra_variables
══ Results ═════════════════════════════════════════════════════════════════════
Duration: 8.0 s
[ FAIL 0 | WARN 0 | SKIP 0 | PASS 888 ]
🌈 Your tests are over the rainbow 🌈
Warning message:
call dbDisconnect() when finished working with a connection
>
> be <- tmt_be[sample(seq_along(tmt_be), 300)]
> test_dir(test_suite, stop_on_failure = TRUE)
✔ | F W S OK | Context
⠏ | 0 | peaks_variables
⠙ | 2 | peaks_variables
⠸ | 4 | peaks_variables
✔ | 4 | peaks_variables [1.5s]
⠏ | 0 | spectra_subsetting
⠦ | 67 | spectra_subsetting
⠙ | 172 | spectra_subsetting
⠋ | 281 | spectra_subsetting
⠹ | 403 | spectra_subsetting
⠸ | 514 | spectra_subsetting
⠙ | 622 | spectra_subsetting
⠴ | 726 | spectra_subsetting
⠧ | 838 | spectra_subsetting
⠼ | 905 | spectra_subsetting
⠧ | 908 | spectra_subsetting
⠙ | 912 | spectra_subsetting
⠴ | 916 | spectra_subsetting
⠏ | 920 | spectra_subsetting
⠹ | 923 | spectra_subsetting
⠦ | 927 | spectra_subsetting
⠋ | 931 | spectra_subsetting
⠸ | 934 | spectra_subsetting
⠧ | 938 | spectra_subsetting
⠙ | 942 | spectra_subsetting
⠼ | 945 | spectra_subsetting
⠇ | 949 | spectra_subsetting
⠹ | 953 | spectra_subsetting
⠦ | 957 | spectra_subsetting
⠋ | 961 | spectra_subsetting
⠼ | 965 | spectra_subsetting
⠇ | 969 | spectra_subsetting
⠙ | 972 | spectra_subsetting
⠼ | 975 | spectra_subsetting
⠴ | 976 | spectra_subsetting
⠏ | 980 | spectra_subsetting
⠙ | 982 | spectra_subsetting
⠴ | 986 | spectra_subsetting
⠏ | 990 | spectra_subsetting
⠹ | 993 | spectra_subsetting
⠧ | 998 | spectra_subsetting
⠙ | 1002 | spectra_subsetting
⠴ | 1006 | spectra_subsetting
⠏ | 1010 | spectra_subsetting
⠸ | 1014 | spectra_subsetting
⠇ | 1019 | spectra_subsetting
⠹ | 1023 | spectra_subsetting
⠴ | 1026 | spectra_subsetting
⠋ | 1031 | spectra_subsetting
⠸ | 1034 | spectra_subsetting
⠇ | 1039 | spectra_subsetting
⠙ | 1042 | spectra_subsetting
⠴ | 1046 | spectra_subsetting
⠇ | 1049 | spectra_subsetting
⠹ | 1053 | spectra_subsetting
⠦ | 1057 | spectra_subsetting
⠙ | 1062 | spectra_subsetting
⠦ | 1067 | spectra_subsetting
⠋ | 1071 | spectra_subsetting
⠴ | 1076 | spectra_subsetting
⠏ | 1080 | spectra_subsetting
⠸ | 1084 | spectra_subsetting
⠦ | 1087 | spectra_subsetting
⠋ | 1091 | spectra_subsetting
⠴ | 1096 | spectra_subsetting
⠋ | 1101 | spectra_subsetting
⠸ | 1104 | spectra_subsetting
⠧ | 1108 | spectra_subsetting
⠋ | 1111 | spectra_subsetting
⠼ | 1115 | spectra_subsetting
⠇ | 1119 | spectra_subsetting
⠹ | 1123 | spectra_subsetting
⠧ | 1128 | spectra_subsetting
⠙ | 1132 | spectra_subsetting
⠴ | 1136 | spectra_subsetting
⠋ | 1141 | spectra_subsetting
⠼ | 1145 | spectra_subsetting
⠇ | 1149 | spectra_subsetting
⠹ | 1153 | spectra_subsetting
⠦ | 1157 | spectra_subsetting
⠋ | 1161 | spectra_subsetting
⠼ | 1165 | spectra_subsetting
⠇ | 1169 | spectra_subsetting
⠹ | 1173 | spectra_subsetting
⠴ | 1176 | spectra_subsetting
⠏ | 1180 | spectra_subsetting
⠹ | 1183 | spectra_subsetting
⠦ | 1187 | spectra_subsetting
⠋ | 1191 | spectra_subsetting
⠸ | 1194 | spectra_subsetting
⠧ | 1198 | spectra_subsetting
⠙ | 1202 | spectra_subsetting
⠧ | 1208 | spectra_subsetting
⠧ | 1228 | spectra_subsetting
✔ | 1228 | spectra_subsetting [12.2s]
⠏ | 0 | spectra_variables
⠙ | 12 | spectra_variables
⠸ | 14 | spectra_variables
⠴ | 16 | spectra_variables
⠦ | 27 | spectra_variables
⠇ | 29 | spectra_variables
⠋ | 31 | spectra_variables
⠹ | 43 | spectra_variables
⠸ | 54 | spectra_variables
✔ | 64 | spectra_variables [5.6s]
══ Results ═════════════════════════════════════════════════════════════════════
Duration: 19.4 s
[ FAIL 0 | WARN 0 | SKIP 0 | PASS 1296 ]
>
> dbDisconnect(mm8_db)
> dbDisconnect(mm8_db_blob)
> dbDisconnect(mm_db)
> dbDisconnect(tmt_db)
>
> proc.time()
user system elapsed
79.443 6.061 84.970
MsBackendSql.Rcheck/MsBackendSql-Ex.timings
| name | user | system | elapsed | |
| MsBackendSql | 1.022 | 0.124 | 1.147 | |