| Back to Multiple platform build/check report for BioC 3.20: simplified long |
|
This page was generated on 2025-04-02 19:30 -0400 (Wed, 02 Apr 2025).
| Hostname | OS | Arch (*) | R version | Installed pkgs |
|---|---|---|---|---|
| nebbiolo2 | Linux (Ubuntu 24.04.1 LTS) | x86_64 | 4.4.3 (2025-02-28) -- "Trophy Case" | 4764 |
| palomino8 | Windows Server 2022 Datacenter | x64 | 4.4.3 (2025-02-28 ucrt) -- "Trophy Case" | 4495 |
| merida1 | macOS 12.7.5 Monterey | x86_64 | 4.4.3 (2025-02-28) -- "Trophy Case" | 4522 |
| kjohnson1 | macOS 13.6.6 Ventura | arm64 | 4.4.3 (2025-02-28) -- "Trophy Case" | 4449 |
| taishan | Linux (openEuler 24.03 LTS) | aarch64 | 4.4.3 (2025-02-28) -- "Trophy Case" | 4426 |
| Click on any hostname to see more info about the system (e.g. compilers) (*) as reported by 'uname -p', except on Windows and Mac OS X | ||||
| Package 1334/2289 | Hostname | OS / Arch | INSTALL | BUILD | CHECK | BUILD BIN | ||||||||
| MsBackendSql 1.6.0 (landing page) Johannes Rainer
| nebbiolo2 | Linux (Ubuntu 24.04.1 LTS) / x86_64 | OK | OK | OK | |||||||||
| palomino8 | Windows Server 2022 Datacenter / x64 | OK | OK | OK | OK | |||||||||
| merida1 | macOS 12.7.5 Monterey / x86_64 | OK | OK | OK | OK | |||||||||
| kjohnson1 | macOS 13.6.6 Ventura / arm64 | OK | OK | OK | OK | |||||||||
| taishan | Linux (openEuler 24.03 LTS) / aarch64 | OK | OK | OK | ||||||||||
|
To the developers/maintainers of the MsBackendSql package: - Allow up to 24 hours (and sometimes 48 hours) for your latest push to git@git.bioconductor.org:packages/MsBackendSql.git to reflect on this report. See Troubleshooting Build Report for more information. - Use the following Renviron settings to reproduce errors and warnings. - If 'R CMD check' started to fail recently on the Linux builder(s) over a missing dependency, add the missing dependency to 'Suggests:' in your DESCRIPTION file. See Renviron.bioc for more information. |
| Package: MsBackendSql |
| Version: 1.6.0 |
| Command: F:\biocbuild\bbs-3.20-bioc\R\bin\R.exe CMD check --no-multiarch --install=check:MsBackendSql.install-out.txt --library=F:\biocbuild\bbs-3.20-bioc\R\library --no-vignettes --timings MsBackendSql_1.6.0.tar.gz |
| StartedAt: 2025-04-01 03:45:42 -0400 (Tue, 01 Apr 2025) |
| EndedAt: 2025-04-01 03:55:45 -0400 (Tue, 01 Apr 2025) |
| EllapsedTime: 602.5 seconds |
| RetCode: 0 |
| Status: OK |
| CheckDir: MsBackendSql.Rcheck |
| Warnings: 0 |
##############################################################################
##############################################################################
###
### Running command:
###
### F:\biocbuild\bbs-3.20-bioc\R\bin\R.exe CMD check --no-multiarch --install=check:MsBackendSql.install-out.txt --library=F:\biocbuild\bbs-3.20-bioc\R\library --no-vignettes --timings MsBackendSql_1.6.0.tar.gz
###
##############################################################################
##############################################################################
* using log directory 'F:/biocbuild/bbs-3.20-bioc/meat/MsBackendSql.Rcheck'
* using R version 4.4.3 (2025-02-28 ucrt)
* using platform: x86_64-w64-mingw32
* R was compiled by
gcc.exe (GCC) 13.3.0
GNU Fortran (GCC) 13.3.0
* running under: Windows Server 2022 x64 (build 20348)
* using session charset: UTF-8
* using option '--no-vignettes'
* checking for file 'MsBackendSql/DESCRIPTION' ... OK
* this is package 'MsBackendSql' version '1.6.0'
* package encoding: UTF-8
* checking package namespace information ... OK
* checking package dependencies ... OK
* checking if this is a source package ... OK
* checking if there is a namespace ... OK
* checking for hidden files and directories ... OK
* checking for portable file names ... OK
* checking whether package 'MsBackendSql' can be installed ... OK
* checking installed package size ... OK
* checking package directory ... OK
* checking 'build' directory ... OK
* checking DESCRIPTION meta-information ... OK
* checking top-level files ... OK
* checking for left-over files ... OK
* checking index information ... OK
* checking package subdirectories ... OK
* checking code files for non-ASCII characters ... OK
* checking R files for syntax errors ... OK
* checking whether the package can be loaded ... OK
* checking whether the package can be loaded with stated dependencies ... OK
* checking whether the package can be unloaded cleanly ... OK
* checking whether the namespace can be loaded with stated dependencies ... OK
* checking whether the namespace can be unloaded cleanly ... OK
* checking dependencies in R code ... OK
* checking S3 generic/method consistency ... OK
* checking replacement functions ... OK
* checking foreign function calls ... OK
* checking R code for possible problems ... OK
* checking Rd files ... OK
* checking Rd metadata ... OK
* checking Rd cross-references ... OK
* checking for missing documentation entries ... OK
* checking for code/documentation mismatches ... OK
* checking Rd \usage sections ... OK
* checking Rd contents ... OK
* checking for unstated dependencies in examples ... OK
* checking files in 'vignettes' ... OK
* checking examples ... OK
Examples with CPU (user + system) or elapsed time > 5s
user system elapsed
MsBackendSql 3.45 0.24 16.42
* checking for unstated dependencies in 'tests' ... OK
* checking tests ...
Running 'testthat.R'
OK
* checking for unstated dependencies in vignettes ... OK
* checking package vignettes ... OK
* checking running R code from vignettes ... SKIPPED
* checking re-building of vignette outputs ... SKIPPED
* checking PDF version of manual ... OK
* DONE
Status: OK
MsBackendSql.Rcheck/00install.out
############################################################################## ############################################################################## ### ### Running command: ### ### F:\biocbuild\bbs-3.20-bioc\R\bin\R.exe CMD INSTALL MsBackendSql ### ############################################################################## ############################################################################## * installing to library 'F:/biocbuild/bbs-3.20-bioc/R/library' * installing *source* package 'MsBackendSql' ... ** using staged installation ** R ** byte-compile and prepare package for lazy loading ** help *** installing help indices *** copying figures ** building package indices ** installing vignettes ** testing if installed package can be loaded from temporary location ** testing if installed package can be loaded from final location ** testing if installed package keeps a record of temporary installation path * DONE (MsBackendSql)
MsBackendSql.Rcheck/tests/testthat.Rout
R version 4.4.3 (2025-02-28 ucrt) -- "Trophy Case"
Copyright (C) 2025 The R Foundation for Statistical Computing
Platform: x86_64-w64-mingw32/x64
R is free software and comes with ABSOLUTELY NO WARRANTY.
You are welcome to redistribute it under certain conditions.
Type 'license()' or 'licence()' for distribution details.
R is a collaborative project with many contributors.
Type 'contributors()' for more information and
'citation()' on how to cite R or R packages in publications.
Type 'demo()' for some demos, 'help()' for on-line help, or
'help.start()' for an HTML browser interface to help.
Type 'q()' to quit R.
> library(testthat)
> library(MsBackendSql)
Loading required package: Spectra
Loading required package: S4Vectors
Loading required package: stats4
Loading required package: BiocGenerics
Attaching package: 'BiocGenerics'
The following objects are masked from 'package:stats':
IQR, mad, sd, var, xtabs
The following objects are masked from 'package:base':
Filter, Find, Map, Position, Reduce, anyDuplicated, aperm, append,
as.data.frame, basename, cbind, colnames, dirname, do.call,
duplicated, eval, evalq, get, grep, grepl, intersect, is.unsorted,
lapply, mapply, match, mget, order, paste, pmax, pmax.int, pmin,
pmin.int, rank, rbind, rownames, sapply, saveRDS, setdiff, table,
tapply, union, unique, unsplit, which.max, which.min
Attaching package: 'S4Vectors'
The following object is masked from 'package:utils':
findMatches
The following objects are masked from 'package:base':
I, expand.grid, unname
Loading required package: BiocParallel
> library(Spectra)
> library(RSQLite)
> library(msdata)
>
> mm8_file <- system.file("microtofq", "MM8.mzML", package = "msdata")
> mm8_sps <- Spectra(mm8_file)
> mm8_db <- dbConnect(SQLite(), tempfile())
> createMsBackendSqlDatabase(mm8_db, mm8_file, blob = FALSE)
Importing data ...
[==========================================================] 1/1 (100%) in 7s
Creating indices .... Done
[1] TRUE
> mm8_be <- backendInitialize(MsBackendSql(), mm8_db)
>
> mm8_db_blob <- dbConnect(SQLite(), tempfile())
> createMsBackendSqlDatabase(mm8_db_blob, mm8_file, blob = TRUE)
Importing data ...
[==========================================================] 1/1 (100%) in 7s
Creating indices .... Done
[1] TRUE
> mm8_be_blob <- backendInitialize(MsBackendSql(), mm8_db_blob)
>
> mm14_file <- system.file("microtofq", "MM14.mzML", package = "msdata")
> mm_db <- dbConnect(SQLite(), tempfile())
> createMsBackendSqlDatabase(mm_db, c(mm8_file, mm14_file), blob = FALSE)
Importing data ...
[==========================================================] 1/1 (100%) in 15s
Creating indices .... Done
[1] TRUE
> mm_be <- backendInitialize(MsBackendSql(), mm_db)
>
> tmt_file <- proteomics(full.names = TRUE)[4L]
> tmt_mzr <- backendInitialize(MsBackendMzR(), tmt_file)
> tmt_db <- dbConnect(SQLite(), tempfile())
> createMsBackendSqlDatabase(tmt_db, tmt_file, blob = FALSE)
Importing data ...
[==========================================================] 1/1 (100%) in 1m
Creating indices .... Done
[1] TRUE
> tmt_be <- backendInitialize(MsBackendSql(), tmt_db)
>
> test_check("MsBackendSql")
[ FAIL 0 | WARN 3 | SKIP 0 | PASS 367 ]
[ FAIL 0 | WARN 3 | SKIP 0 | PASS 367 ]
Warning message:
call dbDisconnect() when finished working with a connection
>
> test_suite <- system.file("test_backends", "test_MsBackend",
+ package = "Spectra")
>
> be <- mm8_be
> test_dir(test_suite, stop_on_failure = TRUE)
✔ | F W S OK | Context
⠏ | 0 | peaks_variables
⠙ | 2 | peaks_variables
⠸ | 4 | peaks_variables
✔ | 4 | peaks_variables
⠏ | 0 | spectra_subsetting
⠇ | 9 | spectra_subsetting
⠹ | 33 | spectra_subsetting
⠇ | 59 | spectra_subsetting
⠹ | 83 | spectra_subsetting
⠋ | 101 | spectra_subsetting
⠋ | 121 | spectra_subsetting
⠇ | 139 | spectra_subsetting
⠧ | 158 | spectra_subsetting
⠴ | 176 | spectra_subsetting
⠸ | 194 | spectra_subsetting
⠏ | 220 | spectra_subsetting
⠼ | 245 | spectra_subsetting
⠦ | 277 | spectra_subsetting
⠴ | 306 | spectra_subsetting
⠇ | 329 | spectra_subsetting
⠦ | 347 | spectra_subsetting
⠸ | 364 | spectra_subsetting
⠼ | 385 | spectra_subsetting
⠴ | 406 | spectra_subsetting
⠸ | 424 | spectra_subsetting
⠙ | 442 | spectra_subsetting
⠹ | 463 | spectra_subsetting
⠇ | 479 | spectra_subsetting
⠴ | 496 | spectra_subsetting
⠙ | 522 | spectra_subsetting
⠙ | 542 | spectra_subsetting
⠼ | 565 | spectra_subsetting
⠦ | 587 | spectra_subsetting
⠇ | 599 | spectra_subsetting
⠋ | 601 | spectra_subsetting
⠙ | 602 | spectra_subsetting
⠸ | 604 | spectra_subsetting
⠴ | 606 | spectra_subsetting
⠦ | 607 | spectra_subsetting
⠧ | 608 | spectra_subsetting
⠇ | 609 | spectra_subsetting
⠏ | 610 | spectra_subsetting
⠋ | 611 | spectra_subsetting
⠙ | 612 | spectra_subsetting
⠹ | 613 | spectra_subsetting
⠸ | 614 | spectra_subsetting
⠼ | 615 | spectra_subsetting
⠴ | 616 | spectra_subsetting
⠦ | 617 | spectra_subsetting
⠧ | 618 | spectra_subsetting
⠇ | 619 | spectra_subsetting
⠋ | 621 | spectra_subsetting
⠙ | 622 | spectra_subsetting
⠹ | 623 | spectra_subsetting
⠸ | 624 | spectra_subsetting
⠼ | 625 | spectra_subsetting
⠴ | 626 | spectra_subsetting
⠦ | 627 | spectra_subsetting
⠧ | 628 | spectra_subsetting
⠇ | 629 | spectra_subsetting
⠏ | 630 | spectra_subsetting
⠋ | 631 | spectra_subsetting
⠹ | 633 | spectra_subsetting
⠸ | 634 | spectra_subsetting
⠴ | 636 | spectra_subsetting
⠦ | 637 | spectra_subsetting
⠇ | 639 | spectra_subsetting
⠏ | 640 | spectra_subsetting
⠋ | 641 | spectra_subsetting
⠙ | 642 | spectra_subsetting
⠹ | 643 | spectra_subsetting
⠸ | 644 | spectra_subsetting
⠼ | 645 | spectra_subsetting
⠴ | 646 | spectra_subsetting
⠦ | 647 | spectra_subsetting
⠧ | 648 | spectra_subsetting
⠏ | 650 | spectra_subsetting
⠋ | 651 | spectra_subsetting
⠙ | 652 | spectra_subsetting
⠹ | 653 | spectra_subsetting
⠸ | 654 | spectra_subsetting
⠼ | 655 | spectra_subsetting
⠴ | 656 | spectra_subsetting
⠦ | 657 | spectra_subsetting
⠧ | 658 | spectra_subsetting
⠇ | 659 | spectra_subsetting
⠏ | 660 | spectra_subsetting
⠋ | 661 | spectra_subsetting
⠙ | 662 | spectra_subsetting
⠹ | 663 | spectra_subsetting
⠸ | 664 | spectra_subsetting
⠼ | 665 | spectra_subsetting
⠴ | 666 | spectra_subsetting
⠦ | 667 | spectra_subsetting
⠧ | 668 | spectra_subsetting
⠇ | 669 | spectra_subsetting
⠏ | 670 | spectra_subsetting
⠋ | 671 | spectra_subsetting
⠙ | 672 | spectra_subsetting
⠹ | 673 | spectra_subsetting
⠸ | 674 | spectra_subsetting
⠼ | 675 | spectra_subsetting
⠴ | 676 | spectra_subsetting
⠦ | 677 | spectra_subsetting
⠧ | 678 | spectra_subsetting
⠇ | 679 | spectra_subsetting
⠏ | 680 | spectra_subsetting
⠋ | 681 | spectra_subsetting
⠙ | 682 | spectra_subsetting
⠹ | 683 | spectra_subsetting
⠼ | 685 | spectra_subsetting
⠴ | 686 | spectra_subsetting
⠦ | 687 | spectra_subsetting
⠧ | 688 | spectra_subsetting
⠇ | 689 | spectra_subsetting
⠏ | 690 | spectra_subsetting
⠙ | 692 | spectra_subsetting
⠹ | 693 | spectra_subsetting
⠼ | 695 | spectra_subsetting
⠴ | 696 | spectra_subsetting
⠦ | 697 | spectra_subsetting
⠧ | 698 | spectra_subsetting
⠇ | 699 | spectra_subsetting
⠏ | 700 | spectra_subsetting
⠋ | 701 | spectra_subsetting
⠙ | 702 | spectra_subsetting
⠹ | 703 | spectra_subsetting
⠸ | 704 | spectra_subsetting
⠼ | 705 | spectra_subsetting
⠴ | 706 | spectra_subsetting
⠦ | 707 | spectra_subsetting
⠧ | 708 | spectra_subsetting
⠇ | 709 | spectra_subsetting
⠏ | 710 | spectra_subsetting
⠋ | 711 | spectra_subsetting
⠙ | 712 | spectra_subsetting
⠹ | 713 | spectra_subsetting
⠸ | 714 | spectra_subsetting
⠼ | 715 | spectra_subsetting
⠴ | 716 | spectra_subsetting
⠦ | 717 | spectra_subsetting
⠧ | 718 | spectra_subsetting
⠇ | 719 | spectra_subsetting
⠏ | 720 | spectra_subsetting
⠙ | 722 | spectra_subsetting
⠸ | 724 | spectra_subsetting
⠼ | 725 | spectra_subsetting
⠴ | 726 | spectra_subsetting
⠧ | 728 | spectra_subsetting
⠇ | 729 | spectra_subsetting
⠏ | 730 | spectra_subsetting
⠋ | 731 | spectra_subsetting
⠙ | 732 | spectra_subsetting
⠹ | 733 | spectra_subsetting
⠸ | 734 | spectra_subsetting
⠼ | 735 | spectra_subsetting
⠴ | 736 | spectra_subsetting
⠦ | 737 | spectra_subsetting
⠧ | 738 | spectra_subsetting
⠇ | 739 | spectra_subsetting
⠏ | 740 | spectra_subsetting
⠋ | 741 | spectra_subsetting
⠙ | 742 | spectra_subsetting
⠹ | 743 | spectra_subsetting
⠸ | 744 | spectra_subsetting
⠼ | 745 | spectra_subsetting
⠴ | 746 | spectra_subsetting
⠦ | 747 | spectra_subsetting
⠧ | 748 | spectra_subsetting
⠇ | 749 | spectra_subsetting
⠏ | 750 | spectra_subsetting
⠋ | 751 | spectra_subsetting
⠹ | 753 | spectra_subsetting
⠸ | 754 | spectra_subsetting
⠼ | 755 | spectra_subsetting
⠴ | 756 | spectra_subsetting
⠧ | 758 | spectra_subsetting
⠇ | 759 | spectra_subsetting
⠏ | 760 | spectra_subsetting
⠋ | 761 | spectra_subsetting
⠙ | 762 | spectra_subsetting
⠹ | 763 | spectra_subsetting
⠸ | 764 | spectra_subsetting
⠼ | 765 | spectra_subsetting
⠴ | 766 | spectra_subsetting
⠦ | 767 | spectra_subsetting
⠧ | 768 | spectra_subsetting
⠇ | 769 | spectra_subsetting
⠏ | 770 | spectra_subsetting
⠋ | 771 | spectra_subsetting
⠙ | 772 | spectra_subsetting
⠹ | 773 | spectra_subsetting
⠸ | 774 | spectra_subsetting
⠼ | 775 | spectra_subsetting
⠴ | 776 | spectra_subsetting
⠦ | 777 | spectra_subsetting
⠧ | 778 | spectra_subsetting
⠇ | 779 | spectra_subsetting
⠏ | 780 | spectra_subsetting
⠋ | 781 | spectra_subsetting
⠙ | 782 | spectra_subsetting
⠸ | 784 | spectra_subsetting
⠼ | 785 | spectra_subsetting
⠴ | 786 | spectra_subsetting
⠦ | 787 | spectra_subsetting
⠧ | 788 | spectra_subsetting
⠇ | 789 | spectra_subsetting
⠏ | 790 | spectra_subsetting
⠋ | 791 | spectra_subsetting
⠙ | 792 | spectra_subsetting
⠹ | 793 | spectra_subsetting
⠸ | 794 | spectra_subsetting
⠼ | 795 | spectra_subsetting
⠴ | 796 | spectra_subsetting
⠇ | 799 | spectra_subsetting
⠋ | 801 | spectra_subsetting
⠹ | 813 | spectra_subsetting
⠏ | 820 | spectra_subsetting
✔ | 820 | spectra_subsetting [32.6s]
⠏ | 0 | spectra_variables
⠴ | 6 | spectra_variables
⠙ | 12 | spectra_variables
⠸ | 14 | spectra_variables
⠴ | 16 | spectra_variables
⠦ | 27 | spectra_variables
⠇ | 29 | spectra_variables
⠋ | 31 | spectra_variables
⠇ | 39 | spectra_variables
⠹ | 43 | spectra_variables
⠙ | 52 | spectra_variables
⠸ | 54 | spectra_variables
✔ | 64 | spectra_variables [3.4s]
══ Results ═════════════════════════════════════════════════════════════════════
Duration: 36.8 s
[ FAIL 0 | WARN 0 | SKIP 0 | PASS 888 ]
🌈 Your tests are over the rainbow 🌈
>
> be <- tmt_be[sample(seq_along(tmt_be), 300)]
> test_dir(test_suite, stop_on_failure = TRUE)
✔ | F W S OK | Context
⠏ | 0 | peaks_variables
⠙ | 2 | peaks_variables
⠸ | 4 | peaks_variables
✔ | 4 | peaks_variables [5.3s]
⠏ | 0 | spectra_subsetting
⠋ | 1 | spectra_subsetting
⠇ | 19 | spectra_subsetting
⠦ | 37 | spectra_subsetting
⠸ | 64 | spectra_subsetting
⠙ | 92 | spectra_subsetting
⠙ | 112 | spectra_subsetting
⠏ | 130 | spectra_subsetting
⠦ | 147 | spectra_subsetting
⠏ | 160 | spectra_subsetting
⠧ | 178 | spectra_subsetting
⠦ | 197 | spectra_subsetting
⠋ | 221 | spectra_subsetting
⠼ | 245 | spectra_subsetting
⠹ | 263 | spectra_subsetting
⠙ | 282 | spectra_subsetting
⠧ | 298 | spectra_subsetting
⠼ | 315 | spectra_subsetting
⠙ | 332 | spectra_subsetting
⠴ | 356 | spectra_subsetting
⠏ | 380 | spectra_subsetting
⠸ | 404 | spectra_subsetting
⠦ | 427 | spectra_subsetting
⠼ | 445 | spectra_subsetting
⠹ | 463 | spectra_subsetting
⠧ | 478 | spectra_subsetting
⠸ | 494 | spectra_subsetting
⠙ | 512 | spectra_subsetting
⠸ | 534 | spectra_subsetting
⠼ | 565 | spectra_subsetting
⠙ | 592 | spectra_subsetting
⠦ | 617 | spectra_subsetting
⠸ | 644 | spectra_subsetting
⠋ | 671 | spectra_subsetting
⠙ | 692 | spectra_subsetting
⠇ | 709 | spectra_subsetting
⠧ | 728 | spectra_subsetting
⠸ | 754 | spectra_subsetting
⠙ | 772 | spectra_subsetting
⠦ | 787 | spectra_subsetting
⠼ | 805 | spectra_subsetting
⠦ | 827 | spectra_subsetting
⠦ | 847 | spectra_subsetting
⠋ | 871 | spectra_subsetting
⠧ | 898 | spectra_subsetting
⠼ | 905 | spectra_subsetting
⠴ | 906 | spectra_subsetting
⠦ | 907 | spectra_subsetting
⠧ | 908 | spectra_subsetting
⠇ | 909 | spectra_subsetting
⠏ | 910 | spectra_subsetting
⠋ | 911 | spectra_subsetting
⠙ | 912 | spectra_subsetting
⠹ | 913 | spectra_subsetting
⠸ | 914 | spectra_subsetting
⠼ | 915 | spectra_subsetting
⠴ | 916 | spectra_subsetting
⠦ | 917 | spectra_subsetting
⠇ | 919 | spectra_subsetting
⠏ | 920 | spectra_subsetting
⠋ | 921 | spectra_subsetting
⠙ | 922 | spectra_subsetting
⠹ | 923 | spectra_subsetting
⠸ | 924 | spectra_subsetting
⠼ | 925 | spectra_subsetting
⠴ | 926 | spectra_subsetting
⠦ | 927 | spectra_subsetting
⠧ | 928 | spectra_subsetting
⠇ | 929 | spectra_subsetting
⠏ | 930 | spectra_subsetting
⠋ | 931 | spectra_subsetting
⠙ | 932 | spectra_subsetting
⠹ | 933 | spectra_subsetting
⠸ | 934 | spectra_subsetting
⠼ | 935 | spectra_subsetting
⠴ | 936 | spectra_subsetting
⠦ | 937 | spectra_subsetting
⠇ | 939 | spectra_subsetting
⠏ | 940 | spectra_subsetting
⠋ | 941 | spectra_subsetting
⠹ | 943 | spectra_subsetting
⠸ | 944 | spectra_subsetting
⠼ | 945 | spectra_subsetting
⠴ | 946 | spectra_subsetting
⠦ | 947 | spectra_subsetting
⠧ | 948 | spectra_subsetting
⠇ | 949 | spectra_subsetting
⠏ | 950 | spectra_subsetting
⠋ | 951 | spectra_subsetting
⠙ | 952 | spectra_subsetting
⠹ | 953 | spectra_subsetting
⠸ | 954 | spectra_subsetting
⠼ | 955 | spectra_subsetting
⠴ | 956 | spectra_subsetting
⠦ | 957 | spectra_subsetting
⠧ | 958 | spectra_subsetting
⠇ | 959 | spectra_subsetting
⠏ | 960 | spectra_subsetting
⠋ | 961 | spectra_subsetting
⠙ | 962 | spectra_subsetting
⠹ | 963 | spectra_subsetting
⠸ | 964 | spectra_subsetting
⠼ | 965 | spectra_subsetting
⠴ | 966 | spectra_subsetting
⠦ | 967 | spectra_subsetting
⠧ | 968 | spectra_subsetting
⠇ | 969 | spectra_subsetting
⠏ | 970 | spectra_subsetting
⠋ | 971 | spectra_subsetting
⠙ | 972 | spectra_subsetting
⠹ | 973 | spectra_subsetting
⠸ | 974 | spectra_subsetting
⠼ | 975 | spectra_subsetting
⠴ | 976 | spectra_subsetting
⠦ | 977 | spectra_subsetting
⠧ | 978 | spectra_subsetting
⠇ | 979 | spectra_subsetting
⠏ | 980 | spectra_subsetting
⠋ | 981 | spectra_subsetting
⠙ | 982 | spectra_subsetting
⠹ | 983 | spectra_subsetting
⠸ | 984 | spectra_subsetting
⠴ | 986 | spectra_subsetting
⠦ | 987 | spectra_subsetting
⠧ | 988 | spectra_subsetting
⠇ | 989 | spectra_subsetting
⠏ | 990 | spectra_subsetting
⠋ | 991 | spectra_subsetting
⠙ | 992 | spectra_subsetting
⠹ | 993 | spectra_subsetting
⠸ | 994 | spectra_subsetting
⠼ | 995 | spectra_subsetting
⠴ | 996 | spectra_subsetting
⠦ | 997 | spectra_subsetting
⠧ | 998 | spectra_subsetting
⠇ | 999 | spectra_subsetting
⠏ | 1000 | spectra_subsetting
⠋ | 1001 | spectra_subsetting
⠙ | 1002 | spectra_subsetting
⠸ | 1004 | spectra_subsetting
⠼ | 1005 | spectra_subsetting
⠴ | 1006 | spectra_subsetting
⠦ | 1007 | spectra_subsetting
⠧ | 1008 | spectra_subsetting
⠇ | 1009 | spectra_subsetting
⠋ | 1011 | spectra_subsetting
⠹ | 1013 | spectra_subsetting
⠸ | 1014 | spectra_subsetting
⠼ | 1015 | spectra_subsetting
⠴ | 1016 | spectra_subsetting
⠧ | 1018 | spectra_subsetting
⠇ | 1019 | spectra_subsetting
⠏ | 1020 | spectra_subsetting
⠋ | 1021 | spectra_subsetting
⠙ | 1022 | spectra_subsetting
⠹ | 1023 | spectra_subsetting
⠼ | 1025 | spectra_subsetting
⠴ | 1026 | spectra_subsetting
⠦ | 1027 | spectra_subsetting
⠧ | 1028 | spectra_subsetting
⠇ | 1029 | spectra_subsetting
⠏ | 1030 | spectra_subsetting
⠋ | 1031 | spectra_subsetting
⠙ | 1032 | spectra_subsetting
⠹ | 1033 | spectra_subsetting
⠸ | 1034 | spectra_subsetting
⠼ | 1035 | spectra_subsetting
⠴ | 1036 | spectra_subsetting
⠦ | 1037 | spectra_subsetting
⠧ | 1038 | spectra_subsetting
⠇ | 1039 | spectra_subsetting
⠏ | 1040 | spectra_subsetting
⠋ | 1041 | spectra_subsetting
⠙ | 1042 | spectra_subsetting
⠹ | 1043 | spectra_subsetting
⠸ | 1044 | spectra_subsetting
⠼ | 1045 | spectra_subsetting
⠴ | 1046 | spectra_subsetting
⠦ | 1047 | spectra_subsetting
⠧ | 1048 | spectra_subsetting
⠇ | 1049 | spectra_subsetting
⠋ | 1051 | spectra_subsetting
⠙ | 1052 | spectra_subsetting
⠹ | 1053 | spectra_subsetting
⠸ | 1054 | spectra_subsetting
⠼ | 1055 | spectra_subsetting
⠴ | 1056 | spectra_subsetting
⠦ | 1057 | spectra_subsetting
⠧ | 1058 | spectra_subsetting
⠇ | 1059 | spectra_subsetting
⠏ | 1060 | spectra_subsetting
⠋ | 1061 | spectra_subsetting
⠙ | 1062 | spectra_subsetting
⠹ | 1063 | spectra_subsetting
⠸ | 1064 | spectra_subsetting
⠼ | 1065 | spectra_subsetting
⠴ | 1066 | spectra_subsetting
⠧ | 1068 | spectra_subsetting
⠇ | 1069 | spectra_subsetting
⠏ | 1070 | spectra_subsetting
⠋ | 1071 | spectra_subsetting
⠙ | 1072 | spectra_subsetting
⠹ | 1073 | spectra_subsetting
⠸ | 1074 | spectra_subsetting
⠼ | 1075 | spectra_subsetting
⠴ | 1076 | spectra_subsetting
⠦ | 1077 | spectra_subsetting
⠧ | 1078 | spectra_subsetting
⠇ | 1079 | spectra_subsetting
⠏ | 1080 | spectra_subsetting
⠋ | 1081 | spectra_subsetting
⠙ | 1082 | spectra_subsetting
⠹ | 1083 | spectra_subsetting
⠸ | 1084 | spectra_subsetting
⠼ | 1085 | spectra_subsetting
⠴ | 1086 | spectra_subsetting
⠦ | 1087 | spectra_subsetting
⠧ | 1088 | spectra_subsetting
⠇ | 1089 | spectra_subsetting
⠏ | 1090 | spectra_subsetting
⠋ | 1091 | spectra_subsetting
⠙ | 1092 | spectra_subsetting
⠹ | 1093 | spectra_subsetting
⠸ | 1094 | spectra_subsetting
⠴ | 1096 | spectra_subsetting
⠦ | 1097 | spectra_subsetting
⠧ | 1098 | spectra_subsetting
⠏ | 1100 | spectra_subsetting
⠋ | 1101 | spectra_subsetting
⠙ | 1102 | spectra_subsetting
⠹ | 1103 | spectra_subsetting
⠸ | 1104 | spectra_subsetting
⠼ | 1105 | spectra_subsetting
⠦ | 1107 | spectra_subsetting
⠧ | 1108 | spectra_subsetting
⠇ | 1109 | spectra_subsetting
⠏ | 1110 | spectra_subsetting
⠋ | 1111 | spectra_subsetting
⠙ | 1112 | spectra_subsetting
⠹ | 1113 | spectra_subsetting
⠸ | 1114 | spectra_subsetting
⠼ | 1115 | spectra_subsetting
⠴ | 1116 | spectra_subsetting
⠦ | 1117 | spectra_subsetting
⠧ | 1118 | spectra_subsetting
⠇ | 1119 | spectra_subsetting
⠏ | 1120 | spectra_subsetting
⠋ | 1121 | spectra_subsetting
⠙ | 1122 | spectra_subsetting
⠹ | 1123 | spectra_subsetting
⠸ | 1124 | spectra_subsetting
⠼ | 1125 | spectra_subsetting
⠴ | 1126 | spectra_subsetting
⠦ | 1127 | spectra_subsetting
⠧ | 1128 | spectra_subsetting
⠇ | 1129 | spectra_subsetting
⠏ | 1130 | spectra_subsetting
⠋ | 1131 | spectra_subsetting
⠙ | 1132 | spectra_subsetting
⠹ | 1133 | spectra_subsetting
⠸ | 1134 | spectra_subsetting
⠴ | 1136 | spectra_subsetting
⠦ | 1137 | spectra_subsetting
⠧ | 1138 | spectra_subsetting
⠇ | 1139 | spectra_subsetting
⠏ | 1140 | spectra_subsetting
⠋ | 1141 | spectra_subsetting
⠙ | 1142 | spectra_subsetting
⠹ | 1143 | spectra_subsetting
⠸ | 1144 | spectra_subsetting
⠼ | 1145 | spectra_subsetting
⠴ | 1146 | spectra_subsetting
⠧ | 1148 | spectra_subsetting
⠇ | 1149 | spectra_subsetting
⠏ | 1150 | spectra_subsetting
⠋ | 1151 | spectra_subsetting
⠙ | 1152 | spectra_subsetting
⠹ | 1153 | spectra_subsetting
⠸ | 1154 | spectra_subsetting
⠼ | 1155 | spectra_subsetting
⠴ | 1156 | spectra_subsetting
⠦ | 1157 | spectra_subsetting
⠧ | 1158 | spectra_subsetting
⠇ | 1159 | spectra_subsetting
⠏ | 1160 | spectra_subsetting
⠋ | 1161 | spectra_subsetting
⠙ | 1162 | spectra_subsetting
⠹ | 1163 | spectra_subsetting
⠸ | 1164 | spectra_subsetting
⠼ | 1165 | spectra_subsetting
⠴ | 1166 | spectra_subsetting
⠦ | 1167 | spectra_subsetting
⠧ | 1168 | spectra_subsetting
⠇ | 1169 | spectra_subsetting
⠏ | 1170 | spectra_subsetting
⠋ | 1171 | spectra_subsetting
⠙ | 1172 | spectra_subsetting
⠹ | 1173 | spectra_subsetting
⠸ | 1174 | spectra_subsetting
⠼ | 1175 | spectra_subsetting
⠴ | 1176 | spectra_subsetting
⠧ | 1178 | spectra_subsetting
⠇ | 1179 | spectra_subsetting
⠏ | 1180 | spectra_subsetting
⠋ | 1181 | spectra_subsetting
⠙ | 1182 | spectra_subsetting
⠹ | 1183 | spectra_subsetting
⠸ | 1184 | spectra_subsetting
⠼ | 1185 | spectra_subsetting
⠴ | 1186 | spectra_subsetting
⠦ | 1187 | spectra_subsetting
⠇ | 1189 | spectra_subsetting
⠏ | 1190 | spectra_subsetting
⠋ | 1191 | spectra_subsetting
⠙ | 1192 | spectra_subsetting
⠹ | 1193 | spectra_subsetting
⠸ | 1194 | spectra_subsetting
⠼ | 1195 | spectra_subsetting
⠴ | 1196 | spectra_subsetting
⠦ | 1197 | spectra_subsetting
⠧ | 1198 | spectra_subsetting
⠇ | 1199 | spectra_subsetting
⠏ | 1200 | spectra_subsetting
⠙ | 1202 | spectra_subsetting
⠹ | 1203 | spectra_subsetting
⠸ | 1204 | spectra_subsetting
⠦ | 1207 | spectra_subsetting
⠇ | 1209 | spectra_subsetting
⠋ | 1221 | spectra_subsetting
⠦ | 1227 | spectra_subsetting
⠧ | 1228 | spectra_subsetting
✔ | 1228 | spectra_subsetting [60.1s]
⠏ | 0 | spectra_variables
⠧ | 8 | spectra_variables
⠙ | 12 | spectra_variables
⠸ | 14 | spectra_variables
⠴ | 16 | spectra_variables
⠦ | 27 | spectra_variables
⠇ | 29 | spectra_variables
⠋ | 31 | spectra_variables
⠇ | 39 | spectra_variables
⠹ | 43 | spectra_variables
⠙ | 52 | spectra_variables
⠸ | 54 | spectra_variables
✔ | 64 | spectra_variables [19.2s]
══ Results ═════════════════════════════════════════════════════════════════════
Duration: 84.6 s
[ FAIL 0 | WARN 0 | SKIP 0 | PASS 1296 ]
>
> dbDisconnect(mm8_db)
> dbDisconnect(mm8_db_blob)
> dbDisconnect(mm_db)
> dbDisconnect(tmt_db)
>
> proc.time()
user system elapsed
222.76 21.45 494.03
MsBackendSql.Rcheck/MsBackendSql-Ex.timings
| name | user | system | elapsed | |
| MsBackendSql | 3.45 | 0.24 | 16.42 | |