| Back to Multiple platform build/check report for BioC 3.20: simplified long |
|
This page was generated on 2024-11-20 12:06 -0500 (Wed, 20 Nov 2024).
| Hostname | OS | Arch (*) | R version | Installed pkgs |
|---|---|---|---|---|
| teran2 | Linux (Ubuntu 24.04.1 LTS) | x86_64 | 4.4.2 (2024-10-31) -- "Pile of Leaves" | 4481 |
| nebbiolo2 | Linux (Ubuntu 24.04.1 LTS) | x86_64 | 4.4.2 (2024-10-31) -- "Pile of Leaves" | 4479 |
| palomino8 | Windows Server 2022 Datacenter | x64 | 4.4.2 (2024-10-31 ucrt) -- "Pile of Leaves" | 4359 |
| lconway | macOS 12.7.1 Monterey | x86_64 | 4.4.1 (2024-06-14) -- "Race for Your Life" | 4539 |
| kunpeng2 | Linux (openEuler 22.03 LTS-SP1) | aarch64 | 4.4.1 (2024-06-14) -- "Race for Your Life" | 4493 |
| Click on any hostname to see more info about the system (e.g. compilers) (*) as reported by 'uname -p', except on Windows and Mac OS X | ||||
| Package 1170/2289 | Hostname | OS / Arch | INSTALL | BUILD | CHECK | BUILD BIN | ||||||||
| MBECS 1.10.0 (landing page) Michael Olbrich
| teran2 | Linux (Ubuntu 24.04.1 LTS) / x86_64 | OK | OK | OK | |||||||||
| nebbiolo2 | Linux (Ubuntu 24.04.1 LTS) / x86_64 | OK | OK | OK | ||||||||||
| palomino8 | Windows Server 2022 Datacenter / x64 | OK | ERROR | skipped | skipped | |||||||||
| lconway | macOS 12.7.1 Monterey / x86_64 | OK | OK | OK | OK | |||||||||
| kunpeng2 | Linux (openEuler 22.03 LTS-SP1) / aarch64 | OK | OK | OK | ||||||||||
|
To the developers/maintainers of the MBECS package: - Allow up to 24 hours (and sometimes 48 hours) for your latest push to git@git.bioconductor.org:packages/MBECS.git to reflect on this report. See Troubleshooting Build Report for more information. - Use the following Renviron settings to reproduce errors and warnings. - If 'R CMD check' started to fail recently on the Linux builder(s) over a missing dependency, add the missing dependency to 'Suggests:' in your DESCRIPTION file. See Renviron.bioc for more information. |
| Package: MBECS |
| Version: 1.10.0 |
| Command: /Library/Frameworks/R.framework/Resources/bin/R CMD check --install=check:MBECS.install-out.txt --library=/Library/Frameworks/R.framework/Resources/library --no-vignettes --timings MBECS_1.10.0.tar.gz |
| StartedAt: 2024-11-19 23:41:32 -0500 (Tue, 19 Nov 2024) |
| EndedAt: 2024-11-19 23:48:25 -0500 (Tue, 19 Nov 2024) |
| EllapsedTime: 413.2 seconds |
| RetCode: 0 |
| Status: OK |
| CheckDir: MBECS.Rcheck |
| Warnings: 0 |
##############################################################################
##############################################################################
###
### Running command:
###
### /Library/Frameworks/R.framework/Resources/bin/R CMD check --install=check:MBECS.install-out.txt --library=/Library/Frameworks/R.framework/Resources/library --no-vignettes --timings MBECS_1.10.0.tar.gz
###
##############################################################################
##############################################################################
* using log directory ‘/Users/biocbuild/bbs-3.20-bioc/meat/MBECS.Rcheck’
* using R version 4.4.1 (2024-06-14)
* using platform: x86_64-apple-darwin20
* R was compiled by
Apple clang version 14.0.0 (clang-1400.0.29.202)
GNU Fortran (GCC) 12.2.0
* running under: macOS Monterey 12.7.6
* using session charset: UTF-8
* using option ‘--no-vignettes’
* checking for file ‘MBECS/DESCRIPTION’ ... OK
* this is package ‘MBECS’ version ‘1.10.0’
* package encoding: UTF-8
* checking package namespace information ... OK
* checking package dependencies ...Warning: unable to access index for repository https://CRAN.R-project.org/src/contrib:
cannot open URL 'https://CRAN.R-project.org/src/contrib/PACKAGES'
OK
* checking if this is a source package ... OK
* checking if there is a namespace ... OK
* checking for hidden files and directories ... OK
* checking for portable file names ... OK
* checking for sufficient/correct file permissions ... OK
* checking whether package ‘MBECS’ can be installed ... OK
* checking installed package size ... OK
* checking package directory ... OK
* checking ‘build’ directory ... OK
* checking DESCRIPTION meta-information ... OK
* checking top-level files ... OK
* checking for left-over files ... OK
* checking index information ... OK
* checking package subdirectories ... OK
* checking code files for non-ASCII characters ... OK
* checking R files for syntax errors ... OK
* checking whether the package can be loaded ... OK
* checking whether the package can be loaded with stated dependencies ... OK
* checking whether the package can be unloaded cleanly ... OK
* checking whether the namespace can be loaded with stated dependencies ... OK
* checking whether the namespace can be unloaded cleanly ... OK
* checking dependencies in R code ... OK
* checking S3 generic/method consistency ... OK
* checking replacement functions ... OK
* checking foreign function calls ... OK
* checking R code for possible problems ... OK
* checking Rd files ... OK
* checking Rd metadata ... OK
* checking Rd cross-references ... OK
* checking for missing documentation entries ... OK
* checking for code/documentation mismatches ... OK
* checking Rd \usage sections ... OK
* checking Rd contents ... OK
* checking for unstated dependencies in examples ... OK
* checking contents of ‘data’ directory ... OK
* checking data for non-ASCII characters ... OK
* checking data for ASCII and uncompressed saves ... OK
* checking files in ‘vignettes’ ... OK
* checking examples ... OK
* checking for unstated dependencies in ‘tests’ ... OK
* checking tests ...
Running ‘testthat.R’
OK
* checking for unstated dependencies in vignettes ... OK
* checking package vignettes ... OK
* checking running R code from vignettes ... SKIPPED
* checking re-building of vignette outputs ... SKIPPED
* checking PDF version of manual ... OK
* DONE
Status: OK
MBECS.Rcheck/00install.out
############################################################################## ############################################################################## ### ### Running command: ### ### /Library/Frameworks/R.framework/Resources/bin/R CMD INSTALL MBECS ### ############################################################################## ############################################################################## * installing to library ‘/Library/Frameworks/R.framework/Versions/4.4-x86_64/Resources/library’ * installing *source* package ‘MBECS’ ... ** using staged installation ** R ** data ** inst ** byte-compile and prepare package for lazy loading ** help *** installing help indices ** building package indices ** installing vignettes ** testing if installed package can be loaded from temporary location ** testing if installed package can be loaded from final location ** testing if installed package keeps a record of temporary installation path * DONE (MBECS)
MBECS.Rcheck/tests/testthat.Rout
R version 4.4.1 (2024-06-14) -- "Race for Your Life"
Copyright (C) 2024 The R Foundation for Statistical Computing
Platform: x86_64-apple-darwin20
R is free software and comes with ABSOLUTELY NO WARRANTY.
You are welcome to redistribute it under certain conditions.
Type 'license()' or 'licence()' for distribution details.
R is a collaborative project with many contributors.
Type 'contributors()' for more information and
'citation()' on how to cite R or R packages in publications.
Type 'demo()' for some demos, 'help()' for on-line help, or
'help.start()' for an HTML browser interface to help.
Type 'q()' to quit R.
> library(testthat)
> library(MBECS)
>
> test_check("MBECS")
Set tss-transformed counts.
Found zeros, function will add a small pseudo-count
(1/#features) for log-ratio transformation.
Set tss-transformed counts.
Found zeros, function will add a small pseudo-count
(1/#features) for log-ratio transformation.
Set tss-transformed counts.
Found zeros, function will add a small pseudo-count
(1/#features) for log-ratio transformation.
Set tss-transformed counts.
Found zeros, function will add a small pseudo-count
(1/#features) for log-ratio transformation.
Set tss-transformed counts.
Found zeros, function will add a small pseudo-count
(1/#features) for log-ratio transformation.
No negative control features provided.
Using pseudo-negative controls.
Applying Remove Unwanted Variantion v3 (RUV-III).
No 'sID' column present, creating from rownames now.
No 'sID' column present, creating from rownames now.
Set tss-transformed counts.
No 'sID' column present, creating from rownames now.
Set tss-transformed counts.
Construct lm-formula from covariates.
Construct lm-formula from covariates.
There is a problem with the estimatibility of your model.
Check out covariate: 'sIDS40'
Found zeros, function will add a small pseudo-count
(1/#features) for log-ratio transformation.
Set tss-transformed counts.
Found zeros, function will add a small pseudo-count
(1/#features) for log-ratio transformation.
Set tss-transformed counts.
Found zeros, function will add a small pseudo-count
(1/#features) for log-ratio transformation.
Set tss-transformed counts.
Found zeros, function will add a small pseudo-count
(1/#features) for log-ratio transformation.
Calculating RLE for group: A
Calculating RLE for group: B
Fitting linear model to every feature and extract proportion of
variance explained by covariates.
Construct formula from covariates.
|
| | 0%
|
|==== | 5%
|
|======== | 10%
|
|============ | 15%
|
|================ | 20%
|
|==================== | 25%
|
|======================== | 30%
|
|============================ | 35%
|
|================================ | 40%
|
|==================================== | 45%
|
|======================================== | 50%
|
|============================================ | 55%
|
|================================================ | 60%
|
|==================================================== | 65%
|
|======================================================== | 70%
|
|============================================================ | 75%
|
|================================================================ | 80%
|
|==================================================================== | 85%
|
|======================================================================== | 90%
|
|============================================================================ | 95%
|
|================================================================================| 100%
Fitting linear-mixed model to every feature and extract proportion
of variance explained by covariates.
Construct formula from covariates.
|
| | 0%boundary (singular) fit: see help('isSingular')
|
|==== | 5%boundary (singular) fit: see help('isSingular')
|
|======== | 10%
|
|============ | 15%boundary (singular) fit: see help('isSingular')
|
|================ | 20%
|
|==================== | 25%
|
|======================== | 30%boundary (singular) fit: see help('isSingular')
|
|============================ | 35%
|
|================================ | 40%
|
|==================================== | 45%boundary (singular) fit: see help('isSingular')
|
|======================================== | 50%boundary (singular) fit: see help('isSingular')
|
|============================================ | 55%boundary (singular) fit: see help('isSingular')
|
|================================================ | 60%boundary (singular) fit: see help('isSingular')
|
|==================================================== | 65%boundary (singular) fit: see help('isSingular')
|
|======================================================== | 70%boundary (singular) fit: see help('isSingular')
|
|============================================================ | 75%boundary (singular) fit: see help('isSingular')
|
|================================================================ | 80%boundary (singular) fit: see help('isSingular')
|
|==================================================================== | 85%
|
|======================================================================== | 90%boundary (singular) fit: see help('isSingular')
|
|============================================================================ | 95%boundary (singular) fit: see help('isSingular')
|
|================================================================================| 100%
|
| | 0%
|
|======================================== | 50%
|
|================================================================================| 100%
boundary (singular) fit: see help('isSingular')
boundary (singular) fit: see help('isSingular')
boundary (singular) fit: see help('isSingular')
boundary (singular) fit: see help('isSingular')
boundary (singular) fit: see help('isSingular')
boundary (singular) fit: see help('isSingular')
[1] "batch"
[1] "group"
Set tss-transformed counts.
Found zeros, function will add a small pseudo-count
(1/#features) for log-ratio transformation.
Applying ComBat (sva) for batch-correction.
Found2batches
Adjusting for1covariate(s) or covariate level(s)
Standardizing Data across genes
Fitting L/S model and finding priors
Finding nonparametric adjustments
Adjusting the Data
[ FAIL 0 | WARN 101 | SKIP 0 | PASS 282 ]
[ FAIL 0 | WARN 101 | SKIP 0 | PASS 282 ]
>
> proc.time()
user system elapsed
45.640 1.077 46.904
MBECS.Rcheck/MBECS-Ex.timings
| name | user | system | elapsed | |
| MbecData | 0.080 | 0.004 | 0.086 | |
| colinScore | 0.241 | 0.017 | 0.259 | |
| dot-mbecGetData | 0.031 | 0.004 | 0.035 | |
| dot-mbecGetPhyloseq | 0.047 | 0.005 | 0.054 | |
| dot-mbecSetData | 0.052 | 0.008 | 0.060 | |
| dummy.list | 0.005 | 0.002 | 0.007 | |
| dummy.mbec | 0.027 | 0.003 | 0.031 | |
| dummy.ps | 0.005 | 0.001 | 0.008 | |
| mbecBox | 1.928 | 0.059 | 1.990 | |
| mbecBoxPlot | 1.504 | 0.008 | 1.514 | |
| mbecCorrection | 4.565 | 0.113 | 4.686 | |
| mbecDummy | 0.087 | 0.001 | 0.087 | |
| mbecGetData-MbecData-method | 0.026 | 0.002 | 0.029 | |
| mbecGetData | 0.025 | 0.002 | 0.028 | |
| mbecGetPhyloseq-MbecData-method | 0.036 | 0.002 | 0.038 | |
| mbecGetPhyloseq | 0.033 | 0.003 | 0.037 | |
| mbecHeat | 0.139 | 0.010 | 0.150 | |
| mbecHeatPlot | 0.096 | 0.003 | 0.100 | |
| mbecHelpFactor | 0.005 | 0.002 | 0.006 | |
| mbecLM | 0.635 | 0.006 | 0.642 | |
| mbecMixedVariance | 0.029 | 0.002 | 0.030 | |
| mbecModelVariance | 3.743 | 0.019 | 3.772 | |
| mbecMosaic | 0.617 | 0.005 | 0.625 | |
| mbecMosaicPlot | 0.548 | 0.004 | 0.553 | |
| mbecPCA-MbecData-method | 0.589 | 0.008 | 0.597 | |
| mbecPCA | 0.586 | 0.004 | 0.592 | |
| mbecPCAPlot | 0.539 | 0.006 | 0.546 | |
| mbecPVCAStatsPlot | 0.695 | 0.006 | 0.703 | |
| mbecProcessInput-MbecData-method | 0.020 | 0.001 | 0.022 | |
| mbecProcessInput-list-method | 0.020 | 0.002 | 0.021 | |
| mbecProcessInput-phyloseq-method | 0.022 | 0.001 | 0.023 | |
| mbecProcessInput | 0.021 | 0.001 | 0.021 | |
| mbecRDAStatsPlot | 0.075 | 0.004 | 0.079 | |
| mbecRLE | 0.164 | 0.004 | 0.169 | |
| mbecRLEPlot | 0.088 | 0.005 | 0.092 | |
| mbecReportPost | 2.320 | 0.016 | 2.341 | |
| mbecReportPrelim | 1.173 | 0.007 | 1.182 | |
| mbecRunCorrections | 1.335 | 0.036 | 1.373 | |
| mbecSCOEFStatsPlot | 0.074 | 0.002 | 0.077 | |
| mbecSetData-MbecData-method | 0.035 | 0.003 | 0.039 | |
| mbecSetData | 0.032 | 0.003 | 0.035 | |
| mbecTestModel | 0.023 | 0.003 | 0.026 | |
| mbecTransform | 0.089 | 0.002 | 0.092 | |
| mbecValidateModel | 0.019 | 0.002 | 0.021 | |
| mbecVarianceStats | 0.011 | 0.002 | 0.012 | |
| mbecVarianceStatsPlot | 3.285 | 0.020 | 3.309 | |
| percentileNorm | 1.585 | 0.043 | 1.631 | |
| poscore | 0.001 | 0.000 | 0.000 | |