| Back to Multiple platform build/check report for BioC 3.20: simplified long | 
 | 
This page was generated on 2024-11-20 12:07 -0500 (Wed, 20 Nov 2024).
| Hostname | OS | Arch (*) | R version | Installed pkgs | 
|---|---|---|---|---|
| teran2 | Linux (Ubuntu 24.04.1 LTS) | x86_64 | 4.4.2 (2024-10-31) -- "Pile of Leaves" | 4481 | 
| nebbiolo2 | Linux (Ubuntu 24.04.1 LTS) | x86_64 | 4.4.2 (2024-10-31) -- "Pile of Leaves" | 4479 | 
| palomino8 | Windows Server 2022 Datacenter | x64 | 4.4.2 (2024-10-31 ucrt) -- "Pile of Leaves" | 4359 | 
| lconway | macOS 12.7.1 Monterey | x86_64 | 4.4.1 (2024-06-14) -- "Race for Your Life" | 4539 | 
| kunpeng2 | Linux (openEuler 22.03 LTS-SP1) | aarch64 | 4.4.1 (2024-06-14) -- "Race for Your Life" | 4493 | 
| Click on any hostname to see more info about the system (e.g. compilers) (*) as reported by 'uname -p', except on Windows and Mac OS X | ||||
| Package 1170/2289 | Hostname | OS / Arch | INSTALL | BUILD | CHECK | BUILD BIN | ||||||||
| MBECS 1.10.0  (landing page) Michael Olbrich 
 | teran2 | Linux (Ubuntu 24.04.1 LTS) / x86_64 | OK | OK | OK |  | ||||||||
| nebbiolo2 | Linux (Ubuntu 24.04.1 LTS) / x86_64 | OK | OK | OK | ||||||||||
| palomino8 | Windows Server 2022 Datacenter / x64 | OK | ERROR | skipped | skipped | |||||||||
| lconway | macOS 12.7.1 Monterey / x86_64 | OK | OK | OK | OK |  | ||||||||
| kunpeng2 | Linux (openEuler 22.03 LTS-SP1) / aarch64 | OK | OK | OK | ||||||||||
| To the developers/maintainers of the MBECS package: - Allow up to 24 hours (and sometimes 48 hours) for your latest push to git@git.bioconductor.org:packages/MBECS.git to reflect on this report. See Troubleshooting Build Report for more information. - Use the following Renviron settings to reproduce errors and warnings. - If 'R CMD check' started to fail recently on the Linux builder(s) over a missing dependency, add the missing dependency to 'Suggests:' in your DESCRIPTION file. See Renviron.bioc for more information. - See Martin Grigorov's blog post for how to debug Linux ARM64 related issues on a x86_64 host. | 
| Package: MBECS | 
| Version: 1.10.0 | 
| Command: /home/biocbuild/R/R/bin/R CMD check --install=check:MBECS.install-out.txt --library=/home/biocbuild/R/R/site-library --no-vignettes --timings MBECS_1.10.0.tar.gz | 
| StartedAt: 2024-11-20 09:30:59 -0000 (Wed, 20 Nov 2024) | 
| EndedAt: 2024-11-20 09:36:13 -0000 (Wed, 20 Nov 2024) | 
| EllapsedTime: 314.6 seconds | 
| RetCode: 0 | 
| Status: OK | 
| CheckDir: MBECS.Rcheck | 
| Warnings: 0 | 
##############################################################################
##############################################################################
###
### Running command:
###
###   /home/biocbuild/R/R/bin/R CMD check --install=check:MBECS.install-out.txt --library=/home/biocbuild/R/R/site-library --no-vignettes --timings MBECS_1.10.0.tar.gz
###
##############################################################################
##############################################################################
* using log directory ‘/home/biocbuild/bbs-3.20-bioc/meat/MBECS.Rcheck’
* using R version 4.4.1 (2024-06-14)
* using platform: aarch64-unknown-linux-gnu
* R was compiled by
    gcc (GCC) 12.2.1 20220819 (openEuler 12.2.1-14)
    GNU Fortran (GCC) 10.3.1
* running under: openEuler 22.03 (LTS-SP1)
* using session charset: UTF-8
* using option ‘--no-vignettes’
* checking for file ‘MBECS/DESCRIPTION’ ... OK
* this is package ‘MBECS’ version ‘1.10.0’
* package encoding: UTF-8
* checking package namespace information ... OK
* checking package dependencies ... OK
* checking if this is a source package ... OK
* checking if there is a namespace ... OK
* checking for hidden files and directories ... OK
* checking for portable file names ... OK
* checking for sufficient/correct file permissions ... OK
* checking whether package ‘MBECS’ can be installed ... OK
* checking installed package size ... OK
* checking package directory ... OK
* checking ‘build’ directory ... OK
* checking DESCRIPTION meta-information ... OK
* checking top-level files ... OK
* checking for left-over files ... OK
* checking index information ... OK
* checking package subdirectories ... OK
* checking code files for non-ASCII characters ... OK
* checking R files for syntax errors ... OK
* checking whether the package can be loaded ... OK
* checking whether the package can be loaded with stated dependencies ... OK
* checking whether the package can be unloaded cleanly ... OK
* checking whether the namespace can be loaded with stated dependencies ... OK
* checking whether the namespace can be unloaded cleanly ... OK
* checking loading without being on the library search path ... OK
* checking dependencies in R code ... OK
* checking S3 generic/method consistency ... OK
* checking replacement functions ... OK
* checking foreign function calls ... OK
* checking R code for possible problems ... OK
* checking Rd files ... OK
* checking Rd metadata ... OK
* checking Rd cross-references ... OK
* checking for missing documentation entries ... OK
* checking for code/documentation mismatches ... OK
* checking Rd \usage sections ... OK
* checking Rd contents ... OK
* checking for unstated dependencies in examples ... OK
* checking contents of ‘data’ directory ... OK
* checking data for non-ASCII characters ... OK
* checking data for ASCII and uncompressed saves ... OK
* checking files in ‘vignettes’ ... OK
* checking examples ... OK
Examples with CPU (user + system) or elapsed time > 5s
                       user system elapsed
mbecCorrection        7.905  0.151   8.074
mbecModelVariance     7.271  0.088   7.377
mbecVarianceStatsPlot 6.192  0.056   6.261
* checking for unstated dependencies in ‘tests’ ... OK
* checking tests ...
  Running ‘testthat.R’
 OK
* checking for unstated dependencies in vignettes ... OK
* checking package vignettes ... OK
* checking running R code from vignettes ... SKIPPED
* checking re-building of vignette outputs ... SKIPPED
* checking PDF version of manual ... OK
* DONE
Status: OK
MBECS.Rcheck/00install.out
############################################################################## ############################################################################## ### ### Running command: ### ### /home/biocbuild/R/R/bin/R CMD INSTALL MBECS ### ############################################################################## ############################################################################## * installing to library ‘/home/biocbuild/R/R-4.4.1/site-library’ * installing *source* package ‘MBECS’ ... ** using staged installation ** R ** data ** inst ** byte-compile and prepare package for lazy loading ** help *** installing help indices ** building package indices ** installing vignettes ** testing if installed package can be loaded from temporary location ** testing if installed package can be loaded from final location ** testing if installed package keeps a record of temporary installation path * DONE (MBECS)
MBECS.Rcheck/tests/testthat.Rout
R version 4.4.1 (2024-06-14) -- "Race for Your Life"
Copyright (C) 2024 The R Foundation for Statistical Computing
Platform: aarch64-unknown-linux-gnu
R is free software and comes with ABSOLUTELY NO WARRANTY.
You are welcome to redistribute it under certain conditions.
Type 'license()' or 'licence()' for distribution details.
R is a collaborative project with many contributors.
Type 'contributors()' for more information and
'citation()' on how to cite R or R packages in publications.
Type 'demo()' for some demos, 'help()' for on-line help, or
'help.start()' for an HTML browser interface to help.
Type 'q()' to quit R.
> library(testthat)
> library(MBECS)
> 
> test_check("MBECS")
Set tss-transformed counts.
Found zeros, function will add a small pseudo-count
                (1/#features) for log-ratio transformation.
Set tss-transformed counts.
Found zeros, function will add a small pseudo-count
                (1/#features) for log-ratio transformation.
Set tss-transformed counts.
Found zeros, function will add a small pseudo-count
                (1/#features) for log-ratio transformation.
Set tss-transformed counts.
Found zeros, function will add a small pseudo-count
                (1/#features) for log-ratio transformation.
Set tss-transformed counts.
Found zeros, function will add a small pseudo-count
                (1/#features) for log-ratio transformation.
No negative control features provided.
                Using pseudo-negative controls.
Applying Remove Unwanted Variantion v3 (RUV-III).
No 'sID' column present, creating from rownames now.
No 'sID' column present, creating from rownames now.
Set tss-transformed counts.
No 'sID' column present, creating from rownames now.
Set tss-transformed counts.
Construct lm-formula from covariates.
Construct lm-formula from covariates.
There is a problem with the estimatibility of your model.
            Check out covariate: 'sIDS40'
Found zeros, function will add a small pseudo-count
                (1/#features) for log-ratio transformation.
Set tss-transformed counts.
Found zeros, function will add a small pseudo-count
                (1/#features) for log-ratio transformation.
Set tss-transformed counts.
Found zeros, function will add a small pseudo-count
                (1/#features) for log-ratio transformation.
Set tss-transformed counts.
Found zeros, function will add a small pseudo-count
                (1/#features) for log-ratio transformation.
Calculating RLE for group: A
Calculating RLE for group: B
Fitting linear model to every feature and extract proportion of
          variance explained by covariates.
Construct formula from covariates.
  |                                                                                      
  |                                                                                |   0%
  |                                                                                      
  |====                                                                            |   5%
  |                                                                                      
  |========                                                                        |  10%
  |                                                                                      
  |============                                                                    |  15%
  |                                                                                      
  |================                                                                |  20%
  |                                                                                      
  |====================                                                            |  25%
  |                                                                                      
  |========================                                                        |  30%
  |                                                                                      
  |============================                                                    |  35%
  |                                                                                      
  |================================                                                |  40%
  |                                                                                      
  |====================================                                            |  45%
  |                                                                                      
  |========================================                                        |  50%
  |                                                                                      
  |============================================                                    |  55%
  |                                                                                      
  |================================================                                |  60%
  |                                                                                      
  |====================================================                            |  65%
  |                                                                                      
  |========================================================                        |  70%
  |                                                                                      
  |============================================================                    |  75%
  |                                                                                      
  |================================================================                |  80%
  |                                                                                      
  |====================================================================            |  85%
  |                                                                                      
  |========================================================================        |  90%
  |                                                                                      
  |============================================================================    |  95%
  |                                                                                      
  |================================================================================| 100%
Fitting linear-mixed model to every feature and extract proportion
            of variance explained by covariates.
Construct formula from covariates.
  |                                                                                      
  |                                                                                |   0%boundary (singular) fit: see help('isSingular')
  |                                                                                      
  |====                                                                            |   5%boundary (singular) fit: see help('isSingular')
  |                                                                                      
  |========                                                                        |  10%
  |                                                                                      
  |============                                                                    |  15%boundary (singular) fit: see help('isSingular')
  |                                                                                      
  |================                                                                |  20%
  |                                                                                      
  |====================                                                            |  25%
  |                                                                                      
  |========================                                                        |  30%boundary (singular) fit: see help('isSingular')
  |                                                                                      
  |============================                                                    |  35%
  |                                                                                      
  |================================                                                |  40%
  |                                                                                      
  |====================================                                            |  45%boundary (singular) fit: see help('isSingular')
  |                                                                                      
  |========================================                                        |  50%boundary (singular) fit: see help('isSingular')
  |                                                                                      
  |============================================                                    |  55%boundary (singular) fit: see help('isSingular')
  |                                                                                      
  |================================================                                |  60%boundary (singular) fit: see help('isSingular')
  |                                                                                      
  |====================================================                            |  65%boundary (singular) fit: see help('isSingular')
  |                                                                                      
  |========================================================                        |  70%boundary (singular) fit: see help('isSingular')
  |                                                                                      
  |============================================================                    |  75%boundary (singular) fit: see help('isSingular')
  |                                                                                      
  |================================================================                |  80%boundary (singular) fit: see help('isSingular')
  |                                                                                      
  |====================================================================            |  85%
  |                                                                                      
  |========================================================================        |  90%boundary (singular) fit: see help('isSingular')
  |                                                                                      
  |============================================================================    |  95%boundary (singular) fit: see help('isSingular')
  |                                                                                      
  |================================================================================| 100%
  |                                                                                      
  |                                                                                |   0%
  |                                                                                      
  |========================================                                        |  50%
  |                                                                                      
  |================================================================================| 100%
boundary (singular) fit: see help('isSingular')
boundary (singular) fit: see help('isSingular')
boundary (singular) fit: see help('isSingular')
boundary (singular) fit: see help('isSingular')
boundary (singular) fit: see help('isSingular')
boundary (singular) fit: see help('isSingular')
[1] "batch"
[1] "group"
Set tss-transformed counts.
Found zeros, function will add a small pseudo-count
                (1/#features) for log-ratio transformation.
Applying ComBat (sva) for batch-correction.
Found2batches
Adjusting for1covariate(s) or covariate level(s)
Standardizing Data across genes
Fitting L/S model and finding priors
Finding nonparametric adjustments
Adjusting the Data
[ FAIL 0 | WARN 101 | SKIP 0 | PASS 282 ]
[ FAIL 0 | WARN 101 | SKIP 0 | PASS 282 ]
> 
> proc.time()
   user  system elapsed 
 85.152   1.096  84.083 
MBECS.Rcheck/MBECS-Ex.timings
| name | user | system | elapsed | |
| MbecData | 0.127 | 0.007 | 0.133 | |
| colinScore | 0.365 | 0.036 | 0.401 | |
| dot-mbecGetData | 0.036 | 0.000 | 0.035 | |
| dot-mbecGetPhyloseq | 0.043 | 0.004 | 0.047 | |
| dot-mbecSetData | 0.050 | 0.008 | 0.058 | |
| dummy.list | 0.005 | 0.000 | 0.006 | |
| dummy.mbec | 0.022 | 0.004 | 0.026 | |
| dummy.ps | 0.005 | 0.000 | 0.005 | |
| mbecBox | 3.557 | 0.156 | 3.721 | |
| mbecBoxPlot | 3.009 | 0.060 | 3.076 | |
| mbecCorrection | 7.905 | 0.151 | 8.074 | |
| mbecDummy | 0.177 | 0.004 | 0.181 | |
| mbecGetData-MbecData-method | 0.032 | 0.004 | 0.035 | |
| mbecGetData | 0.036 | 0.000 | 0.035 | |
| mbecGetPhyloseq-MbecData-method | 0.058 | 0.000 | 0.058 | |
| mbecGetPhyloseq | 0.047 | 0.004 | 0.051 | |
| mbecHeat | 0.237 | 0.016 | 0.253 | |
| mbecHeatPlot | 0.177 | 0.020 | 0.197 | |
| mbecHelpFactor | 0.005 | 0.000 | 0.005 | |
| mbecLM | 1.216 | 0.012 | 1.231 | |
| mbecMixedVariance | 0.053 | 0.000 | 0.053 | |
| mbecModelVariance | 7.271 | 0.088 | 7.377 | |
| mbecMosaic | 1.234 | 0.020 | 1.257 | |
| mbecMosaicPlot | 1.078 | 0.000 | 1.080 | |
| mbecPCA-MbecData-method | 1.354 | 0.000 | 1.182 | |
| mbecPCA | 1.322 | 0.000 | 1.152 | |
| mbecPCAPlot | 1.137 | 0.004 | 1.058 | |
| mbecPVCAStatsPlot | 1.342 | 0.028 | 1.373 | |
| mbecProcessInput-MbecData-method | 0.027 | 0.000 | 0.027 | |
| mbecProcessInput-list-method | 0.027 | 0.000 | 0.027 | |
| mbecProcessInput-phyloseq-method | 0.035 | 0.004 | 0.039 | |
| mbecProcessInput | 0.026 | 0.000 | 0.026 | |
| mbecRDAStatsPlot | 0.207 | 0.003 | 0.131 | |
| mbecRLE | 0.387 | 0.012 | 0.360 | |
| mbecRLEPlot | 0.161 | 0.004 | 0.165 | |
| mbecReportPost | 4.298 | 0.040 | 4.349 | |
| mbecReportPrelim | 2.170 | 0.024 | 2.199 | |
| mbecRunCorrections | 2.891 | 0.040 | 2.937 | |
| mbecSCOEFStatsPlot | 0.099 | 0.004 | 0.071 | |
| mbecSetData-MbecData-method | 0.105 | 0.000 | 0.053 | |
| mbecSetData | 0.109 | 0.000 | 0.106 | |
| mbecTestModel | 0.031 | 0.004 | 0.036 | |
| mbecTransform | 0.196 | 0.000 | 0.197 | |
| mbecValidateModel | 0.036 | 0.000 | 0.036 | |
| mbecVarianceStats | 0.016 | 0.000 | 0.017 | |
| mbecVarianceStatsPlot | 6.192 | 0.056 | 6.261 | |
| percentileNorm | 3.333 | 0.084 | 3.424 | |
| poscore | 0 | 0 | 0 | |