| Back to Multiple platform build/check report for BioC 3.20: simplified long |
|
This page was generated on 2024-11-20 12:06 -0500 (Wed, 20 Nov 2024).
| Hostname | OS | Arch (*) | R version | Installed pkgs |
|---|---|---|---|---|
| teran2 | Linux (Ubuntu 24.04.1 LTS) | x86_64 | 4.4.2 (2024-10-31) -- "Pile of Leaves" | 4481 |
| nebbiolo2 | Linux (Ubuntu 24.04.1 LTS) | x86_64 | 4.4.2 (2024-10-31) -- "Pile of Leaves" | 4479 |
| palomino8 | Windows Server 2022 Datacenter | x64 | 4.4.2 (2024-10-31 ucrt) -- "Pile of Leaves" | 4359 |
| lconway | macOS 12.7.1 Monterey | x86_64 | 4.4.1 (2024-06-14) -- "Race for Your Life" | 4539 |
| kunpeng2 | Linux (openEuler 22.03 LTS-SP1) | aarch64 | 4.4.1 (2024-06-14) -- "Race for Your Life" | 4493 |
| Click on any hostname to see more info about the system (e.g. compilers) (*) as reported by 'uname -p', except on Windows and Mac OS X | ||||
| Package 1126/2289 | Hostname | OS / Arch | INSTALL | BUILD | CHECK | BUILD BIN | ||||||||
| LymphoSeq 1.34.0 (landing page) David Coffey
| teran2 | Linux (Ubuntu 24.04.1 LTS) / x86_64 | OK | OK | OK | |||||||||
| nebbiolo2 | Linux (Ubuntu 24.04.1 LTS) / x86_64 | OK | OK | OK | ||||||||||
| palomino8 | Windows Server 2022 Datacenter / x64 | OK | OK | OK | OK | |||||||||
| lconway | macOS 12.7.1 Monterey / x86_64 | OK | OK | OK | OK | |||||||||
| kunpeng2 | Linux (openEuler 22.03 LTS-SP1) / aarch64 | OK | OK | OK | ||||||||||
|
To the developers/maintainers of the LymphoSeq package: - Allow up to 24 hours (and sometimes 48 hours) for your latest push to git@git.bioconductor.org:packages/LymphoSeq.git to reflect on this report. See Troubleshooting Build Report for more information. - Use the following Renviron settings to reproduce errors and warnings. - If 'R CMD check' started to fail recently on the Linux builder(s) over a missing dependency, add the missing dependency to 'Suggests:' in your DESCRIPTION file. See Renviron.bioc for more information. |
| Package: LymphoSeq |
| Version: 1.34.0 |
| Command: /Library/Frameworks/R.framework/Resources/bin/R CMD check --install=check:LymphoSeq.install-out.txt --library=/Library/Frameworks/R.framework/Resources/library --no-vignettes --timings LymphoSeq_1.34.0.tar.gz |
| StartedAt: 2024-11-19 23:33:20 -0500 (Tue, 19 Nov 2024) |
| EndedAt: 2024-11-19 23:39:30 -0500 (Tue, 19 Nov 2024) |
| EllapsedTime: 370.1 seconds |
| RetCode: 0 |
| Status: OK |
| CheckDir: LymphoSeq.Rcheck |
| Warnings: 0 |
##############################################################################
##############################################################################
###
### Running command:
###
### /Library/Frameworks/R.framework/Resources/bin/R CMD check --install=check:LymphoSeq.install-out.txt --library=/Library/Frameworks/R.framework/Resources/library --no-vignettes --timings LymphoSeq_1.34.0.tar.gz
###
##############################################################################
##############################################################################
* using log directory ‘/Users/biocbuild/bbs-3.20-bioc/meat/LymphoSeq.Rcheck’
* using R version 4.4.1 (2024-06-14)
* using platform: x86_64-apple-darwin20
* R was compiled by
Apple clang version 14.0.0 (clang-1400.0.29.202)
GNU Fortran (GCC) 12.2.0
* running under: macOS Monterey 12.7.6
* using session charset: UTF-8
* using option ‘--no-vignettes’
* checking for file ‘LymphoSeq/DESCRIPTION’ ... OK
* this is package ‘LymphoSeq’ version ‘1.34.0’
* checking package namespace information ... OK
* checking package dependencies ...Warning: unable to access index for repository https://CRAN.R-project.org/src/contrib:
cannot open URL 'https://CRAN.R-project.org/src/contrib/PACKAGES'
OK
* checking if this is a source package ... OK
* checking if there is a namespace ... OK
* checking for hidden files and directories ... OK
* checking for portable file names ... OK
* checking for sufficient/correct file permissions ... OK
* checking whether package ‘LymphoSeq’ can be installed ... OK
* checking installed package size ... NOTE
installed size is 5.7Mb
sub-directories of 1Mb or more:
extdata 5.5Mb
* checking package directory ... OK
* checking ‘build’ directory ... OK
* checking DESCRIPTION meta-information ... OK
* checking top-level files ... OK
* checking for left-over files ... OK
* checking index information ... OK
* checking package subdirectories ... OK
* checking code files for non-ASCII characters ... OK
* checking R files for syntax errors ... OK
* checking whether the package can be loaded ... OK
* checking whether the package can be loaded with stated dependencies ... OK
* checking whether the package can be unloaded cleanly ... OK
* checking whether the namespace can be loaded with stated dependencies ... OK
* checking whether the namespace can be unloaded cleanly ... OK
* checking dependencies in R code ... OK
* checking S3 generic/method consistency ... OK
* checking replacement functions ... OK
* checking foreign function calls ... OK
* checking R code for possible problems ... OK
* checking Rd files ... OK
* checking Rd metadata ... OK
* checking Rd cross-references ... OK
* checking for missing documentation entries ... OK
* checking for code/documentation mismatches ... OK
* checking Rd \usage sections ... OK
* checking Rd contents ... OK
* checking for unstated dependencies in examples ... OK
* checking files in ‘vignettes’ ... OK
* checking examples ... OK
Examples with CPU (user + system) or elapsed time > 5s
user system elapsed
cloneTrack 16.891 0.789 17.712
productiveSeq 15.659 0.419 16.109
* checking for unstated dependencies in vignettes ... OK
* checking package vignettes ... OK
* checking running R code from vignettes ... SKIPPED
* checking re-building of vignette outputs ... SKIPPED
* checking PDF version of manual ... OK
* DONE
Status: 1 NOTE
See
‘/Users/biocbuild/bbs-3.20-bioc/meat/LymphoSeq.Rcheck/00check.log’
for details.
LymphoSeq.Rcheck/00install.out
############################################################################## ############################################################################## ### ### Running command: ### ### /Library/Frameworks/R.framework/Resources/bin/R CMD INSTALL LymphoSeq ### ############################################################################## ############################################################################## * installing to library ‘/Library/Frameworks/R.framework/Versions/4.4-x86_64/Resources/library’ * installing *source* package ‘LymphoSeq’ ... ** using staged installation ** R ** inst ** byte-compile and prepare package for lazy loading ** help *** installing help indices ** building package indices ** installing vignettes ** testing if installed package can be loaded from temporary location ** testing if installed package can be loaded from final location ** testing if installed package keeps a record of temporary installation path * DONE (LymphoSeq)
LymphoSeq.Rcheck/LymphoSeq-Ex.timings
| name | user | system | elapsed | |
| alignSeq | 0.931 | 0.025 | 0.974 | |
| bhattacharyyaCoefficient | 0.128 | 0.013 | 0.156 | |
| bhattacharyyaMatrix | 0.132 | 0.009 | 0.141 | |
| chordDiagramVDJ | 0.599 | 0.029 | 0.630 | |
| clonalRelatedness | 0.611 | 0.004 | 0.616 | |
| clonality | 0.043 | 0.004 | 0.047 | |
| cloneTrack | 16.891 | 0.789 | 17.712 | |
| commonSeqs | 0.114 | 0.013 | 0.129 | |
| commonSeqsBar | 1.203 | 0.100 | 1.305 | |
| commonSeqsPlot | 0.256 | 0.006 | 0.263 | |
| commonSeqsVenn | 0.438 | 0.020 | 0.467 | |
| differentialAbundance | 1.348 | 0.042 | 1.391 | |
| exportFasta | 0.173 | 0.016 | 0.190 | |
| geneFreq | 1.334 | 0.089 | 1.427 | |
| lorenzCurve | 0.635 | 0.013 | 0.650 | |
| mergeFiles | 0.054 | 0.003 | 0.057 | |
| pairwisePlot | 0.480 | 0.008 | 0.490 | |
| phyloTree | 1.869 | 0.015 | 1.888 | |
| productive | 0.045 | 0.003 | 0.049 | |
| productiveSeq | 15.659 | 0.419 | 16.109 | |
| readImmunoSeq | 0.032 | 0.002 | 0.034 | |
| removeSeq | 0.038 | 0.002 | 0.042 | |
| searchPublished | 0.118 | 0.004 | 0.123 | |
| searchSeq | 0.345 | 0.005 | 0.351 | |
| seqMatrix | 1.845 | 0.045 | 1.893 | |
| similarityMatrix | 0.122 | 0.005 | 0.152 | |
| similarityScore | 0.116 | 0.005 | 0.121 | |
| topFreq | 1.709 | 0.035 | 1.747 | |
| topSeqs | 0.120 | 0.004 | 0.124 | |
| topSeqsPlot | 0.319 | 0.006 | 0.328 | |
| uniqueSeqs | 0.153 | 0.004 | 0.157 | |