Back to Multiple platform build/check report for BioC 3.20:   simplified   long
ABCDEFGHIJK[L]MNOPQRSTUVWXYZ

This page was generated on 2025-02-06 12:05 -0500 (Thu, 06 Feb 2025).

HostnameOSArch (*)R versionInstalled pkgs
nebbiolo2Linux (Ubuntu 24.04.1 LTS)x86_644.4.2 (2024-10-31) -- "Pile of Leaves" 4753
palomino8Windows Server 2022 Datacenterx644.4.2 (2024-10-31 ucrt) -- "Pile of Leaves" 4501
merida1macOS 12.7.5 Montereyx86_644.4.2 (2024-10-31) -- "Pile of Leaves" 4524
kjohnson1macOS 13.6.6 Venturaarm644.4.2 (2024-10-31) -- "Pile of Leaves" 4476
taishanLinux (openEuler 24.03 LTS)aarch644.4.2 (2024-10-31) -- "Pile of Leaves" 4407
Click on any hostname to see more info about the system (e.g. compilers)      (*) as reported by 'uname -p', except on Windows and Mac OS X

Package 1126/2289HostnameOS / ArchINSTALLBUILDCHECKBUILD BIN
LymphoSeq 1.34.0  (landing page)
David Coffey
Snapshot Date: 2025-02-03 13:00 -0500 (Mon, 03 Feb 2025)
git_url: https://git.bioconductor.org/packages/LymphoSeq
git_branch: RELEASE_3_20
git_last_commit: d198017
git_last_commit_date: 2024-10-29 10:10:14 -0500 (Tue, 29 Oct 2024)
nebbiolo2Linux (Ubuntu 24.04.1 LTS) / x86_64  OK    OK    OK  UNNEEDED, same version is already published
palomino8Windows Server 2022 Datacenter / x64  OK    OK    OK    OK  UNNEEDED, same version is already published
merida1macOS 12.7.5 Monterey / x86_64  OK    OK    OK    OK  UNNEEDED, same version is already published
kjohnson1macOS 13.6.6 Ventura / arm64  OK    OK    OK    OK  UNNEEDED, same version is already published
taishanLinux (openEuler 24.03 LTS) / aarch64  OK    OK    OK  


CHECK results for LymphoSeq on nebbiolo2

To the developers/maintainers of the LymphoSeq package:
- Allow up to 24 hours (and sometimes 48 hours) for your latest push to git@git.bioconductor.org:packages/LymphoSeq.git to reflect on this report. See Troubleshooting Build Report for more information.
- Use the following Renviron settings to reproduce errors and warnings.
- If 'R CMD check' started to fail recently on the Linux builder(s) over a missing dependency, add the missing dependency to 'Suggests:' in your DESCRIPTION file. See Renviron.bioc for more information.

raw results


Summary

Package: LymphoSeq
Version: 1.34.0
Command: /home/biocbuild/bbs-3.20-bioc/R/bin/R CMD check --install=check:LymphoSeq.install-out.txt --library=/home/biocbuild/bbs-3.20-bioc/R/site-library --timings LymphoSeq_1.34.0.tar.gz
StartedAt: 2025-02-03 23:42:02 -0500 (Mon, 03 Feb 2025)
EndedAt: 2025-02-03 23:45:49 -0500 (Mon, 03 Feb 2025)
EllapsedTime: 226.4 seconds
RetCode: 0
Status:   OK  
CheckDir: LymphoSeq.Rcheck
Warnings: 0

Command output

##############################################################################
##############################################################################
###
### Running command:
###
###   /home/biocbuild/bbs-3.20-bioc/R/bin/R CMD check --install=check:LymphoSeq.install-out.txt --library=/home/biocbuild/bbs-3.20-bioc/R/site-library --timings LymphoSeq_1.34.0.tar.gz
###
##############################################################################
##############################################################################


* using log directory ‘/home/biocbuild/bbs-3.20-bioc/meat/LymphoSeq.Rcheck’
* using R version 4.4.2 (2024-10-31)
* using platform: x86_64-pc-linux-gnu
* R was compiled by
    gcc (Ubuntu 13.2.0-23ubuntu4) 13.2.0
    GNU Fortran (Ubuntu 13.2.0-23ubuntu4) 13.2.0
* running under: Ubuntu 24.04.1 LTS
* using session charset: UTF-8
* checking for file ‘LymphoSeq/DESCRIPTION’ ... OK
* this is package ‘LymphoSeq’ version ‘1.34.0’
* checking package namespace information ... OK
* checking package dependencies ... OK
* checking if this is a source package ... OK
* checking if there is a namespace ... OK
* checking for hidden files and directories ... OK
* checking for portable file names ... OK
* checking for sufficient/correct file permissions ... OK
* checking whether package ‘LymphoSeq’ can be installed ... OK
* checking installed package size ... NOTE
  installed size is  5.7Mb
  sub-directories of 1Mb or more:
    extdata   5.5Mb
* checking package directory ... OK
* checking ‘build’ directory ... OK
* checking DESCRIPTION meta-information ... OK
* checking top-level files ... OK
* checking for left-over files ... OK
* checking index information ... OK
* checking package subdirectories ... OK
* checking code files for non-ASCII characters ... OK
* checking R files for syntax errors ... OK
* checking whether the package can be loaded ... OK
* checking whether the package can be loaded with stated dependencies ... OK
* checking whether the package can be unloaded cleanly ... OK
* checking whether the namespace can be loaded with stated dependencies ... OK
* checking whether the namespace can be unloaded cleanly ... OK
* checking loading without being on the library search path ... OK
* checking dependencies in R code ... OK
* checking S3 generic/method consistency ... OK
* checking replacement functions ... OK
* checking foreign function calls ... OK
* checking R code for possible problems ... OK
* checking Rd files ... OK
* checking Rd metadata ... OK
* checking Rd cross-references ... OK
* checking for missing documentation entries ... OK
* checking for code/documentation mismatches ... OK
* checking Rd \usage sections ... OK
* checking Rd contents ... OK
* checking for unstated dependencies in examples ... OK
* checking files in ‘vignettes’ ... OK
* checking examples ... OK
Examples with CPU (user + system) or elapsed time > 5s
                user system elapsed
cloneTrack    22.346  1.759  24.148
productiveSeq 18.548  1.318  19.867
* checking for unstated dependencies in vignettes ... OK
* checking package vignettes ... OK
* checking re-building of vignette outputs ... OK
* checking PDF version of manual ... OK
* DONE

Status: 1 NOTE
See
  ‘/home/biocbuild/bbs-3.20-bioc/meat/LymphoSeq.Rcheck/00check.log’
for details.


Installation output

LymphoSeq.Rcheck/00install.out

##############################################################################
##############################################################################
###
### Running command:
###
###   /home/biocbuild/bbs-3.20-bioc/R/bin/R CMD INSTALL LymphoSeq
###
##############################################################################
##############################################################################


* installing to library ‘/home/biocbuild/bbs-3.20-bioc/R/site-library’
* installing *source* package ‘LymphoSeq’ ...
** using staged installation
** R
** inst
** byte-compile and prepare package for lazy loading
** help
*** installing help indices
** building package indices
** installing vignettes
** testing if installed package can be loaded from temporary location
** testing if installed package can be loaded from final location
** testing if installed package keeps a record of temporary installation path
* DONE (LymphoSeq)

Tests output


Example timings

LymphoSeq.Rcheck/LymphoSeq-Ex.timings

nameusersystemelapsed
alignSeq0.6510.0350.696
bhattacharyyaCoefficient0.1530.0050.166
bhattacharyyaMatrix0.1610.0040.165
chordDiagramVDJ0.7270.0460.773
clonalRelatedness0.7180.0000.380
clonality0.0520.0000.051
cloneTrack22.346 1.75924.148
commonSeqs0.1500.0200.169
commonSeqsBar1.4490.1891.637
commonSeqsPlot0.3410.0000.342
commonSeqsVenn0.7070.0250.726
differentialAbundance1.7150.0991.814
exportFasta0.1990.0290.228
geneFreq1.660.141.80
lorenzCurve0.8370.0640.901
mergeFiles0.0680.0030.071
pairwisePlot0.6140.0130.627
phyloTree3.6110.0293.641
productive0.0580.0000.058
productiveSeq18.548 1.31819.867
readImmunoSeq0.0440.0000.044
removeSeq0.0500.0020.052
searchPublished0.1510.0030.153
searchSeq0.7470.0060.752
seqMatrix2.3990.1352.534
similarityMatrix0.1570.0030.160
similarityScore0.1480.0000.148
topFreq3.2550.2223.476
topSeqs0.1440.0020.145
topSeqsPlot0.3630.0020.365
uniqueSeqs0.1810.0020.183