Back to Multiple platform build/check report for BioC 3.20: simplified long |
|
This page was generated on 2025-01-30 12:11 -0500 (Thu, 30 Jan 2025).
Hostname | OS | Arch (*) | R version | Installed pkgs |
---|---|---|---|---|
nebbiolo2 | Linux (Ubuntu 24.04.1 LTS) | x86_64 | 4.4.2 (2024-10-31) -- "Pile of Leaves" | 4746 |
palomino8 | Windows Server 2022 Datacenter | x64 | 4.4.2 (2024-10-31 ucrt) -- "Pile of Leaves" | 4494 |
merida1 | macOS 12.7.5 Monterey | x86_64 | 4.4.2 (2024-10-31) -- "Pile of Leaves" | 4517 |
kjohnson1 | macOS 13.6.6 Ventura | arm64 | 4.4.2 (2024-10-31) -- "Pile of Leaves" | 4469 |
taishan | Linux (openEuler 24.03 LTS) | aarch64 | 4.4.2 (2024-10-31) -- "Pile of Leaves" | 4400 |
Click on any hostname to see more info about the system (e.g. compilers) (*) as reported by 'uname -p', except on Windows and Mac OS X |
Package 1043/2289 | Hostname | OS / Arch | INSTALL | BUILD | CHECK | BUILD BIN | ||||||||
IntEREst 1.30.0 (landing page) Ali Oghabian
| nebbiolo2 | Linux (Ubuntu 24.04.1 LTS) / x86_64 | OK | OK | OK | |||||||||
palomino8 | Windows Server 2022 Datacenter / x64 | OK | OK | OK | OK | |||||||||
merida1 | macOS 12.7.5 Monterey / x86_64 | OK | OK | OK | OK | |||||||||
kjohnson1 | macOS 13.6.6 Ventura / arm64 | OK | OK | OK | OK | |||||||||
taishan | Linux (openEuler 24.03 LTS) / aarch64 | OK | OK | OK | ||||||||||
To the developers/maintainers of the IntEREst package: - Allow up to 24 hours (and sometimes 48 hours) for your latest push to git@git.bioconductor.org:packages/IntEREst.git to reflect on this report. See Troubleshooting Build Report for more information. - Use the following Renviron settings to reproduce errors and warnings. - If 'R CMD check' started to fail recently on the Linux builder(s) over a missing dependency, add the missing dependency to 'Suggests:' in your DESCRIPTION file. See Renviron.bioc for more information. - See Martin Grigorov's blog post for how to debug Linux ARM64 related issues on a x86_64 host. |
Package: IntEREst |
Version: 1.30.0 |
Command: /home/biocbuild/R/R/bin/R CMD check --install=check:IntEREst.install-out.txt --library=/home/biocbuild/R/R/site-library --no-vignettes --timings IntEREst_1.30.0.tar.gz |
StartedAt: 2025-01-28 08:12:53 -0000 (Tue, 28 Jan 2025) |
EndedAt: 2025-01-28 08:20:08 -0000 (Tue, 28 Jan 2025) |
EllapsedTime: 434.4 seconds |
RetCode: 0 |
Status: OK |
CheckDir: IntEREst.Rcheck |
Warnings: 0 |
############################################################################## ############################################################################## ### ### Running command: ### ### /home/biocbuild/R/R/bin/R CMD check --install=check:IntEREst.install-out.txt --library=/home/biocbuild/R/R/site-library --no-vignettes --timings IntEREst_1.30.0.tar.gz ### ############################################################################## ############################################################################## * using log directory ‘/home/biocbuild/bbs-3.20-bioc/meat/IntEREst.Rcheck’ * using R version 4.4.2 (2024-10-31) * using platform: aarch64-unknown-linux-gnu * R was compiled by aarch64-unknown-linux-gnu-gcc (GCC) 14.2.0 GNU Fortran (GCC) 12.3.1 (openEuler 12.3.1-36.oe2403) * running under: openEuler 24.03 (LTS) * using session charset: UTF-8 * using option ‘--no-vignettes’ * checking for file ‘IntEREst/DESCRIPTION’ ... OK * this is package ‘IntEREst’ version ‘1.30.0’ * checking package namespace information ... OK * checking package dependencies ... NOTE Depends: includes the non-default packages: 'GenomicRanges', 'Rsamtools', 'SummarizedExperiment', 'edgeR', 'S4Vectors', 'GenomicFiles' Adding so many packages to the search path is excessive and importing selectively is preferable. * checking if this is a source package ... OK * checking if there is a namespace ... OK * checking for hidden files and directories ... OK * checking for portable file names ... OK * checking for sufficient/correct file permissions ... OK * checking whether package ‘IntEREst’ can be installed ... OK * checking installed package size ... OK * checking package directory ... OK * checking ‘build’ directory ... OK * checking DESCRIPTION meta-information ... OK * checking top-level files ... OK * checking for left-over files ... OK * checking index information ... OK * checking package subdirectories ... OK * checking code files for non-ASCII characters ... OK * checking R files for syntax errors ... OK * checking whether the package can be loaded ... OK * checking whether the package can be loaded with stated dependencies ... OK * checking whether the package can be unloaded cleanly ... OK * checking whether the namespace can be loaded with stated dependencies ... OK * checking whether the namespace can be unloaded cleanly ... OK * checking loading without being on the library search path ... OK * checking dependencies in R code ... OK * checking S3 generic/method consistency ... OK * checking replacement functions ... OK * checking foreign function calls ... OK * checking R code for possible problems ... NOTE interestIntExAnalyseSingleStranded: no visible global function definition for ‘bamFlagAsBitMatrix’ Undefined global functions or variables: bamFlagAsBitMatrix * checking Rd files ... NOTE checkRd: (-1) interest.Rd:105: Lost braces; missing escapes or markup? 105 | regions to a different region defined in {limitRanges}. It is useful to ignore | ^ checkRd: (-1) interest.sequential.Rd:103: Lost braces; missing escapes or markup? 103 | regions to a different region defined in {limitRanges}. It is useful to ignore | ^ * checking Rd metadata ... OK * checking Rd cross-references ... OK * checking for missing documentation entries ... OK * checking for code/documentation mismatches ... OK * checking Rd \usage sections ... OK * checking Rd contents ... OK * checking for unstated dependencies in examples ... OK * checking contents of ‘data’ directory ... OK * checking data for non-ASCII characters ... OK * checking LazyData ... OK * checking data for ASCII and uncompressed saves ... OK * checking files in ‘vignettes’ ... OK * checking examples ... OK Examples with CPU (user + system) or elapsed time > 5s user system elapsed DEXSeqIntEREst 22.303 0.893 23.271 deseqInterest 5.408 0.147 5.574 * checking for unstated dependencies in vignettes ... OK * checking package vignettes ... OK * checking running R code from vignettes ... SKIPPED * checking re-building of vignette outputs ... SKIPPED * checking PDF version of manual ... OK * DONE Status: 3 NOTEs See ‘/home/biocbuild/bbs-3.20-bioc/meat/IntEREst.Rcheck/00check.log’ for details.
IntEREst.Rcheck/00install.out
############################################################################## ############################################################################## ### ### Running command: ### ### /home/biocbuild/R/R/bin/R CMD INSTALL IntEREst ### ############################################################################## ############################################################################## * installing to library ‘/home/biocbuild/R/R-4.4.2/site-library’ * installing *source* package ‘IntEREst’ ... ** using staged installation ** R ** data *** moving datasets to lazyload DB ** inst ** byte-compile and prepare package for lazy loading ** help *** installing help indices ** building package indices ** installing vignettes ** testing if installed package can be loaded from temporary location ** testing if installed package can be loaded from final location ** testing if installed package keeps a record of temporary installation path * DONE (IntEREst)
IntEREst.Rcheck/IntEREst-Ex.timings
name | user | system | elapsed | |
DEXSeqIntEREst | 22.303 | 0.893 | 23.271 | |
addAnnotation | 0.044 | 0.000 | 0.043 | |
annotateU12 | 2.644 | 0.095 | 2.750 | |
applyOverlap | 0.207 | 0.032 | 0.240 | |
attributes | 0.024 | 0.004 | 0.029 | |
boxplot-method | 0.061 | 0.004 | 0.065 | |
buildSsTypePwms | 0 | 0 | 0 | |
counts-method | 0.031 | 0.004 | 0.035 | |
deseqInterest | 5.408 | 0.147 | 5.574 | |
exactTestInterest | 0.111 | 0.000 | 0.111 | |
getRepeatTable | 0 | 0 | 0 | |
glmInterest | 0.131 | 0.000 | 0.131 | |
interest | 1.873 | 0.045 | 1.927 | |
interest.sequential | 1.582 | 0.003 | 1.596 | |
interestResult | 0.018 | 0.005 | 0.022 | |
interestResultIntEx | 0.217 | 0.000 | 0.218 | |
intexIndex | 0.003 | 0.000 | 0.003 | |
lfc | 0.271 | 0.000 | 0.272 | |
mergeInterestResult | 0.084 | 0.000 | 0.085 | |
plot-method | 0.406 | 0.000 | 0.407 | |
psi | 0.974 | 0.027 | 1.006 | |
qlfInterest | 0.166 | 0.004 | 0.170 | |
readInterestResults | 0.037 | 0.000 | 0.037 | |
referencePrepare | 1.322 | 0.024 | 1.350 | |
subInterestResult | 0.039 | 0.000 | 0.038 | |
treatInterest | 0.129 | 0.000 | 0.130 | |
u12Boxplot | 0.068 | 0.000 | 0.069 | |
u12BoxplotNb | 0.084 | 0.000 | 0.084 | |
u12DensityPlot | 0.318 | 0.008 | 0.327 | |
u12Index | 0.005 | 0.000 | 0.005 | |
u12NbIndex | 0.056 | 0.000 | 0.056 | |
unionRefTr | 0.017 | 0.000 | 0.016 | |
updateRowDataCol | 0.054 | 0.000 | 0.055 | |