Back to Multiple platform build/check report for BioC 3.20:   simplified   long
ABCDEFGH[I]JKLMNOPQRSTUVWXYZ

This page was generated on 2025-02-06 12:10 -0500 (Thu, 06 Feb 2025).

HostnameOSArch (*)R versionInstalled pkgs
nebbiolo2Linux (Ubuntu 24.04.1 LTS)x86_644.4.2 (2024-10-31) -- "Pile of Leaves" 4753
palomino8Windows Server 2022 Datacenterx644.4.2 (2024-10-31 ucrt) -- "Pile of Leaves" 4501
merida1macOS 12.7.5 Montereyx86_644.4.2 (2024-10-31) -- "Pile of Leaves" 4524
kjohnson1macOS 13.6.6 Venturaarm644.4.2 (2024-10-31) -- "Pile of Leaves" 4476
taishanLinux (openEuler 24.03 LTS)aarch644.4.2 (2024-10-31) -- "Pile of Leaves" 4407
Click on any hostname to see more info about the system (e.g. compilers)      (*) as reported by 'uname -p', except on Windows and Mac OS X

Package 1043/2289HostnameOS / ArchINSTALLBUILDCHECKBUILD BIN
IntEREst 1.30.0  (landing page)
Ali Oghabian
Snapshot Date: 2025-02-03 13:00 -0500 (Mon, 03 Feb 2025)
git_url: https://git.bioconductor.org/packages/IntEREst
git_branch: RELEASE_3_20
git_last_commit: 806b1f1
git_last_commit_date: 2024-10-29 10:17:53 -0500 (Tue, 29 Oct 2024)
nebbiolo2Linux (Ubuntu 24.04.1 LTS) / x86_64  OK    OK    OK  UNNEEDED, same version is already published
palomino8Windows Server 2022 Datacenter / x64  OK    OK    OK    OK  UNNEEDED, same version is already published
merida1macOS 12.7.5 Monterey / x86_64  OK    OK    OK    OK  UNNEEDED, same version is already published
kjohnson1macOS 13.6.6 Ventura / arm64  OK    OK    OK    OK  UNNEEDED, same version is already published
taishanLinux (openEuler 24.03 LTS) / aarch64  OK    OK    OK  


CHECK results for IntEREst on kjohnson1

To the developers/maintainers of the IntEREst package:
- Allow up to 24 hours (and sometimes 48 hours) for your latest push to git@git.bioconductor.org:packages/IntEREst.git to reflect on this report. See Troubleshooting Build Report for more information.
- Use the following Renviron settings to reproduce errors and warnings.
- If 'R CMD check' started to fail recently on the Linux builder(s) over a missing dependency, add the missing dependency to 'Suggests:' in your DESCRIPTION file. See Renviron.bioc for more information.

raw results


Summary

Package: IntEREst
Version: 1.30.0
Command: /Library/Frameworks/R.framework/Resources/bin/R CMD check --install=check:IntEREst.install-out.txt --library=/Library/Frameworks/R.framework/Resources/library --no-vignettes --timings IntEREst_1.30.0.tar.gz
StartedAt: 2025-02-04 23:16:48 -0500 (Tue, 04 Feb 2025)
EndedAt: 2025-02-04 23:23:55 -0500 (Tue, 04 Feb 2025)
EllapsedTime: 427.1 seconds
RetCode: 0
Status:   OK  
CheckDir: IntEREst.Rcheck
Warnings: 0

Command output

##############################################################################
##############################################################################
###
### Running command:
###
###   /Library/Frameworks/R.framework/Resources/bin/R CMD check --install=check:IntEREst.install-out.txt --library=/Library/Frameworks/R.framework/Resources/library --no-vignettes --timings IntEREst_1.30.0.tar.gz
###
##############################################################################
##############################################################################


* using log directory ‘/Users/biocbuild/bbs-3.20-bioc/meat/IntEREst.Rcheck’
* using R version 4.4.2 (2024-10-31)
* using platform: aarch64-apple-darwin20
* R was compiled by
    Apple clang version 14.0.0 (clang-1400.0.29.202)
    GNU Fortran (GCC) 12.2.0
* running under: macOS Ventura 13.7.1
* using session charset: UTF-8
* using option ‘--no-vignettes’
* checking for file ‘IntEREst/DESCRIPTION’ ... OK
* this is package ‘IntEREst’ version ‘1.30.0’
* checking package namespace information ... OK
* checking package dependencies ... NOTE
Depends: includes the non-default packages:
  'GenomicRanges', 'Rsamtools', 'SummarizedExperiment', 'edgeR',
  'S4Vectors', 'GenomicFiles'
Adding so many packages to the search path is excessive and importing
selectively is preferable.
* checking if this is a source package ... OK
* checking if there is a namespace ... OK
* checking for hidden files and directories ... OK
* checking for portable file names ... OK
* checking for sufficient/correct file permissions ... OK
* checking whether package ‘IntEREst’ can be installed ... OK
* checking installed package size ... OK
* checking package directory ... OK
* checking ‘build’ directory ... OK
* checking DESCRIPTION meta-information ... OK
* checking top-level files ... OK
* checking for left-over files ... OK
* checking index information ... OK
* checking package subdirectories ... OK
* checking code files for non-ASCII characters ... OK
* checking R files for syntax errors ... OK
* checking whether the package can be loaded ... OK
* checking whether the package can be loaded with stated dependencies ... OK
* checking whether the package can be unloaded cleanly ... OK
* checking whether the namespace can be loaded with stated dependencies ... OK
* checking whether the namespace can be unloaded cleanly ... OK
* checking dependencies in R code ... OK
* checking S3 generic/method consistency ... OK
* checking replacement functions ... OK
* checking foreign function calls ... OK
* checking R code for possible problems ... NOTE
interestIntExAnalyseSingleStranded: no visible global function
  definition for ‘bamFlagAsBitMatrix’
Undefined global functions or variables:
  bamFlagAsBitMatrix
* checking Rd files ... NOTE
checkRd: (-1) interest.Rd:105: Lost braces; missing escapes or markup?
   105 | regions to a different region defined in {limitRanges}. It is useful to ignore 
       |                                          ^
checkRd: (-1) interest.sequential.Rd:103: Lost braces; missing escapes or markup?
   103 | regions to a different region defined in {limitRanges}. It is useful to ignore 
       |                                          ^
* checking Rd metadata ... OK
* checking Rd cross-references ... OK
* checking for missing documentation entries ... OK
* checking for code/documentation mismatches ... OK
* checking Rd \usage sections ... OK
* checking Rd contents ... OK
* checking for unstated dependencies in examples ... OK
* checking contents of ‘data’ directory ... OK
* checking data for non-ASCII characters ... OK
* checking LazyData ... OK
* checking data for ASCII and uncompressed saves ... OK
* checking files in ‘vignettes’ ... OK
* checking examples ... OK
Examples with CPU (user + system) or elapsed time > 5s
                 user system elapsed
DEXSeqIntEREst 26.289  0.263  26.575
* checking for unstated dependencies in vignettes ... OK
* checking package vignettes ... OK
* checking running R code from vignettes ... SKIPPED
* checking re-building of vignette outputs ... SKIPPED
* checking PDF version of manual ... OK
* DONE

Status: 3 NOTEs
See
  ‘/Users/biocbuild/bbs-3.20-bioc/meat/IntEREst.Rcheck/00check.log’
for details.


Installation output

IntEREst.Rcheck/00install.out

##############################################################################
##############################################################################
###
### Running command:
###
###   /Library/Frameworks/R.framework/Resources/bin/R CMD INSTALL IntEREst
###
##############################################################################
##############################################################################


* installing to library ‘/Library/Frameworks/R.framework/Versions/4.4-arm64/Resources/library’
* installing *source* package ‘IntEREst’ ...
** using staged installation
** R
** data
*** moving datasets to lazyload DB
** inst
** byte-compile and prepare package for lazy loading
** help
*** installing help indices
** building package indices
** installing vignettes
** testing if installed package can be loaded from temporary location
** testing if installed package can be loaded from final location
** testing if installed package keeps a record of temporary installation path
* DONE (IntEREst)

Tests output


Example timings

IntEREst.Rcheck/IntEREst-Ex.timings

nameusersystemelapsed
DEXSeqIntEREst26.289 0.26326.575
addAnnotation0.0360.0020.042
annotateU122.0720.1102.191
applyOverlap0.1800.0020.184
attributes0.0250.0020.028
boxplot-method0.0480.0010.049
buildSsTypePwms0.0000.0010.000
counts-method0.0260.0020.027
deseqInterest4.1310.0164.151
exactTestInterest0.0810.0020.082
getRepeatTable0.0010.0010.000
glmInterest0.1040.0030.107
interest1.3680.0201.397
interest.sequential1.0880.0111.099
interestResult0.0160.0010.018
interestResultIntEx0.1650.0010.166
intexIndex0.0030.0000.003
lfc0.2240.0080.232
mergeInterestResult0.0560.0010.058
plot-method0.2900.0070.297
psi0.6690.0070.675
qlfInterest0.1420.0040.146
readInterestResults0.0270.0020.029
referencePrepare1.0940.0151.112
subInterestResult0.0310.0010.032
treatInterest0.1020.0050.108
u12Boxplot0.0560.0020.057
u12BoxplotNb0.0760.0010.076
u12DensityPlot0.2850.0110.296
u12Index0.0050.0000.005
u12NbIndex0.0430.0010.045
unionRefTr0.0150.0010.015
updateRowDataCol0.0540.0020.055