Back to Multiple platform build/check report for BioC 3.20: simplified long |
|
This page was generated on 2025-01-30 12:11 -0500 (Thu, 30 Jan 2025).
Hostname | OS | Arch (*) | R version | Installed pkgs |
---|---|---|---|---|
nebbiolo2 | Linux (Ubuntu 24.04.1 LTS) | x86_64 | 4.4.2 (2024-10-31) -- "Pile of Leaves" | 4746 |
palomino8 | Windows Server 2022 Datacenter | x64 | 4.4.2 (2024-10-31 ucrt) -- "Pile of Leaves" | 4494 |
merida1 | macOS 12.7.5 Monterey | x86_64 | 4.4.2 (2024-10-31) -- "Pile of Leaves" | 4517 |
kjohnson1 | macOS 13.6.6 Ventura | arm64 | 4.4.2 (2024-10-31) -- "Pile of Leaves" | 4469 |
taishan | Linux (openEuler 24.03 LTS) | aarch64 | 4.4.2 (2024-10-31) -- "Pile of Leaves" | 4400 |
Click on any hostname to see more info about the system (e.g. compilers) (*) as reported by 'uname -p', except on Windows and Mac OS X |
Package 1051/2289 | Hostname | OS / Arch | INSTALL | BUILD | CHECK | BUILD BIN | ||||||||
ISAnalytics 1.16.1 (landing page) Francesco Gazzo
| nebbiolo2 | Linux (Ubuntu 24.04.1 LTS) / x86_64 | OK | OK | OK | |||||||||
palomino8 | Windows Server 2022 Datacenter / x64 | OK | OK | OK | OK | |||||||||
merida1 | macOS 12.7.5 Monterey / x86_64 | OK | OK | OK | OK | |||||||||
kjohnson1 | macOS 13.6.6 Ventura / arm64 | OK | OK | OK | OK | |||||||||
taishan | Linux (openEuler 24.03 LTS) / aarch64 | OK | OK | OK | ||||||||||
To the developers/maintainers of the ISAnalytics package: - Allow up to 24 hours (and sometimes 48 hours) for your latest push to git@git.bioconductor.org:packages/ISAnalytics.git to reflect on this report. See Troubleshooting Build Report for more information. - Use the following Renviron settings to reproduce errors and warnings. - If 'R CMD check' started to fail recently on the Linux builder(s) over a missing dependency, add the missing dependency to 'Suggests:' in your DESCRIPTION file. See Renviron.bioc for more information. - See Martin Grigorov's blog post for how to debug Linux ARM64 related issues on a x86_64 host. |
Package: ISAnalytics |
Version: 1.16.1 |
Command: /home/biocbuild/R/R/bin/R CMD check --install=check:ISAnalytics.install-out.txt --library=/home/biocbuild/R/R/site-library --no-vignettes --timings ISAnalytics_1.16.1.tar.gz |
StartedAt: 2025-01-28 08:14:57 -0000 (Tue, 28 Jan 2025) |
EndedAt: 2025-01-28 08:24:09 -0000 (Tue, 28 Jan 2025) |
EllapsedTime: 551.6 seconds |
RetCode: 0 |
Status: OK |
CheckDir: ISAnalytics.Rcheck |
Warnings: 0 |
############################################################################## ############################################################################## ### ### Running command: ### ### /home/biocbuild/R/R/bin/R CMD check --install=check:ISAnalytics.install-out.txt --library=/home/biocbuild/R/R/site-library --no-vignettes --timings ISAnalytics_1.16.1.tar.gz ### ############################################################################## ############################################################################## * using log directory ‘/home/biocbuild/bbs-3.20-bioc/meat/ISAnalytics.Rcheck’ * using R version 4.4.2 (2024-10-31) * using platform: aarch64-unknown-linux-gnu * R was compiled by aarch64-unknown-linux-gnu-gcc (GCC) 14.2.0 GNU Fortran (GCC) 12.3.1 (openEuler 12.3.1-36.oe2403) * running under: openEuler 24.03 (LTS) * using session charset: UTF-8 * using option ‘--no-vignettes’ * checking for file ‘ISAnalytics/DESCRIPTION’ ... OK * this is package ‘ISAnalytics’ version ‘1.16.1’ * package encoding: UTF-8 * checking package namespace information ... OK * checking package dependencies ... OK * checking if this is a source package ... OK * checking if there is a namespace ... OK * checking for hidden files and directories ... OK * checking for portable file names ... OK * checking for sufficient/correct file permissions ... OK * checking whether package ‘ISAnalytics’ can be installed ... OK * checking installed package size ... OK * checking package directory ... OK * checking ‘build’ directory ... OK * checking DESCRIPTION meta-information ... OK * checking top-level files ... OK * checking for left-over files ... OK * checking index information ... OK * checking package subdirectories ... OK * checking code files for non-ASCII characters ... OK * checking R files for syntax errors ... OK * checking whether the package can be loaded ... OK * checking whether the package can be loaded with stated dependencies ... OK * checking whether the package can be unloaded cleanly ... OK * checking whether the namespace can be loaded with stated dependencies ... OK * checking whether the namespace can be unloaded cleanly ... OK * checking loading without being on the library search path ... OK * checking whether startup messages can be suppressed ... OK * checking dependencies in R code ... OK * checking S3 generic/method consistency ... OK * checking replacement functions ... OK * checking foreign function calls ... OK * checking R code for possible problems ... OK * checking Rd files ... NOTE checkRd: (-1) refGenes_hg19.Rd:21: Lost braces; missing escapes or markup? 21 | \item Download from {http://hgdownload.soe.ucsc.edu/goldenPath/hg19/database/} | ^ * checking Rd metadata ... OK * checking Rd cross-references ... OK * checking for missing documentation entries ... OK * checking for code/documentation mismatches ... OK * checking Rd \usage sections ... OK * checking Rd contents ... OK * checking for unstated dependencies in examples ... OK * checking contents of ‘data’ directory ... OK * checking data for non-ASCII characters ... OK * checking data for ASCII and uncompressed saves ... OK * checking files in ‘vignettes’ ... OK * checking examples ... OK Examples with CPU (user + system) or elapsed time > 5s user system elapsed integration_alluvial_plot 3.989 0.040 10.620 sharing_venn 3.075 0.264 41.458 import_parallel_Vispa2Matrices 1.930 0.173 14.129 sharing_heatmap 1.524 0.181 10.880 CIS_grubbs_overtime 1.584 0.088 7.865 top_cis_overtime_heatmap 1.404 0.128 7.900 import_Vispa2_stats 1.385 0.137 6.825 remove_collisions 0.793 0.379 6.571 iss_source 0.901 0.064 7.282 HSC_population_plot 0.924 0.039 6.873 realign_after_collisions 0.756 0.083 6.390 is_sharing 0.778 0.018 8.626 compute_near_integrations 0.610 0.022 10.730 HSC_population_size_estimate 0.561 0.034 6.427 * checking for unstated dependencies in ‘tests’ ... OK * checking tests ... Running ‘testthat.R’ OK * checking for unstated dependencies in vignettes ... OK * checking package vignettes ... OK * checking running R code from vignettes ... SKIPPED * checking re-building of vignette outputs ... SKIPPED * checking PDF version of manual ... OK * DONE Status: 1 NOTE See ‘/home/biocbuild/bbs-3.20-bioc/meat/ISAnalytics.Rcheck/00check.log’ for details.
ISAnalytics.Rcheck/00install.out
############################################################################## ############################################################################## ### ### Running command: ### ### /home/biocbuild/R/R/bin/R CMD INSTALL ISAnalytics ### ############################################################################## ############################################################################## * installing to library ‘/home/biocbuild/R/R-4.4.2/site-library’ * installing *source* package ‘ISAnalytics’ ... ** using staged installation ** R ** data ** inst ** byte-compile and prepare package for lazy loading ** help *** installing help indices *** copying figures ** building package indices ** installing vignettes ** testing if installed package can be loaded from temporary location ** testing if installed package can be loaded from final location ** testing if installed package keeps a record of temporary installation path * DONE (ISAnalytics)
ISAnalytics.Rcheck/tests/testthat.Rout
R version 4.4.2 (2024-10-31) -- "Pile of Leaves" Copyright (C) 2024 The R Foundation for Statistical Computing Platform: aarch64-unknown-linux-gnu R is free software and comes with ABSOLUTELY NO WARRANTY. You are welcome to redistribute it under certain conditions. Type 'license()' or 'licence()' for distribution details. R is a collaborative project with many contributors. Type 'contributors()' for more information and 'citation()' on how to cite R or R packages in publications. Type 'demo()' for some demos, 'help()' for on-line help, or 'help.start()' for an HTML browser interface to help. Type 'q()' to quit R. > library(testthat) > library(ISAnalytics) > > test_check("ISAnalytics") Loading required namespace: plotly Loading required namespace: rmarkdown Report correctly saved i Report saved to: /home/biocbuild/tmp/RtmpNPnYN4/file2b65c7402fb2fa/2025-01-28_collision_removal_report.html Report correctly saved i Report saved to: /home/biocbuild/tmp/RtmpNPnYN4/file2b65c7c64f3a8/2025-01-28_outlier_test_pool_fragments_report.html [ FAIL 0 | WARN 1 | SKIP 0 | PASS 834 ] [ FAIL 0 | WARN 1 | SKIP 0 | PASS 834 ] > > proc.time() user system elapsed 115.756 7.061 305.868
ISAnalytics.Rcheck/ISAnalytics-Ex.timings
name | user | system | elapsed | |
CIS_grubbs | 1.289 | 0.068 | 1.361 | |
CIS_grubbs_overtime | 1.584 | 0.088 | 7.865 | |
CIS_volcano_plot | 1.707 | 0.112 | 1.824 | |
HSC_population_plot | 0.924 | 0.039 | 6.873 | |
HSC_population_size_estimate | 0.561 | 0.034 | 6.427 | |
NGSdataExplorer | 0 | 0 | 0 | |
aggregate_metadata | 0.152 | 0.004 | 0.156 | |
aggregate_values_by_key | 0.082 | 0.000 | 0.082 | |
annotation_issues | 0.036 | 0.000 | 0.036 | |
as_sparse_matrix | 0.07 | 0.00 | 0.07 | |
available_outlier_tests | 0 | 0 | 0 | |
available_tags | 0.03 | 0.00 | 0.03 | |
blood_lineages_default | 0.030 | 0.000 | 0.031 | |
circos_genomic_density | 0 | 0 | 0 | |
clinical_relevant_suspicious_genes | 0.025 | 0.020 | 0.045 | |
comparison_matrix | 0.035 | 0.004 | 0.040 | |
compute_abundance | 0.048 | 0.000 | 0.049 | |
compute_near_integrations | 0.610 | 0.022 | 10.730 | |
cumulative_count_union | 0 | 0 | 0 | |
cumulative_is | 0.215 | 0.000 | 0.216 | |
date_formats | 0 | 0 | 0 | |
default_af_transform | 0.001 | 0.000 | 0.001 | |
default_iss_file_prefixes | 0 | 0 | 0 | |
default_meta_agg | 0.021 | 0.000 | 0.021 | |
default_rec_agg_lambdas | 0.001 | 0.000 | 0.001 | |
default_report_path | 0.009 | 0.000 | 0.009 | |
default_stats | 1.287 | 0.075 | 1.365 | |
enable_progress_bars | 0.021 | 0.000 | 0.020 | |
export_ISA_settings | 0.103 | 0.000 | 0.103 | |
fisher_scatterplot | 1.753 | 0.080 | 1.837 | |
gene_frequency_fisher | 1.228 | 0.004 | 1.236 | |
generate_Vispa2_launch_AF | 0.274 | 0.010 | 0.284 | |
generate_blank_association_file | 0.014 | 0.004 | 0.018 | |
generate_default_folder_structure | 0.473 | 0.098 | 0.573 | |
import_ISA_settings | 0.080 | 0.004 | 0.084 | |
import_Vispa2_stats | 1.385 | 0.137 | 6.825 | |
import_association_file | 0.716 | 0.120 | 0.840 | |
import_parallel_Vispa2Matrices | 1.930 | 0.173 | 14.129 | |
import_single_Vispa2Matrix | 0.969 | 0.141 | 1.115 | |
inspect_tags | 0.017 | 0.000 | 0.018 | |
integration_alluvial_plot | 3.989 | 0.040 | 10.620 | |
is_sharing | 0.778 | 0.018 | 8.626 | |
iss_source | 0.901 | 0.064 | 7.282 | |
known_clinical_oncogenes | 0.014 | 0.000 | 0.014 | |
mandatory_IS_vars | 0.104 | 0.019 | 0.124 | |
matching_options | 0 | 0 | 0 | |
outlier_filter | 0.219 | 0.008 | 0.227 | |
outliers_by_pool_fragments | 0.202 | 0.008 | 0.210 | |
pcr_id_column | 0.026 | 0.000 | 0.025 | |
purity_filter | 0.470 | 0.024 | 0.496 | |
quantification_types | 0 | 0 | 0 | |
realign_after_collisions | 0.756 | 0.083 | 6.390 | |
reduced_AF_columns | 0.065 | 0.020 | 0.085 | |
refGene_table_cols | 0 | 0 | 0 | |
remove_collisions | 0.793 | 0.379 | 6.571 | |
reset_mandatory_IS_vars | 0.008 | 0.000 | 0.009 | |
sample_statistics | 0.489 | 0.024 | 0.514 | |
separate_quant_matrices | 0.018 | 0.004 | 0.022 | |
set_mandatory_IS_vars | 0.134 | 0.008 | 0.142 | |
set_matrix_file_suffixes | 0.027 | 0.000 | 0.027 | |
sharing_heatmap | 1.524 | 0.181 | 10.880 | |
sharing_venn | 3.075 | 0.264 | 41.458 | |
threshold_filter | 0 | 0 | 0 | |
top_abund_tableGrob | 0.933 | 0.052 | 0.988 | |
top_cis_overtime_heatmap | 1.404 | 0.128 | 7.900 | |
top_integrations | 0.035 | 0.000 | 0.035 | |
top_targeted_genes | 0.615 | 0.028 | 0.644 | |
transform_columns | 0.025 | 0.000 | 0.025 | |