| Back to Multiple platform build/check report for BioC 3.20: simplified long | 
 | 
This page was generated on 2025-04-02 19:32 -0400 (Wed, 02 Apr 2025).
| Hostname | OS | Arch (*) | R version | Installed pkgs | 
|---|---|---|---|---|
| nebbiolo2 | Linux (Ubuntu 24.04.1 LTS) | x86_64 | 4.4.3 (2025-02-28) -- "Trophy Case" | 4764 | 
| palomino8 | Windows Server 2022 Datacenter | x64 | 4.4.3 (2025-02-28 ucrt) -- "Trophy Case" | 4495 | 
| merida1 | macOS 12.7.5 Monterey | x86_64 | 4.4.3 (2025-02-28) -- "Trophy Case" | 4522 | 
| kjohnson1 | macOS 13.6.6 Ventura | arm64 | 4.4.3 (2025-02-28) -- "Trophy Case" | 4449 | 
| taishan | Linux (openEuler 24.03 LTS) | aarch64 | 4.4.3 (2025-02-28) -- "Trophy Case" | 4426 | 
| Click on any hostname to see more info about the system (e.g. compilers) (*) as reported by 'uname -p', except on Windows and Mac OS X | ||||
| Package 1051/2289 | Hostname | OS / Arch | INSTALL | BUILD | CHECK | BUILD BIN | ||||||||
| ISAnalytics 1.16.1  (landing page) Francesco Gazzo 
 | nebbiolo2 | Linux (Ubuntu 24.04.1 LTS) / x86_64 | OK | OK | OK |  | ||||||||
| palomino8 | Windows Server 2022 Datacenter / x64 | OK | OK | OK | OK |  | ||||||||
| merida1 | macOS 12.7.5 Monterey / x86_64 | OK | OK | OK | OK |  | ||||||||
| kjohnson1 | macOS 13.6.6 Ventura / arm64 | OK | OK | OK | OK |  | ||||||||
| taishan | Linux (openEuler 24.03 LTS) / aarch64 | OK | OK | OK | ||||||||||
| To the developers/maintainers of the ISAnalytics package: - Allow up to 24 hours (and sometimes 48 hours) for your latest push to git@git.bioconductor.org:packages/ISAnalytics.git to reflect on this report. See Troubleshooting Build Report for more information. - Use the following Renviron settings to reproduce errors and warnings. - If 'R CMD check' started to fail recently on the Linux builder(s) over a missing dependency, add the missing dependency to 'Suggests:' in your DESCRIPTION file. See Renviron.bioc for more information. | 
| Package: ISAnalytics | 
| Version: 1.16.1 | 
| Command: /Library/Frameworks/R.framework/Resources/bin/R CMD check --install=check:ISAnalytics.install-out.txt --library=/Library/Frameworks/R.framework/Resources/library --no-vignettes --timings ISAnalytics_1.16.1.tar.gz | 
| StartedAt: 2025-04-01 04:37:27 -0400 (Tue, 01 Apr 2025) | 
| EndedAt: 2025-04-01 04:53:48 -0400 (Tue, 01 Apr 2025) | 
| EllapsedTime: 980.8 seconds | 
| RetCode: 0 | 
| Status: OK | 
| CheckDir: ISAnalytics.Rcheck | 
| Warnings: 0 | 
##############################################################################
##############################################################################
###
### Running command:
###
###   /Library/Frameworks/R.framework/Resources/bin/R CMD check --install=check:ISAnalytics.install-out.txt --library=/Library/Frameworks/R.framework/Resources/library --no-vignettes --timings ISAnalytics_1.16.1.tar.gz
###
##############################################################################
##############################################################################
* using log directory ‘/Users/biocbuild/bbs-3.20-bioc/meat/ISAnalytics.Rcheck’
* using R version 4.4.3 (2025-02-28)
* using platform: x86_64-apple-darwin20
* R was compiled by
    Apple clang version 14.0.0 (clang-1400.0.29.202)
    GNU Fortran (GCC) 12.2.0
* running under: macOS Monterey 12.7.6
* using session charset: UTF-8
* using option ‘--no-vignettes’
* checking for file ‘ISAnalytics/DESCRIPTION’ ... OK
* this is package ‘ISAnalytics’ version ‘1.16.1’
* package encoding: UTF-8
* checking package namespace information ... OK
* checking package dependencies ... OK
* checking if this is a source package ... OK
* checking if there is a namespace ... OK
* checking for hidden files and directories ... OK
* checking for portable file names ... OK
* checking for sufficient/correct file permissions ... OK
* checking whether package ‘ISAnalytics’ can be installed ... OK
* checking installed package size ... OK
* checking package directory ... OK
* checking ‘build’ directory ... OK
* checking DESCRIPTION meta-information ... OK
* checking top-level files ... OK
* checking for left-over files ... OK
* checking index information ... OK
* checking package subdirectories ... OK
* checking code files for non-ASCII characters ... OK
* checking R files for syntax errors ... OK
* checking whether the package can be loaded ... OK
* checking whether the package can be loaded with stated dependencies ... OK
* checking whether the package can be unloaded cleanly ... OK
* checking whether the namespace can be loaded with stated dependencies ... OK
* checking whether the namespace can be unloaded cleanly ... OK
* checking whether startup messages can be suppressed ... OK
* checking dependencies in R code ... OK
* checking S3 generic/method consistency ... OK
* checking replacement functions ... OK
* checking foreign function calls ... OK
* checking R code for possible problems ... OK
* checking Rd files ... NOTE
checkRd: (-1) refGenes_hg19.Rd:21: Lost braces; missing escapes or markup?
    21 | \item Download from {http://hgdownload.soe.ucsc.edu/goldenPath/hg19/database/}
       |                     ^
* checking Rd metadata ... OK
* checking Rd cross-references ... OK
* checking for missing documentation entries ... OK
* checking for code/documentation mismatches ... OK
* checking Rd \usage sections ... OK
* checking Rd contents ... OK
* checking for unstated dependencies in examples ... OK
* checking contents of ‘data’ directory ... OK
* checking data for non-ASCII characters ... OK
* checking data for ASCII and uncompressed saves ... OK
* checking files in ‘vignettes’ ... OK
* checking examples ... OK
Examples with CPU (user + system) or elapsed time > 5s
                                user system elapsed
integration_alluvial_plot      6.658  0.097  19.185
sharing_venn                   5.166  0.253  75.013
import_parallel_Vispa2Matrices 2.933  0.221  25.231
CIS_grubbs_overtime            2.499  0.325  14.608
sharing_heatmap                2.318  0.056  19.363
import_Vispa2_stats            2.084  0.201  12.121
top_cis_overtime_heatmap       2.193  0.089  13.954
iss_source                     1.354  0.056  13.244
HSC_population_plot            1.334  0.031  12.209
is_sharing                     1.081  0.043  14.941
realign_after_collisions       1.053  0.036  10.482
remove_collisions              1.039  0.036  10.858
compute_near_integrations      0.880  0.030  18.599
HSC_population_size_estimate   0.862  0.027  11.044
* checking for unstated dependencies in ‘tests’ ... OK
* checking tests ...
  Running ‘testthat.R’
 OK
* checking for unstated dependencies in vignettes ... OK
* checking package vignettes ... OK
* checking running R code from vignettes ... SKIPPED
* checking re-building of vignette outputs ... SKIPPED
* checking PDF version of manual ... OK
* DONE
Status: 1 NOTE
See
  ‘/Users/biocbuild/bbs-3.20-bioc/meat/ISAnalytics.Rcheck/00check.log’
for details.
ISAnalytics.Rcheck/00install.out
############################################################################## ############################################################################## ### ### Running command: ### ### /Library/Frameworks/R.framework/Resources/bin/R CMD INSTALL ISAnalytics ### ############################################################################## ############################################################################## * installing to library ‘/Library/Frameworks/R.framework/Versions/4.4-x86_64/Resources/library’ * installing *source* package ‘ISAnalytics’ ... ** using staged installation ** R ** data ** inst ** byte-compile and prepare package for lazy loading ** help *** installing help indices *** copying figures ** building package indices ** installing vignettes ** testing if installed package can be loaded from temporary location ** testing if installed package can be loaded from final location ** testing if installed package keeps a record of temporary installation path * DONE (ISAnalytics)
ISAnalytics.Rcheck/tests/testthat.Rout
R version 4.4.3 (2025-02-28) -- "Trophy Case"
Copyright (C) 2025 The R Foundation for Statistical Computing
Platform: x86_64-apple-darwin20
R is free software and comes with ABSOLUTELY NO WARRANTY.
You are welcome to redistribute it under certain conditions.
Type 'license()' or 'licence()' for distribution details.
R is a collaborative project with many contributors.
Type 'contributors()' for more information and
'citation()' on how to cite R or R packages in publications.
Type 'demo()' for some demos, 'help()' for on-line help, or
'help.start()' for an HTML browser interface to help.
Type 'q()' to quit R.
> library(testthat)
> library(ISAnalytics)
> 
> test_check("ISAnalytics")
Loading required namespace: plotly
Loading required namespace: rmarkdown
Report correctly saved
i Report saved to: /tmp/RtmptKpRfy/file16a2b3eeee481/2025-04-01_collision_removal_report.html
Report correctly saved
i Report saved to: /tmp/RtmptKpRfy/file16a2b1d064277/2025-04-01_outlier_test_pool_fragments_report.html
[ FAIL 0 | WARN 1 | SKIP 0 | PASS 834 ]
[ FAIL 0 | WARN 1 | SKIP 0 | PASS 834 ]
> 
> proc.time()
   user  system elapsed 
187.385   7.330 525.530 
ISAnalytics.Rcheck/ISAnalytics-Ex.timings
| name | user | system | elapsed | |
| CIS_grubbs | 2.294 | 0.114 | 2.599 | |
| CIS_grubbs_overtime | 2.499 | 0.325 | 14.608 | |
| CIS_volcano_plot | 3.103 | 0.047 | 3.311 | |
| HSC_population_plot | 1.334 | 0.031 | 12.209 | |
| HSC_population_size_estimate | 0.862 | 0.027 | 11.044 | |
| NGSdataExplorer | 0.000 | 0.000 | 0.001 | |
| aggregate_metadata | 0.218 | 0.008 | 0.230 | |
| aggregate_values_by_key | 0.138 | 0.009 | 0.147 | |
| annotation_issues | 0.059 | 0.004 | 0.063 | |
| as_sparse_matrix | 0.099 | 0.005 | 0.104 | |
| available_outlier_tests | 0.000 | 0.000 | 0.001 | |
| available_tags | 0.044 | 0.001 | 0.045 | |
| blood_lineages_default | 0.048 | 0.001 | 0.049 | |
| circos_genomic_density | 0 | 0 | 0 | |
| clinical_relevant_suspicious_genes | 0.024 | 0.000 | 0.024 | |
| comparison_matrix | 0.069 | 0.001 | 0.071 | |
| compute_abundance | 0.072 | 0.005 | 0.078 | |
| compute_near_integrations | 0.880 | 0.030 | 18.599 | |
| cumulative_count_union | 0.001 | 0.001 | 0.001 | |
| cumulative_is | 0.342 | 0.009 | 0.362 | |
| date_formats | 0.001 | 0.001 | 0.001 | |
| default_af_transform | 0.000 | 0.000 | 0.002 | |
| default_iss_file_prefixes | 0.001 | 0.000 | 0.001 | |
| default_meta_agg | 0.035 | 0.001 | 0.039 | |
| default_rec_agg_lambdas | 0.001 | 0.001 | 0.001 | |
| default_report_path | 0.013 | 0.001 | 0.015 | |
| default_stats | 2.007 | 0.058 | 2.167 | |
| enable_progress_bars | 0.029 | 0.004 | 0.035 | |
| export_ISA_settings | 0.184 | 0.017 | 0.208 | |
| fisher_scatterplot | 3.033 | 0.094 | 3.324 | |
| gene_frequency_fisher | 2.302 | 0.040 | 2.527 | |
| generate_Vispa2_launch_AF | 0.452 | 0.028 | 0.513 | |
| generate_blank_association_file | 0.028 | 0.002 | 0.037 | |
| generate_default_folder_structure | 0.825 | 0.150 | 0.965 | |
| import_ISA_settings | 0.138 | 0.002 | 0.151 | |
| import_Vispa2_stats | 2.084 | 0.201 | 12.121 | |
| import_association_file | 1.310 | 0.176 | 1.559 | |
| import_parallel_Vispa2Matrices | 2.933 | 0.221 | 25.231 | |
| import_single_Vispa2Matrix | 1.508 | 0.196 | 1.757 | |
| inspect_tags | 0.029 | 0.001 | 0.031 | |
| integration_alluvial_plot | 6.658 | 0.097 | 19.185 | |
| is_sharing | 1.081 | 0.043 | 14.941 | |
| iss_source | 1.354 | 0.056 | 13.244 | |
| known_clinical_oncogenes | 0.023 | 0.002 | 0.026 | |
| mandatory_IS_vars | 0.207 | 0.020 | 0.239 | |
| matching_options | 0.001 | 0.000 | 0.001 | |
| outlier_filter | 0.325 | 0.027 | 0.368 | |
| outliers_by_pool_fragments | 0.325 | 0.006 | 0.343 | |
| pcr_id_column | 0.040 | 0.000 | 0.041 | |
| purity_filter | 0.795 | 0.015 | 0.857 | |
| quantification_types | 0.001 | 0.001 | 0.001 | |
| realign_after_collisions | 1.053 | 0.036 | 10.482 | |
| reduced_AF_columns | 0.096 | 0.001 | 0.098 | |
| refGene_table_cols | 0.001 | 0.000 | 0.001 | |
| remove_collisions | 1.039 | 0.036 | 10.858 | |
| reset_mandatory_IS_vars | 0.011 | 0.001 | 0.012 | |
| sample_statistics | 0.839 | 0.157 | 1.071 | |
| separate_quant_matrices | 0.030 | 0.004 | 0.036 | |
| set_mandatory_IS_vars | 0.200 | 0.012 | 0.236 | |
| set_matrix_file_suffixes | 0.037 | 0.000 | 0.042 | |
| sharing_heatmap | 2.318 | 0.056 | 19.363 | |
| sharing_venn | 5.166 | 0.253 | 75.013 | |
| threshold_filter | 0.001 | 0.002 | 0.002 | |
| top_abund_tableGrob | 1.565 | 0.018 | 1.670 | |
| top_cis_overtime_heatmap | 2.193 | 0.089 | 13.954 | |
| top_integrations | 0.059 | 0.001 | 0.065 | |
| top_targeted_genes | 1.024 | 0.007 | 1.076 | |
| transform_columns | 0.042 | 0.002 | 0.053 | |