| Back to Multiple platform build/check report for BioC 3.20: simplified long |
|
This page was generated on 2024-11-20 12:06 -0500 (Wed, 20 Nov 2024).
| Hostname | OS | Arch (*) | R version | Installed pkgs |
|---|---|---|---|---|
| teran2 | Linux (Ubuntu 24.04.1 LTS) | x86_64 | 4.4.2 (2024-10-31) -- "Pile of Leaves" | 4481 |
| nebbiolo2 | Linux (Ubuntu 24.04.1 LTS) | x86_64 | 4.4.2 (2024-10-31) -- "Pile of Leaves" | 4479 |
| palomino8 | Windows Server 2022 Datacenter | x64 | 4.4.2 (2024-10-31 ucrt) -- "Pile of Leaves" | 4359 |
| lconway | macOS 12.7.1 Monterey | x86_64 | 4.4.1 (2024-06-14) -- "Race for Your Life" | 4539 |
| kunpeng2 | Linux (openEuler 22.03 LTS-SP1) | aarch64 | 4.4.1 (2024-06-14) -- "Race for Your Life" | 4493 |
| Click on any hostname to see more info about the system (e.g. compilers) (*) as reported by 'uname -p', except on Windows and Mac OS X | ||||
| Package 953/2289 | Hostname | OS / Arch | INSTALL | BUILD | CHECK | BUILD BIN | ||||||||
| HiCBricks 1.24.0 (landing page) Koustav Pal
| teran2 | Linux (Ubuntu 24.04.1 LTS) / x86_64 | OK | OK | OK | |||||||||
| nebbiolo2 | Linux (Ubuntu 24.04.1 LTS) / x86_64 | OK | OK | OK | ||||||||||
| palomino8 | Windows Server 2022 Datacenter / x64 | OK | OK | OK | OK | |||||||||
| lconway | macOS 12.7.1 Monterey / x86_64 | OK | OK | OK | OK | |||||||||
| kunpeng2 | Linux (openEuler 22.03 LTS-SP1) / aarch64 | OK | OK | OK | ||||||||||
|
To the developers/maintainers of the HiCBricks package: - Allow up to 24 hours (and sometimes 48 hours) for your latest push to git@git.bioconductor.org:packages/HiCBricks.git to reflect on this report. See Troubleshooting Build Report for more information. - Use the following Renviron settings to reproduce errors and warnings. - If 'R CMD check' started to fail recently on the Linux builder(s) over a missing dependency, add the missing dependency to 'Suggests:' in your DESCRIPTION file. See Renviron.bioc for more information. |
| Package: HiCBricks |
| Version: 1.24.0 |
| Command: /Library/Frameworks/R.framework/Resources/bin/R CMD check --install=check:HiCBricks.install-out.txt --library=/Library/Frameworks/R.framework/Resources/library --no-vignettes --timings HiCBricks_1.24.0.tar.gz |
| StartedAt: 2024-11-19 22:57:13 -0500 (Tue, 19 Nov 2024) |
| EndedAt: 2024-11-19 23:03:02 -0500 (Tue, 19 Nov 2024) |
| EllapsedTime: 349.7 seconds |
| RetCode: 0 |
| Status: OK |
| CheckDir: HiCBricks.Rcheck |
| Warnings: 0 |
##############################################################################
##############################################################################
###
### Running command:
###
### /Library/Frameworks/R.framework/Resources/bin/R CMD check --install=check:HiCBricks.install-out.txt --library=/Library/Frameworks/R.framework/Resources/library --no-vignettes --timings HiCBricks_1.24.0.tar.gz
###
##############################################################################
##############################################################################
* using log directory ‘/Users/biocbuild/bbs-3.20-bioc/meat/HiCBricks.Rcheck’
* using R version 4.4.1 (2024-06-14)
* using platform: x86_64-apple-darwin20
* R was compiled by
Apple clang version 14.0.0 (clang-1400.0.29.202)
GNU Fortran (GCC) 12.2.0
* running under: macOS Monterey 12.7.6
* using session charset: UTF-8
* using option ‘--no-vignettes’
* checking for file ‘HiCBricks/DESCRIPTION’ ... OK
* checking extension type ... Package
* this is package ‘HiCBricks’ version ‘1.24.0’
* package encoding: UTF-8
* checking package namespace information ... OK
* checking package dependencies ...Warning: unable to access index for repository https://CRAN.R-project.org/src/contrib:
cannot open URL 'https://CRAN.R-project.org/src/contrib/PACKAGES'
OK
* checking if this is a source package ... OK
* checking if there is a namespace ... OK
* checking for hidden files and directories ... OK
* checking for portable file names ... OK
* checking for sufficient/correct file permissions ... OK
* checking whether package ‘HiCBricks’ can be installed ... OK
* checking installed package size ... OK
* checking package directory ... OK
* checking ‘build’ directory ... OK
* checking DESCRIPTION meta-information ... OK
* checking top-level files ... OK
* checking for left-over files ... OK
* checking index information ... OK
* checking package subdirectories ... OK
* checking code files for non-ASCII characters ... OK
* checking R files for syntax errors ... OK
* checking whether the package can be loaded ... OK
* checking whether the package can be loaded with stated dependencies ... OK
* checking whether the package can be unloaded cleanly ... OK
* checking whether the namespace can be loaded with stated dependencies ... OK
* checking whether the namespace can be unloaded cleanly ... OK
* checking dependencies in R code ... OK
* checking S3 generic/method consistency ... OK
* checking replacement functions ... OK
* checking foreign function calls ... OK
* checking R code for possible problems ... OK
* checking Rd files ... OK
* checking Rd metadata ... OK
* checking Rd cross-references ... OK
* checking for missing documentation entries ... OK
* checking for code/documentation mismatches ... OK
* checking Rd \usage sections ... OK
* checking Rd contents ... OK
* checking for unstated dependencies in examples ... OK
* checking files in ‘vignettes’ ... OK
* checking examples ... OK
* checking for unstated dependencies in vignettes ... OK
* checking package vignettes ... OK
* checking running R code from vignettes ... SKIPPED
* checking re-building of vignette outputs ... SKIPPED
* checking PDF version of manual ... OK
* DONE
Status: OK
HiCBricks.Rcheck/00install.out
############################################################################## ############################################################################## ### ### Running command: ### ### /Library/Frameworks/R.framework/Resources/bin/R CMD INSTALL HiCBricks ### ############################################################################## ############################################################################## * installing to library ‘/Library/Frameworks/R.framework/Versions/4.4-x86_64/Resources/library’ * installing *source* package ‘HiCBricks’ ... ** using staged installation ** R ** inst ** byte-compile and prepare package for lazy loading ** help *** installing help indices ** building package indices ** installing vignettes ** testing if installed package can be loaded from temporary location ** testing if installed package can be loaded from final location ** testing if installed package keeps a record of temporary installation path * DONE (HiCBricks)
HiCBricks.Rcheck/HiCBricks-Ex.timings
| name | user | system | elapsed | |
| BrickContainer_change_experiment_name | 0.863 | 0.083 | 0.958 | |
| BrickContainer_change_output_directory | 0.695 | 0.060 | 0.755 | |
| BrickContainer_get_path_to_file | 0.604 | 0.053 | 0.659 | |
| BrickContainer_list_chromosomes | 0.579 | 0.055 | 0.637 | |
| BrickContainer_list_experiment_name | 0.629 | 0.061 | 0.695 | |
| BrickContainer_list_files | 0.630 | 0.055 | 0.692 | |
| BrickContainer_list_output_directory | 0.593 | 0.054 | 0.650 | |
| BrickContainer_list_resolutions | 0.594 | 0.052 | 0.650 | |
| BrickContainer_unlink_resolution | 1.272 | 0.116 | 1.399 | |
| Brick_add_ranges | 1.400 | 0.097 | 1.516 | |
| Brick_call_compartments | 1.058 | 0.163 | 1.230 | |
| Brick_export_to_sparse | 1.832 | 0.195 | 2.037 | |
| Brick_fetch_range_index | 0.712 | 0.056 | 0.772 | |
| Brick_fetch_row_vector | 1.130 | 0.146 | 1.282 | |
| Brick_get_bintable | 0.625 | 0.057 | 0.684 | |
| Brick_get_chrominfo | 0.601 | 0.057 | 0.662 | |
| Brick_get_entire_matrix | 0.908 | 0.118 | 1.033 | |
| Brick_get_matrix | 1.123 | 0.133 | 1.261 | |
| Brick_get_matrix_mcols | 0.851 | 0.101 | 0.958 | |
| Brick_get_matrix_within_coords | 1.207 | 0.204 | 1.416 | |
| Brick_get_ranges | 0.599 | 0.052 | 0.654 | |
| Brick_get_values_by_distance | 0.981 | 0.259 | 1.254 | |
| Brick_get_vector_values | 0.875 | 0.107 | 0.988 | |
| Brick_list_matrices | 0.591 | 0.059 | 0.653 | |
| Brick_list_matrix_mcols | 0.569 | 0.053 | 0.624 | |
| Brick_list_mcool_normalisations | 0.000 | 0.001 | 0.000 | |
| Brick_list_mcool_resolutions | 0 | 0 | 0 | |
| Brick_list_rangekeys | 0.584 | 0.056 | 0.644 | |
| Brick_list_ranges_mcols | 0.579 | 0.055 | 0.638 | |
| Brick_load_cis_matrix_till_distance | 0.783 | 0.103 | 0.889 | |
| Brick_load_data_from_mcool | 0 | 0 | 0 | |
| Brick_load_data_from_sparse | 0 | 0 | 0 | |
| Brick_load_matrix | 0.842 | 0.123 | 0.968 | |
| Brick_local_score_differentiator | 1.387 | 0.192 | 1.589 | |
| Brick_make_ranges | 0.007 | 0.001 | 0.008 | |
| Brick_matrix_dimensions | 0.889 | 0.117 | 1.012 | |
| Brick_matrix_exists | 0.870 | 0.193 | 1.070 | |
| Brick_matrix_filename | 0.857 | 0.118 | 0.982 | |
| Brick_matrix_isdone | 0.869 | 0.129 | 1.005 | |
| Brick_matrix_issparse | 0.871 | 0.116 | 0.993 | |
| Brick_matrix_maxdist | 0.929 | 0.175 | 1.124 | |
| Brick_matrix_minmax | 0.901 | 0.212 | 1.124 | |
| Brick_mcool_normalisation_exists | 0 | 0 | 0 | |
| Brick_rangekey_exists | 0.629 | 0.065 | 0.697 | |
| Brick_return_region_position | 0.711 | 0.069 | 0.823 | |
| Brick_vizart_plot_heatmap | 1.638 | 0.259 | 1.907 | |
| Create_many_Bricks | 0.640 | 0.075 | 0.720 | |
| Create_many_Bricks_from_mcool | 0.000 | 0.001 | 0.001 | |
| load_BrickContainer | 0.689 | 0.069 | 0.761 | |