| Back to Multiple platform build/check report for BioC 3.20: simplified long |
|
This page was generated on 2025-04-02 19:28 -0400 (Wed, 02 Apr 2025).
| Hostname | OS | Arch (*) | R version | Installed pkgs |
|---|---|---|---|---|
| nebbiolo2 | Linux (Ubuntu 24.04.1 LTS) | x86_64 | 4.4.3 (2025-02-28) -- "Trophy Case" | 4764 |
| palomino8 | Windows Server 2022 Datacenter | x64 | 4.4.3 (2025-02-28 ucrt) -- "Trophy Case" | 4495 |
| merida1 | macOS 12.7.5 Monterey | x86_64 | 4.4.3 (2025-02-28) -- "Trophy Case" | 4522 |
| kjohnson1 | macOS 13.6.6 Ventura | arm64 | 4.4.3 (2025-02-28) -- "Trophy Case" | 4449 |
| taishan | Linux (openEuler 24.03 LTS) | aarch64 | 4.4.3 (2025-02-28) -- "Trophy Case" | 4426 |
| Click on any hostname to see more info about the system (e.g. compilers) (*) as reported by 'uname -p', except on Windows and Mac OS X | ||||
| Package 953/2289 | Hostname | OS / Arch | INSTALL | BUILD | CHECK | BUILD BIN | ||||||||
| HiCBricks 1.24.0 (landing page) Koustav Pal
| nebbiolo2 | Linux (Ubuntu 24.04.1 LTS) / x86_64 | OK | OK | OK | |||||||||
| palomino8 | Windows Server 2022 Datacenter / x64 | OK | OK | OK | OK | |||||||||
| merida1 | macOS 12.7.5 Monterey / x86_64 | OK | OK | OK | OK | |||||||||
| kjohnson1 | macOS 13.6.6 Ventura / arm64 | OK | OK | OK | OK | |||||||||
| taishan | Linux (openEuler 24.03 LTS) / aarch64 | OK | OK | OK | ||||||||||
|
To the developers/maintainers of the HiCBricks package: - Allow up to 24 hours (and sometimes 48 hours) for your latest push to git@git.bioconductor.org:packages/HiCBricks.git to reflect on this report. See Troubleshooting Build Report for more information. - Use the following Renviron settings to reproduce errors and warnings. - If 'R CMD check' started to fail recently on the Linux builder(s) over a missing dependency, add the missing dependency to 'Suggests:' in your DESCRIPTION file. See Renviron.bioc for more information. |
| Package: HiCBricks |
| Version: 1.24.0 |
| Command: /home/biocbuild/bbs-3.20-bioc/R/bin/R CMD check --install=check:HiCBricks.install-out.txt --library=/home/biocbuild/bbs-3.20-bioc/R/site-library --timings HiCBricks_1.24.0.tar.gz |
| StartedAt: 2025-03-31 22:56:05 -0400 (Mon, 31 Mar 2025) |
| EndedAt: 2025-03-31 22:59:12 -0400 (Mon, 31 Mar 2025) |
| EllapsedTime: 186.2 seconds |
| RetCode: 0 |
| Status: OK |
| CheckDir: HiCBricks.Rcheck |
| Warnings: 0 |
##############################################################################
##############################################################################
###
### Running command:
###
### /home/biocbuild/bbs-3.20-bioc/R/bin/R CMD check --install=check:HiCBricks.install-out.txt --library=/home/biocbuild/bbs-3.20-bioc/R/site-library --timings HiCBricks_1.24.0.tar.gz
###
##############################################################################
##############################################################################
* using log directory ‘/home/biocbuild/bbs-3.20-bioc/meat/HiCBricks.Rcheck’
* using R version 4.4.3 (2025-02-28)
* using platform: x86_64-pc-linux-gnu
* R was compiled by
gcc (Ubuntu 13.3.0-6ubuntu2~24.04) 13.3.0
GNU Fortran (Ubuntu 13.3.0-6ubuntu2~24.04) 13.3.0
* running under: Ubuntu 24.04.2 LTS
* using session charset: UTF-8
* checking for file ‘HiCBricks/DESCRIPTION’ ... OK
* checking extension type ... Package
* this is package ‘HiCBricks’ version ‘1.24.0’
* package encoding: UTF-8
* checking package namespace information ... OK
* checking package dependencies ... OK
* checking if this is a source package ... OK
* checking if there is a namespace ... OK
* checking for hidden files and directories ... OK
* checking for portable file names ... OK
* checking for sufficient/correct file permissions ... OK
* checking whether package ‘HiCBricks’ can be installed ... OK
* checking installed package size ... OK
* checking package directory ... OK
* checking ‘build’ directory ... OK
* checking DESCRIPTION meta-information ... OK
* checking top-level files ... OK
* checking for left-over files ... OK
* checking index information ... OK
* checking package subdirectories ... OK
* checking code files for non-ASCII characters ... OK
* checking R files for syntax errors ... OK
* checking whether the package can be loaded ... OK
* checking whether the package can be loaded with stated dependencies ... OK
* checking whether the package can be unloaded cleanly ... OK
* checking whether the namespace can be loaded with stated dependencies ... OK
* checking whether the namespace can be unloaded cleanly ... OK
* checking loading without being on the library search path ... OK
* checking dependencies in R code ... OK
* checking S3 generic/method consistency ... OK
* checking replacement functions ... OK
* checking foreign function calls ... OK
* checking R code for possible problems ... OK
* checking Rd files ... OK
* checking Rd metadata ... OK
* checking Rd cross-references ... OK
* checking for missing documentation entries ... OK
* checking for code/documentation mismatches ... OK
* checking Rd \usage sections ... OK
* checking Rd contents ... OK
* checking for unstated dependencies in examples ... OK
* checking files in ‘vignettes’ ... OK
* checking examples ... OK
* checking for unstated dependencies in vignettes ... OK
* checking package vignettes ... OK
* checking re-building of vignette outputs ... OK
* checking PDF version of manual ... OK
* DONE
Status: OK
HiCBricks.Rcheck/00install.out
############################################################################## ############################################################################## ### ### Running command: ### ### /home/biocbuild/bbs-3.20-bioc/R/bin/R CMD INSTALL HiCBricks ### ############################################################################## ############################################################################## * installing to library ‘/home/biocbuild/bbs-3.20-bioc/R/site-library’ * installing *source* package ‘HiCBricks’ ... ** using staged installation ** R ** inst ** byte-compile and prepare package for lazy loading ** help *** installing help indices ** building package indices ** installing vignettes ** testing if installed package can be loaded from temporary location ** testing if installed package can be loaded from final location ** testing if installed package keeps a record of temporary installation path * DONE (HiCBricks)
HiCBricks.Rcheck/HiCBricks-Ex.timings
| name | user | system | elapsed | |
| BrickContainer_change_experiment_name | 1.153 | 0.065 | 1.217 | |
| BrickContainer_change_output_directory | 0.899 | 0.045 | 0.945 | |
| BrickContainer_get_path_to_file | 0.818 | 0.015 | 0.833 | |
| BrickContainer_list_chromosomes | 0.751 | 0.018 | 0.770 | |
| BrickContainer_list_experiment_name | 0.709 | 0.022 | 0.732 | |
| BrickContainer_list_files | 0.750 | 0.012 | 0.762 | |
| BrickContainer_list_output_directory | 0.777 | 0.007 | 0.785 | |
| BrickContainer_list_resolutions | 0.742 | 0.019 | 0.762 | |
| BrickContainer_unlink_resolution | 1.601 | 0.024 | 1.626 | |
| Brick_add_ranges | 1.879 | 0.039 | 1.917 | |
| Brick_call_compartments | 1.230 | 0.047 | 1.277 | |
| Brick_export_to_sparse | 2.19 | 0.04 | 2.23 | |
| Brick_fetch_range_index | 0.984 | 0.064 | 1.048 | |
| Brick_fetch_row_vector | 1.272 | 0.026 | 1.298 | |
| Brick_get_bintable | 0.745 | 0.007 | 0.751 | |
| Brick_get_chrominfo | 0.752 | 0.032 | 0.784 | |
| Brick_get_entire_matrix | 1.098 | 0.032 | 1.131 | |
| Brick_get_matrix | 1.374 | 0.045 | 1.420 | |
| Brick_get_matrix_mcols | 1.037 | 0.020 | 1.057 | |
| Brick_get_matrix_within_coords | 1.462 | 0.023 | 1.485 | |
| Brick_get_ranges | 0.837 | 0.015 | 0.851 | |
| Brick_get_values_by_distance | 1.245 | 0.024 | 1.270 | |
| Brick_get_vector_values | 1.070 | 0.013 | 1.083 | |
| Brick_list_matrices | 0.739 | 0.007 | 0.746 | |
| Brick_list_matrix_mcols | 0.744 | 0.007 | 0.751 | |
| Brick_list_mcool_normalisations | 0 | 0 | 0 | |
| Brick_list_mcool_resolutions | 0.001 | 0.000 | 0.000 | |
| Brick_list_rangekeys | 0.708 | 0.008 | 0.716 | |
| Brick_list_ranges_mcols | 0.809 | 0.013 | 0.822 | |
| Brick_load_cis_matrix_till_distance | 0.982 | 0.020 | 1.001 | |
| Brick_load_data_from_mcool | 0 | 0 | 0 | |
| Brick_load_data_from_sparse | 0 | 0 | 0 | |
| Brick_load_matrix | 1.012 | 0.018 | 1.029 | |
| Brick_local_score_differentiator | 1.508 | 0.043 | 1.554 | |
| Brick_make_ranges | 0.008 | 0.000 | 0.008 | |
| Brick_matrix_dimensions | 0.955 | 0.015 | 0.970 | |
| Brick_matrix_exists | 0.995 | 0.038 | 1.033 | |
| Brick_matrix_filename | 1.024 | 0.034 | 1.058 | |
| Brick_matrix_isdone | 1.052 | 0.025 | 1.077 | |
| Brick_matrix_issparse | 0.966 | 0.020 | 0.986 | |
| Brick_matrix_maxdist | 1.033 | 0.047 | 1.079 | |
| Brick_matrix_minmax | 0.969 | 0.033 | 1.002 | |
| Brick_mcool_normalisation_exists | 0 | 0 | 0 | |
| Brick_rangekey_exists | 0.745 | 0.010 | 0.755 | |
| Brick_return_region_position | 0.804 | 0.010 | 0.814 | |
| Brick_vizart_plot_heatmap | 1.825 | 0.030 | 1.855 | |
| Create_many_Bricks | 0.725 | 0.007 | 0.732 | |
| Create_many_Bricks_from_mcool | 0 | 0 | 0 | |
| load_BrickContainer | 0.770 | 0.007 | 0.777 | |