| Back to Multiple platform build/check report for BioC 3.20: simplified long |
|
This page was generated on 2024-11-09 21:30 -0500 (Sat, 09 Nov 2024).
| Hostname | OS | Arch (*) | R version | Installed pkgs |
|---|---|---|---|---|
| teran2 | Linux (Ubuntu 24.04.1 LTS) | x86_64 | 4.4.1 (2024-06-14) -- "Race for Your Life" | 4505 |
| palomino8 | Windows Server 2022 Datacenter | x64 | 4.4.1 (2024-06-14 ucrt) -- "Race for Your Life" | 4506 |
| lconway | macOS 12.7.1 Monterey | x86_64 | 4.4.1 (2024-06-14) -- "Race for Your Life" | 4538 |
| kjohnson3 | macOS 13.6.5 Ventura | arm64 | 4.4.1 (2024-06-14) -- "Race for Your Life" | 4486 |
| kunpeng2 | Linux (openEuler 22.03 LTS-SP1) | aarch64 | 4.4.1 (2024-06-14) -- "Race for Your Life" | 4493 |
| Click on any hostname to see more info about the system (e.g. compilers) (*) as reported by 'uname -p', except on Windows and Mac OS X | ||||
| Package 716/2289 | Hostname | OS / Arch | INSTALL | BUILD | CHECK | BUILD BIN | ||||||||
| FindIT2 1.12.0 (landing page) Guandong Shang
| teran2 | Linux (Ubuntu 24.04.1 LTS) / x86_64 | OK | OK | OK | |||||||||
| palomino8 | Windows Server 2022 Datacenter / x64 | OK | OK | OK | OK | |||||||||
| lconway | macOS 12.7.1 Monterey / x86_64 | OK | OK | OK | OK | |||||||||
| kjohnson3 | macOS 13.6.5 Ventura / arm64 | OK | OK | OK | OK | |||||||||
| kunpeng2 | Linux (openEuler 22.03 LTS-SP1) / aarch64 | OK | OK | OK | ||||||||||
|
To the developers/maintainers of the FindIT2 package: - Allow up to 24 hours (and sometimes 48 hours) for your latest push to git@git.bioconductor.org:packages/FindIT2.git to reflect on this report. See Troubleshooting Build Report for more information. - Use the following Renviron settings to reproduce errors and warnings. - If 'R CMD check' started to fail recently on the Linux builder(s) over a missing dependency, add the missing dependency to 'Suggests:' in your DESCRIPTION file. See Renviron.bioc for more information. |
| Package: FindIT2 |
| Version: 1.12.0 |
| Command: /Library/Frameworks/R.framework/Resources/bin/R CMD check --install=check:FindIT2.install-out.txt --library=/Library/Frameworks/R.framework/Resources/library --no-vignettes --timings FindIT2_1.12.0.tar.gz |
| StartedAt: 2024-11-09 02:19:07 -0500 (Sat, 09 Nov 2024) |
| EndedAt: 2024-11-09 02:24:46 -0500 (Sat, 09 Nov 2024) |
| EllapsedTime: 339.3 seconds |
| RetCode: 0 |
| Status: OK |
| CheckDir: FindIT2.Rcheck |
| Warnings: 0 |
##############################################################################
##############################################################################
###
### Running command:
###
### /Library/Frameworks/R.framework/Resources/bin/R CMD check --install=check:FindIT2.install-out.txt --library=/Library/Frameworks/R.framework/Resources/library --no-vignettes --timings FindIT2_1.12.0.tar.gz
###
##############################################################################
##############################################################################
* using log directory ‘/Users/biocbuild/bbs-3.20-bioc/meat/FindIT2.Rcheck’
* using R version 4.4.1 (2024-06-14)
* using platform: aarch64-apple-darwin20
* R was compiled by
Apple clang version 14.0.0 (clang-1400.0.29.202)
GNU Fortran (GCC) 12.2.0
* running under: macOS Ventura 13.6.7
* using session charset: UTF-8
* using option ‘--no-vignettes’
* checking for file ‘FindIT2/DESCRIPTION’ ... OK
* this is package ‘FindIT2’ version ‘1.12.0’
* package encoding: UTF-8
* checking package namespace information ... OK
* checking package dependencies ...Warning: unable to access index for repository https://CRAN.R-project.org/src/contrib:
cannot open URL 'https://CRAN.R-project.org/src/contrib/PACKAGES'
OK
* checking if this is a source package ... OK
* checking if there is a namespace ... OK
* checking for hidden files and directories ... OK
* checking for portable file names ... OK
* checking for sufficient/correct file permissions ... OK
* checking whether package ‘FindIT2’ can be installed ... OK
* checking installed package size ... OK
* checking package directory ... OK
* checking ‘build’ directory ... OK
* checking DESCRIPTION meta-information ... OK
* checking top-level files ... OK
* checking for left-over files ... OK
* checking index information ... OK
* checking package subdirectories ... OK
* checking code files for non-ASCII characters ... OK
* checking R files for syntax errors ... OK
* checking whether the package can be loaded ... OK
* checking whether the package can be loaded with stated dependencies ... OK
* checking whether the package can be unloaded cleanly ... OK
* checking whether the namespace can be loaded with stated dependencies ... OK
* checking whether the namespace can be unloaded cleanly ... OK
* checking dependencies in R code ... OK
* checking S3 generic/method consistency ... OK
* checking replacement functions ... OK
* checking foreign function calls ... OK
* checking R code for possible problems ... OK
* checking Rd files ... OK
* checking Rd metadata ... OK
* checking Rd cross-references ... OK
* checking for missing documentation entries ... OK
* checking for code/documentation mismatches ... OK
* checking Rd \usage sections ... OK
* checking Rd contents ... OK
* checking for unstated dependencies in examples ... OK
* checking contents of ‘data’ directory ... OK
* checking data for non-ASCII characters ... OK
* checking data for ASCII and uncompressed saves ... OK
* checking files in ‘vignettes’ ... OK
* checking examples ... OK
* checking for unstated dependencies in ‘tests’ ... OK
* checking tests ...
Running ‘testthat.R’
OK
* checking for unstated dependencies in vignettes ... OK
* checking package vignettes ... OK
* checking running R code from vignettes ... SKIPPED
* checking re-building of vignette outputs ... SKIPPED
* checking PDF version of manual ... OK
* DONE
Status: OK
FindIT2.Rcheck/00install.out
############################################################################## ############################################################################## ### ### Running command: ### ### /Library/Frameworks/R.framework/Resources/bin/R CMD INSTALL FindIT2 ### ############################################################################## ############################################################################## * installing to library ‘/Library/Frameworks/R.framework/Versions/4.4-arm64/Resources/library’ * installing *source* package ‘FindIT2’ ... ** using staged installation ** R ** data ** inst ** byte-compile and prepare package for lazy loading ** help *** installing help indices ** building package indices ** installing vignettes ** testing if installed package can be loaded from temporary location ** testing if installed package can be loaded from final location ** testing if installed package keeps a record of temporary installation path * DONE (FindIT2)
FindIT2.Rcheck/tests/testthat.Rout
R version 4.4.1 (2024-06-14) -- "Race for Your Life"
Copyright (C) 2024 The R Foundation for Statistical Computing
Platform: aarch64-apple-darwin20
R is free software and comes with ABSOLUTELY NO WARRANTY.
You are welcome to redistribute it under certain conditions.
Type 'license()' or 'licence()' for distribution details.
R is a collaborative project with many contributors.
Type 'contributors()' for more information and
'citation()' on how to cite R or R packages in publications.
Type 'demo()' for some demos, 'help()' for on-line help, or
'help.start()' for an HTML browser interface to help.
Type 'q()' to quit R.
> library(testthat)
> library(FindIT2)
Loading required package: GenomicRanges
Loading required package: stats4
Loading required package: BiocGenerics
Attaching package: 'BiocGenerics'
The following objects are masked from 'package:stats':
IQR, mad, sd, var, xtabs
The following objects are masked from 'package:base':
Filter, Find, Map, Position, Reduce, anyDuplicated, aperm, append,
as.data.frame, basename, cbind, colnames, dirname, do.call,
duplicated, eval, evalq, get, grep, grepl, intersect, is.unsorted,
lapply, mapply, match, mget, order, paste, pmax, pmax.int, pmin,
pmin.int, rank, rbind, rownames, sapply, saveRDS, setdiff, table,
tapply, union, unique, unsplit, which.max, which.min
Loading required package: S4Vectors
Attaching package: 'S4Vectors'
The following object is masked from 'package:utils':
findMatches
The following objects are masked from 'package:base':
I, expand.grid, unname
Loading required package: IRanges
Loading required package: GenomeInfoDb
> if (!requireNamespace("TxDb.Athaliana.BioMart.plantsmart28")) {
+ stop("unable to load TxDb.Athaliana.BioMart.plantsmart28")
+ }
Loading required namespace: TxDb.Athaliana.BioMart.plantsmart28
>
> test_check("FindIT2")
>> preparing gene features information... 2024-11-09 02:24:27
>> some scan range may cross Chr bound, trimming... 2024-11-09 02:24:28
>> preparing weight info... 2024-11-09 02:24:28
>> loading E50h_sampleChr5.bw info... 2024-11-09 02:24:28
------------
>> extracting and calcluating Chr5 signal... 2024-11-09 02:24:28
>> dealing with Chr5 left gene signal... 2024-11-09 02:24:29
>> norming Chr5RP accoring to the whole Chr RP... 2024-11-09 02:24:29
>> merging all Chr RP together... 2024-11-09 02:24:29
>> done 2024-11-09 02:24:29
>> checking seqlevels match... 2024-11-09 02:24:29
>> your peak_GR seqlevel:Chr5...
>> your Txdb seqlevel:Chr1 Chr2 Chr3 Chr4 Chr5 ChrM ChrC...
Good, your Chrs in peak_GR is all in Txdb
------------
annotatePeak using geneScan mode begins
>> preparing gene features information and scan region... 2024-11-09 02:24:29
>> some scan range may cross Chr bound, trimming... 2024-11-09 02:24:29
>> finding overlap peak in gene scan region... 2024-11-09 02:24:29
>> dealing with left peak not your gene scan region... 2024-11-09 02:24:29
>> merging two set peaks... 2024-11-09 02:24:29
>> calculating distance and dealing with gene strand... 2024-11-09 02:24:29
>> merging all info together ... 2024-11-09 02:24:29
>> done 2024-11-09 02:24:29
>> calculating peakCenter to TSS using peak-gene pair... 2024-11-09 02:24:29
>> pre-filling 1356 noAssoc peak gene's RP with 0... 2024-11-09 02:24:30
>> calculating RP using centerToTSS and peak score2024-11-09 02:24:30
>> merging all info together 2024-11-09 02:24:30
>> done 2024-11-09 02:24:30
>> calculating peakCenter to TSS using peak-gene pair... 2024-11-09 02:24:30
>> pre-filling 1356 noAssoc peak gene's RP with 0... 2024-11-09 02:24:31
>> calculating RP using centerToTSS and peak score2024-11-09 02:24:31
>> merging all info together 2024-11-09 02:24:31
>> done 2024-11-09 02:24:32
>> checking seqlevels match... 2024-11-09 02:24:32
>> your peak_GR seqlevel:Chr5...
>> your Txdb seqlevel:Chr1 Chr2 Chr3 Chr4 Chr5 ChrM ChrC...
Good, your Chrs in peak_GR is all in Txdb
------------
annotatePeak using geneScan mode begins
>> preparing gene features information and scan region... 2024-11-09 02:24:32
>> some scan range may cross Chr bound, trimming... 2024-11-09 02:24:32
>> finding overlap peak in gene scan region... 2024-11-09 02:24:32
>> dealing with left peak not your gene scan region... 2024-11-09 02:24:32
>> merging two set peaks... 2024-11-09 02:24:32
>> calculating distance and dealing with gene strand... 2024-11-09 02:24:32
>> merging all info together ... 2024-11-09 02:24:32
>> done 2024-11-09 02:24:32
>> calculating peakCenter to TSS using peak-gene pair... 2024-11-09 02:24:32
>> calculating RP using centerToTSS and TF hit 2024-11-09 02:24:32
>> merging all info together 2024-11-09 02:24:32
>> done 2024-11-09 02:24:32
>> calculating peakCenter to TSS using peak-gene pair... 2024-11-09 02:24:32
>> calculating RP using centerToTSS and TF hit 2024-11-09 02:24:33
>> merging all info together 2024-11-09 02:24:33
>> done 2024-11-09 02:24:33
>> checking seqlevels match... 2024-11-09 02:24:33
>> your peak_GR seqlevel:Chr5...
>> your Txdb seqlevel:Chr1 Chr2 Chr3 Chr4 Chr5 ChrM ChrC...
Good, your Chrs in peak_GR is all in Txdb
------------
annotatePeak using geneScan mode begins
>> preparing gene features information and scan region... 2024-11-09 02:24:33
>> some scan range may cross Chr bound, trimming... 2024-11-09 02:24:33
>> finding overlap peak in gene scan region... 2024-11-09 02:24:33
>> dealing with left peak not your gene scan region... 2024-11-09 02:24:33
>> merging two set peaks... 2024-11-09 02:24:33
>> calculating distance and dealing with gene strand... 2024-11-09 02:24:33
>> merging all info together ... 2024-11-09 02:24:33
>> done 2024-11-09 02:24:33
>> calculating peakCenter to TSS using peak-gene pair... 2024-11-09 02:24:33
>> pre-filling 1356 noAssoc peak gene's RP with 0... 2024-11-09 02:24:33
>> calculating RP using centerToTSS and peak score2024-11-09 02:24:33
>> merging all info together 2024-11-09 02:24:34
>> done 2024-11-09 02:24:34
>> extracting RP info from regionRP... 2024-11-09 02:24:34
>> dealing with TF_GR_databse... 2024-11-09 02:24:34
>> calculating percent and p-value... 2024-11-09 02:24:34
>> dealing withE5_0h_R1... 2024-11-09 02:24:34
>> dealing withE5_0h_R2... 2024-11-09 02:24:34
>> dealing withE5_4h_R1... 2024-11-09 02:24:34
>> dealing withE5_4h_R2... 2024-11-09 02:24:34
>> dealing withE5_8h_R1... 2024-11-09 02:24:34
>> dealing withE5_8h_R2... 2024-11-09 02:24:34
>> dealing withE5_16h_R1... 2024-11-09 02:24:34
>> dealing withE5_16h_R2... 2024-11-09 02:24:34
>> dealing withE5_24h_R1... 2024-11-09 02:24:34
>> dealing withE5_24h_R2... 2024-11-09 02:24:34
>> dealing withE5_48h_R1... 2024-11-09 02:24:34
>> dealing withE5_48h_R2... 2024-11-09 02:24:34
>> dealing withE5_48h_R3... 2024-11-09 02:24:34
>> dealing withE5_72h_R1... 2024-11-09 02:24:34
>> dealing withE5_72h_R2... 2024-11-09 02:24:34
>> dealing withE5_72h_R3... 2024-11-09 02:24:34
>> merging all info together... 2024-11-09 02:24:34
>> done 2024-11-09 02:24:34
>> preparing gene features information... 2024-11-09 02:24:34
>> some scan range may cross Chr bound, trimming... 2024-11-09 02:24:35
>> calculating p-value for each TF, which may be time consuming... 2024-11-09 02:24:35
>> merging all info together... 2024-11-09 02:24:35
>> done 2024-11-09 02:24:35
>> dealing with TF_GR_database... 2024-11-09 02:24:35
>> calculating coef and converting into z-score using INT... 2024-11-09 02:24:35
>> dealing with E5_0h_R1... 2024-11-09 02:24:35
>> dealing with E5_0h_R2... 2024-11-09 02:24:35
>> dealing with E5_4h_R1... 2024-11-09 02:24:35
>> dealing with E5_4h_R2... 2024-11-09 02:24:35
>> dealing with E5_8h_R1... 2024-11-09 02:24:35
>> dealing with E5_8h_R2... 2024-11-09 02:24:35
>> dealing with E5_16h_R1... 2024-11-09 02:24:35
>> dealing with E5_16h_R2... 2024-11-09 02:24:35
>> dealing with E5_24h_R1... 2024-11-09 02:24:35
>> dealing with E5_24h_R2... 2024-11-09 02:24:35
>> dealing with E5_48h_R1... 2024-11-09 02:24:35
>> dealing with E5_48h_R2... 2024-11-09 02:24:35
>> dealing with E5_48h_R3... 2024-11-09 02:24:35
>> dealing with E5_72h_R1... 2024-11-09 02:24:35
>> dealing with E5_72h_R2... 2024-11-09 02:24:35
>> dealing with E5_72h_R3... 2024-11-09 02:24:35
>> merging all info together... 2024-11-09 02:24:35
>> done 2024-11-09 02:24:35
>> checking seqlevels match... 2024-11-09 02:24:35
>> your peak_GR seqlevel:Chr5...
>> your Txdb seqlevel:Chr1 Chr2 Chr3 Chr4 Chr5 ChrM ChrC...
Good, your Chrs in peak_GR is all in Txdb
------------
annotatePeak using geneScan mode begins
>> preparing gene features information and scan region... 2024-11-09 02:24:35
>> some scan range may cross Chr bound, trimming... 2024-11-09 02:24:35
>> finding overlap peak in gene scan region... 2024-11-09 02:24:35
>> dealing with left peak not your gene scan region... 2024-11-09 02:24:35
>> merging two set peaks... 2024-11-09 02:24:35
>> calculating distance and dealing with gene strand... 2024-11-09 02:24:35
>> merging all info together ... 2024-11-09 02:24:35
>> done 2024-11-09 02:24:35
>> calculating peakCenter to TSS using peak-gene pair... 2024-11-09 02:24:35
>> calculating RP using centerToTSS and TF hit 2024-11-09 02:24:36
>> merging all info together 2024-11-09 02:24:36
>> done 2024-11-09 02:24:36
>> checking seqlevels match... 2024-11-09 02:24:36
>> your peak_GR seqlevel:5...
>> your Txdb seqlevel:Chr1 Chr2 Chr3 Chr4 Chr5 ChrM ChrC...
>> checking seqlevels match... 2024-11-09 02:24:36
>> your peak_GR seqlevel:Chr5 Chr6...
>> your Txdb seqlevel:Chr1 Chr2 Chr3 Chr4 Chr5 ChrM ChrC...
>> checking seqlevels match... 2024-11-09 02:24:37
>> your peak_GR seqlevel:Chr5...
>> your Txdb seqlevel:Chr1 Chr2 Chr3 Chr4 Chr5 ChrM ChrC...
Good, your Chrs in peak_GR is all in Txdb
>> checking seqlevels match... 2024-11-09 02:24:37
>> your peak_GR seqlevel:Chr5...
>> your Txdb seqlevel:Chr1 Chr2 Chr3 Chr4 Chr5 ChrM ChrC...
Good, your Chrs in peak_GR is all in Txdb
------------
annotating Peak using nearest gene mode begins
>> preparing gene features information... 2024-11-09 02:24:37
>> finding nearest gene and calculating distance... 2024-11-09 02:24:37
>> dealing with gene strand ... 2024-11-09 02:24:37
>> merging all info together ... 2024-11-09 02:24:37
>> done 2024-11-09 02:24:37
>> checking seqlevels match... 2024-11-09 02:24:37
>> your peak_GR seqlevel:Chr5...
>> your Txdb seqlevel:Chr1 Chr2 Chr3 Chr4 Chr5 ChrM ChrC...
Good, your Chrs in peak_GR is all in Txdb
>> checking seqlevels match... 2024-11-09 02:24:37
>> your peak_GR seqlevel:Chr5...
>> your Txdb seqlevel:Chr1 Chr2 Chr3 Chr4 Chr5 ChrM ChrC...
Good, your Chrs in peak_GR is all in Txdb
------------
annotating Peak using nearest gene mode begins
>> preparing gene features information... 2024-11-09 02:24:37
>> finding nearest gene and calculating distance... 2024-11-09 02:24:37
>> dealing with gene strand ... 2024-11-09 02:24:37
>> merging all info together ... 2024-11-09 02:24:37
>> done 2024-11-09 02:24:37
>> checking seqlevels match... 2024-11-09 02:24:38
>> your peak_GR seqlevel:Chr5...
>> your Txdb seqlevel:Chr1 Chr2 Chr3 Chr4 Chr5 ChrM ChrC...
Good, your Chrs in peak_GR is all in Txdb
>> checking seqlevels match... 2024-11-09 02:24:38
>> your peak_GR seqlevel:Chr5...
>> your Txdb seqlevel:Chr1 Chr2 Chr3 Chr4 Chr5 ChrM ChrC...
Good, your Chrs in peak_GR is all in Txdb
------------
annotating Peak using nearest gene mode begins
>> preparing gene features information... 2024-11-09 02:24:38
>> finding nearest gene and calculating distance... 2024-11-09 02:24:38
>> dealing with gene strand ... 2024-11-09 02:24:38
>> merging all info together ... 2024-11-09 02:24:38
>> done 2024-11-09 02:24:38
>> checking seqlevels match... 2024-11-09 02:24:38
>> your peak_GR seqlevel:Chr5...
>> your Txdb seqlevel:Chr1 Chr2 Chr3 Chr4 Chr5 ChrM ChrC...
Good, your Chrs in peak_GR is all in Txdb
>> checking seqlevels match... 2024-11-09 02:24:38
>> your peak_GR seqlevel:Chr5...
>> your Txdb seqlevel:Chr1 Chr2 Chr3 Chr4 Chr5 ChrM ChrC...
Good, your Chrs in peak_GR is all in Txdb
------------
annotating Peak using nearest gene mode begins
>> preparing gene features information... 2024-11-09 02:24:38
>> finding nearest gene and calculating distance... 2024-11-09 02:24:38
>> dealing with gene strand ... 2024-11-09 02:24:38
>> merging all info together ... 2024-11-09 02:24:38
>> done 2024-11-09 02:24:38
It seems that there 1 genes have not been annotated by nearestGene mode
>> checking seqlevels match... 2024-11-09 02:24:39
>> your peak_GR seqlevel:Chr5...
>> your Txdb seqlevel:Chr1 Chr2 Chr3 Chr4 Chr5 ChrM ChrC...
Good, your Chrs in peak_GR is all in Txdb
>> checking seqlevels match... 2024-11-09 02:24:39
>> your peak_GR seqlevel:Chr5...
>> your Txdb seqlevel:Chr1 Chr2 Chr3 Chr4 Chr5 ChrM ChrC...
Good, your Chrs in peak_GR is all in Txdb
------------
annotating Peak using nearest gene mode begins
>> preparing gene features information... 2024-11-09 02:24:39
>> finding nearest gene and calculating distance... 2024-11-09 02:24:39
>> dealing with gene strand ... 2024-11-09 02:24:39
>> merging all info together ... 2024-11-09 02:24:39
>> done 2024-11-09 02:24:39
It seems that there 1 genes have not been annotated by nearestGene mode
>> checking seqlevels match... 2024-11-09 02:24:39
>> your peak_GR seqlevel:Chr5...
>> your Txdb seqlevel:Chr1 Chr2 Chr3 Chr4 Chr5 ChrM ChrC...
Good, your Chrs in peak_GR is all in Txdb
>> checking seqlevels match... 2024-11-09 02:24:40
>> your peak_GR seqlevel:Chr5...
>> your Txdb seqlevel:Chr1 Chr2 Chr3 Chr4 Chr5 ChrM ChrC...
Good, your Chrs in peak_GR is all in Txdb
>> some scan range may cross Chr bound, trimming... 2024-11-09 02:24:40
>> checking seqlevels match... 2024-11-09 02:24:40
>> your peak_GR seqlevel:Chr5...
>> your Txdb seqlevel:Chr1 Chr2 Chr3 Chr4 Chr5 ChrM ChrC...
Good, your Chrs in peak_GR is all in Txdb
>> some scan range may cross Chr bound, trimming... 2024-11-09 02:24:40
Good, your two matrix colnames matchs
>> calculating cor and pvalue, which may be time consuming... 2024-11-09 02:24:40
>> merging all info together... 2024-11-09 02:24:40
>> done 2024-11-09 02:24:41
>> checking seqlevels match... 2024-11-09 02:24:41
>> your peak_GR seqlevel:Chr5...
>> your Txdb seqlevel:Chr1 Chr2 Chr3 Chr4 Chr5 ChrM ChrC...
Good, your Chrs in peak_GR is all in Txdb
>> using scanPromoter parameter to scan promoter for each gene... 2024-11-09 02:24:41
>> checking seqlevels match... 2024-11-09 02:24:41
>> your peak_GR seqlevel:Chr5...
>> your Txdb seqlevel:Chr1 Chr2 Chr3 Chr4 Chr5 ChrM ChrC...
Good, your Chrs in peak_GR is all in Txdb
>> some scan range may cross Chr bound, trimming... 2024-11-09 02:24:41
>> there are 85 gene have scaned promoter
>> using scanEnhancer parameter to scan Enhancer for each gene... 2024-11-09 02:24:41
>> checking seqlevels match... 2024-11-09 02:24:41
>> your peak_GR seqlevel:Chr5...
>> your Txdb seqlevel:Chr1 Chr2 Chr3 Chr4 Chr5 ChrM ChrC...
Good, your Chrs in peak_GR is all in Txdb
>> some scan range may cross Chr bound, trimming... 2024-11-09 02:24:41
>> calculating cor and pvalue, which may be time consuming... 2024-11-09 02:24:41
>> merging all info together... 2024-11-09 02:24:41
>> done 2024-11-09 02:24:41
Good, your two matrix colnames matchs
>> calculating cor and pvalue, which may be time consuming... 2024-11-09 02:24:41
>> merging all info together... 2024-11-09 02:24:41
>> done 2024-11-09 02:24:41
>> checking seqlevels match... 2024-11-09 02:24:41
>> your peak_GR seqlevel:Chr5...
>> your Txdb seqlevel:Chr1 Chr2 Chr3 Chr4 Chr5 ChrM ChrC...
Good, your Chrs in peak_GR is all in Txdb
------------
annotatePeak using geneScan mode begins
>> preparing gene features information and scan region... 2024-11-09 02:24:41
>> some scan range may cross Chr bound, trimming... 2024-11-09 02:24:42
>> finding overlap peak in gene scan region... 2024-11-09 02:24:42
>> dealing with left peak not your gene scan region... 2024-11-09 02:24:42
>> merging two set peaks... 2024-11-09 02:24:42
>> calculating distance and dealing with gene strand... 2024-11-09 02:24:42
>> merging all info together ... 2024-11-09 02:24:42
>> done 2024-11-09 02:24:42
Good, your two matrix colnames matchs
>> calculating cor and pvalue, which may be time consuming... 2024-11-09 02:24:42
>> merging all info together... 2024-11-09 02:24:42
>> done 2024-11-09 02:24:42
>> checking seqlevels match... 2024-11-09 02:24:42
>> your peak_GR seqlevel:Chr5...
>> your Txdb seqlevel:Chr1 Chr2 Chr3 Chr4 Chr5 ChrM ChrC...
Good, your Chrs in peak_GR is all in Txdb
>> using scanPromoter parameter to scan promoter for each gene... 2024-11-09 02:24:42
>> checking seqlevels match... 2024-11-09 02:24:42
>> your peak_GR seqlevel:Chr5...
>> your Txdb seqlevel:Chr1 Chr2 Chr3 Chr4 Chr5 ChrM ChrC...
Good, your Chrs in peak_GR is all in Txdb
>> some scan range may cross Chr bound, trimming... 2024-11-09 02:24:42
>> there are 85 gene have scaned promoter
>> using scanEnhancer parameter to scan Enhancer for each gene... 2024-11-09 02:24:43
>> checking seqlevels match... 2024-11-09 02:24:43
>> your peak_GR seqlevel:Chr5...
>> your Txdb seqlevel:Chr1 Chr2 Chr3 Chr4 Chr5 ChrM ChrC...
Good, your Chrs in peak_GR is all in Txdb
>> some scan range may cross Chr bound, trimming... 2024-11-09 02:24:43
>> calculating cor and pvalue, which may be time consuming... 2024-11-09 02:24:43
>> merging all info together... 2024-11-09 02:24:43
>> done 2024-11-09 02:24:43
Joining with `by = join_by(feature_id)`
Joining with `by = join_by(feature_id)`
`geom_smooth()` using formula = 'y ~ x'
Joining with `by = join_by(feature_id)`
Joining with `by = join_by(feature_id)`
`geom_smooth()` using formula = 'y ~ x'
[ FAIL 0 | WARN 0 | SKIP 0 | PASS 65 ]
>
> proc.time()
user system elapsed
19.666 0.738 20.404
FindIT2.Rcheck/FindIT2-Ex.timings
| name | user | system | elapsed | |
| TF_target_database | 0 | 0 | 0 | |
| calcRP_TFHit | 1.181 | 0.036 | 1.232 | |
| calcRP_coverage | 1.339 | 0.282 | 1.622 | |
| calcRP_region | 2.075 | 0.041 | 2.117 | |
| enhancerPromoterCor | 0.779 | 0.028 | 0.807 | |
| findIT_MARA | 0.123 | 0.002 | 0.126 | |
| findIT_TFHit | 0.277 | 0.008 | 0.285 | |
| findIT_TTPair | 0.021 | 0.002 | 0.022 | |
| findIT_enrichFisher | 0.042 | 0.001 | 0.043 | |
| findIT_enrichWilcox | 0.047 | 0.001 | 0.048 | |
| findIT_regionRP | 1.715 | 0.020 | 1.736 | |
| getAssocPairNumber | 0.334 | 0.005 | 0.338 | |
| integrate_ChIP_RNA | 0.575 | 0.006 | 0.581 | |
| integrate_replicates | 0.001 | 0.000 | 0.001 | |
| jaccard_findIT_TTpair | 0.026 | 0.001 | 0.028 | |
| jaccard_findIT_enrichFisher | 0.049 | 0.001 | 0.050 | |
| loadPeakFile | 0.015 | 0.000 | 0.014 | |
| mm_geneBound | 0.313 | 0.005 | 0.318 | |
| mm_geneScan | 0.330 | 0.006 | 0.336 | |
| mm_nearestGene | 0.297 | 0.003 | 0.301 | |
| peakGeneCor | 0.670 | 0.005 | 0.675 | |
| plot_annoDistance | 0.447 | 0.004 | 0.452 | |
| plot_peakGeneAlias_summary | 0.791 | 0.021 | 0.814 | |
| plot_peakGeneCor | 0.863 | 0.035 | 0.899 | |
| test_geneSet | 0 | 0 | 0 | |