| Back to Multiple platform build/check report for BioC 3.20: simplified long |
|
This page was generated on 2024-11-20 12:07 -0500 (Wed, 20 Nov 2024).
| Hostname | OS | Arch (*) | R version | Installed pkgs |
|---|---|---|---|---|
| teran2 | Linux (Ubuntu 24.04.1 LTS) | x86_64 | 4.4.2 (2024-10-31) -- "Pile of Leaves" | 4481 |
| nebbiolo2 | Linux (Ubuntu 24.04.1 LTS) | x86_64 | 4.4.2 (2024-10-31) -- "Pile of Leaves" | 4479 |
| palomino8 | Windows Server 2022 Datacenter | x64 | 4.4.2 (2024-10-31 ucrt) -- "Pile of Leaves" | 4359 |
| lconway | macOS 12.7.1 Monterey | x86_64 | 4.4.1 (2024-06-14) -- "Race for Your Life" | 4539 |
| kunpeng2 | Linux (openEuler 22.03 LTS-SP1) | aarch64 | 4.4.1 (2024-06-14) -- "Race for Your Life" | 4493 |
| Click on any hostname to see more info about the system (e.g. compilers) (*) as reported by 'uname -p', except on Windows and Mac OS X | ||||
| Package 716/2289 | Hostname | OS / Arch | INSTALL | BUILD | CHECK | BUILD BIN | ||||||||
| FindIT2 1.12.0 (landing page) Guandong Shang
| teran2 | Linux (Ubuntu 24.04.1 LTS) / x86_64 | OK | OK | OK | |||||||||
| nebbiolo2 | Linux (Ubuntu 24.04.1 LTS) / x86_64 | OK | OK | OK | ||||||||||
| palomino8 | Windows Server 2022 Datacenter / x64 | OK | OK | OK | OK | |||||||||
| lconway | macOS 12.7.1 Monterey / x86_64 | OK | OK | OK | OK | |||||||||
| kunpeng2 | Linux (openEuler 22.03 LTS-SP1) / aarch64 | OK | OK | OK | ||||||||||
|
To the developers/maintainers of the FindIT2 package: - Allow up to 24 hours (and sometimes 48 hours) for your latest push to git@git.bioconductor.org:packages/FindIT2.git to reflect on this report. See Troubleshooting Build Report for more information. - Use the following Renviron settings to reproduce errors and warnings. - If 'R CMD check' started to fail recently on the Linux builder(s) over a missing dependency, add the missing dependency to 'Suggests:' in your DESCRIPTION file. See Renviron.bioc for more information. - See Martin Grigorov's blog post for how to debug Linux ARM64 related issues on a x86_64 host. |
| Package: FindIT2 |
| Version: 1.12.0 |
| Command: /home/biocbuild/R/R/bin/R CMD check --install=check:FindIT2.install-out.txt --library=/home/biocbuild/R/R/site-library --no-vignettes --timings FindIT2_1.12.0.tar.gz |
| StartedAt: 2024-11-20 07:52:31 -0000 (Wed, 20 Nov 2024) |
| EndedAt: 2024-11-20 08:00:20 -0000 (Wed, 20 Nov 2024) |
| EllapsedTime: 469.0 seconds |
| RetCode: 0 |
| Status: OK |
| CheckDir: FindIT2.Rcheck |
| Warnings: 0 |
##############################################################################
##############################################################################
###
### Running command:
###
### /home/biocbuild/R/R/bin/R CMD check --install=check:FindIT2.install-out.txt --library=/home/biocbuild/R/R/site-library --no-vignettes --timings FindIT2_1.12.0.tar.gz
###
##############################################################################
##############################################################################
* using log directory ‘/home/biocbuild/bbs-3.20-bioc/meat/FindIT2.Rcheck’
* using R version 4.4.1 (2024-06-14)
* using platform: aarch64-unknown-linux-gnu
* R was compiled by
gcc (GCC) 12.2.1 20220819 (openEuler 12.2.1-14)
GNU Fortran (GCC) 10.3.1
* running under: openEuler 22.03 (LTS-SP1)
* using session charset: UTF-8
* using option ‘--no-vignettes’
* checking for file ‘FindIT2/DESCRIPTION’ ... OK
* this is package ‘FindIT2’ version ‘1.12.0’
* package encoding: UTF-8
* checking package namespace information ... OK
* checking package dependencies ... OK
* checking if this is a source package ... OK
* checking if there is a namespace ... OK
* checking for hidden files and directories ... OK
* checking for portable file names ... OK
* checking for sufficient/correct file permissions ... OK
* checking whether package ‘FindIT2’ can be installed ... OK
* checking installed package size ... OK
* checking package directory ... OK
* checking ‘build’ directory ... OK
* checking DESCRIPTION meta-information ... OK
* checking top-level files ... OK
* checking for left-over files ... OK
* checking index information ... OK
* checking package subdirectories ... OK
* checking code files for non-ASCII characters ... OK
* checking R files for syntax errors ... OK
* checking whether the package can be loaded ... OK
* checking whether the package can be loaded with stated dependencies ... OK
* checking whether the package can be unloaded cleanly ... OK
* checking whether the namespace can be loaded with stated dependencies ... OK
* checking whether the namespace can be unloaded cleanly ... OK
* checking loading without being on the library search path ... OK
* checking dependencies in R code ... OK
* checking S3 generic/method consistency ... OK
* checking replacement functions ... OK
* checking foreign function calls ... OK
* checking R code for possible problems ... OK
* checking Rd files ... OK
* checking Rd metadata ... OK
* checking Rd cross-references ... OK
* checking for missing documentation entries ... OK
* checking for code/documentation mismatches ... OK
* checking Rd \usage sections ... OK
* checking Rd contents ... OK
* checking for unstated dependencies in examples ... OK
* checking contents of ‘data’ directory ... OK
* checking data for non-ASCII characters ... OK
* checking data for ASCII and uncompressed saves ... OK
* checking files in ‘vignettes’ ... OK
* checking examples ... OK
Examples with CPU (user + system) or elapsed time > 5s
user system elapsed
calcRP_coverage 10.534 0.707 11.316
findIT_regionRP 8.202 0.072 8.297
calcRP_region 7.399 0.184 7.643
* checking for unstated dependencies in ‘tests’ ... OK
* checking tests ...
Running ‘testthat.R’
OK
* checking for unstated dependencies in vignettes ... OK
* checking package vignettes ... OK
* checking running R code from vignettes ... SKIPPED
* checking re-building of vignette outputs ... SKIPPED
* checking PDF version of manual ... OK
* DONE
Status: OK
FindIT2.Rcheck/00install.out
############################################################################## ############################################################################## ### ### Running command: ### ### /home/biocbuild/R/R/bin/R CMD INSTALL FindIT2 ### ############################################################################## ############################################################################## * installing to library ‘/home/biocbuild/R/R-4.4.1/site-library’ * installing *source* package ‘FindIT2’ ... ** using staged installation ** R ** data ** inst ** byte-compile and prepare package for lazy loading ** help *** installing help indices ** building package indices ** installing vignettes ** testing if installed package can be loaded from temporary location ** testing if installed package can be loaded from final location ** testing if installed package keeps a record of temporary installation path * DONE (FindIT2)
FindIT2.Rcheck/tests/testthat.Rout
R version 4.4.1 (2024-06-14) -- "Race for Your Life"
Copyright (C) 2024 The R Foundation for Statistical Computing
Platform: aarch64-unknown-linux-gnu
R is free software and comes with ABSOLUTELY NO WARRANTY.
You are welcome to redistribute it under certain conditions.
Type 'license()' or 'licence()' for distribution details.
R is a collaborative project with many contributors.
Type 'contributors()' for more information and
'citation()' on how to cite R or R packages in publications.
Type 'demo()' for some demos, 'help()' for on-line help, or
'help.start()' for an HTML browser interface to help.
Type 'q()' to quit R.
> library(testthat)
> library(FindIT2)
Loading required package: GenomicRanges
Loading required package: stats4
Loading required package: BiocGenerics
Attaching package: 'BiocGenerics'
The following objects are masked from 'package:stats':
IQR, mad, sd, var, xtabs
The following objects are masked from 'package:base':
Filter, Find, Map, Position, Reduce, anyDuplicated, aperm, append,
as.data.frame, basename, cbind, colnames, dirname, do.call,
duplicated, eval, evalq, get, grep, grepl, intersect, is.unsorted,
lapply, mapply, match, mget, order, paste, pmax, pmax.int, pmin,
pmin.int, rank, rbind, rownames, sapply, saveRDS, setdiff, table,
tapply, union, unique, unsplit, which.max, which.min
Loading required package: S4Vectors
Attaching package: 'S4Vectors'
The following object is masked from 'package:utils':
findMatches
The following objects are masked from 'package:base':
I, expand.grid, unname
Loading required package: IRanges
Loading required package: GenomeInfoDb
> if (!requireNamespace("TxDb.Athaliana.BioMart.plantsmart28")) {
+ stop("unable to load TxDb.Athaliana.BioMart.plantsmart28")
+ }
Loading required namespace: TxDb.Athaliana.BioMart.plantsmart28
>
> test_check("FindIT2")
>> preparing gene features information... 2024-11-20 07:59:01
>> some scan range may cross Chr bound, trimming... 2024-11-20 07:59:02
>> preparing weight info... 2024-11-20 07:59:02
>> loading E50h_sampleChr5.bw info... 2024-11-20 07:59:02
------------
>> extracting and calcluating Chr5 signal... 2024-11-20 07:59:02
>> dealing with Chr5 left gene signal... 2024-11-20 07:59:11
>> norming Chr5RP accoring to the whole Chr RP... 2024-11-20 07:59:11
>> merging all Chr RP together... 2024-11-20 07:59:11
>> done 2024-11-20 07:59:11
>> checking seqlevels match... 2024-11-20 07:59:11
>> your peak_GR seqlevel:Chr5...
>> your Txdb seqlevel:Chr1 Chr2 Chr3 Chr4 Chr5 ChrM ChrC...
Good, your Chrs in peak_GR is all in Txdb
------------
annotatePeak using geneScan mode begins
>> preparing gene features information and scan region... 2024-11-20 07:59:11
>> some scan range may cross Chr bound, trimming... 2024-11-20 07:59:12
>> finding overlap peak in gene scan region... 2024-11-20 07:59:12
>> dealing with left peak not your gene scan region... 2024-11-20 07:59:12
>> merging two set peaks... 2024-11-20 07:59:13
>> calculating distance and dealing with gene strand... 2024-11-20 07:59:13
>> merging all info together ... 2024-11-20 07:59:13
>> done 2024-11-20 07:59:13
>> calculating peakCenter to TSS using peak-gene pair... 2024-11-20 07:59:13
>> pre-filling 1356 noAssoc peak gene's RP with 0... 2024-11-20 07:59:14
>> calculating RP using centerToTSS and peak score2024-11-20 07:59:14
>> merging all info together 2024-11-20 07:59:17
>> done 2024-11-20 07:59:18
>> calculating peakCenter to TSS using peak-gene pair... 2024-11-20 07:59:18
>> pre-filling 1356 noAssoc peak gene's RP with 0... 2024-11-20 07:59:19
>> calculating RP using centerToTSS and peak score2024-11-20 07:59:19
>> merging all info together 2024-11-20 07:59:23
>> done 2024-11-20 07:59:23
>> checking seqlevels match... 2024-11-20 07:59:23
>> your peak_GR seqlevel:Chr5...
>> your Txdb seqlevel:Chr1 Chr2 Chr3 Chr4 Chr5 ChrM ChrC...
Good, your Chrs in peak_GR is all in Txdb
------------
annotatePeak using geneScan mode begins
>> preparing gene features information and scan region... 2024-11-20 07:59:23
>> some scan range may cross Chr bound, trimming... 2024-11-20 07:59:24
>> finding overlap peak in gene scan region... 2024-11-20 07:59:24
>> dealing with left peak not your gene scan region... 2024-11-20 07:59:24
>> merging two set peaks... 2024-11-20 07:59:25
>> calculating distance and dealing with gene strand... 2024-11-20 07:59:25
>> merging all info together ... 2024-11-20 07:59:25
>> done 2024-11-20 07:59:25
>> calculating peakCenter to TSS using peak-gene pair... 2024-11-20 07:59:25
>> calculating RP using centerToTSS and TF hit 2024-11-20 07:59:26
>> merging all info together 2024-11-20 07:59:26
>> done 2024-11-20 07:59:26
>> calculating peakCenter to TSS using peak-gene pair... 2024-11-20 07:59:26
>> calculating RP using centerToTSS and TF hit 2024-11-20 07:59:28
>> merging all info together 2024-11-20 07:59:28
>> done 2024-11-20 07:59:28
>> checking seqlevels match... 2024-11-20 07:59:29
>> your peak_GR seqlevel:Chr5...
>> your Txdb seqlevel:Chr1 Chr2 Chr3 Chr4 Chr5 ChrM ChrC...
Good, your Chrs in peak_GR is all in Txdb
------------
annotatePeak using geneScan mode begins
>> preparing gene features information and scan region... 2024-11-20 07:59:29
>> some scan range may cross Chr bound, trimming... 2024-11-20 07:59:30
>> finding overlap peak in gene scan region... 2024-11-20 07:59:30
>> dealing with left peak not your gene scan region... 2024-11-20 07:59:30
>> merging two set peaks... 2024-11-20 07:59:31
>> calculating distance and dealing with gene strand... 2024-11-20 07:59:31
>> merging all info together ... 2024-11-20 07:59:31
>> done 2024-11-20 07:59:31
>> calculating peakCenter to TSS using peak-gene pair... 2024-11-20 07:59:31
>> pre-filling 1356 noAssoc peak gene's RP with 0... 2024-11-20 07:59:32
>> calculating RP using centerToTSS and peak score2024-11-20 07:59:32
>> merging all info together 2024-11-20 07:59:34
>> done 2024-11-20 07:59:35
>> extracting RP info from regionRP... 2024-11-20 07:59:36
>> dealing with TF_GR_databse... 2024-11-20 07:59:36
>> calculating percent and p-value... 2024-11-20 07:59:36
>> dealing withE5_0h_R1... 2024-11-20 07:59:36
>> dealing withE5_0h_R2... 2024-11-20 07:59:36
>> dealing withE5_4h_R1... 2024-11-20 07:59:36
>> dealing withE5_4h_R2... 2024-11-20 07:59:36
>> dealing withE5_8h_R1... 2024-11-20 07:59:36
>> dealing withE5_8h_R2... 2024-11-20 07:59:36
>> dealing withE5_16h_R1... 2024-11-20 07:59:36
>> dealing withE5_16h_R2... 2024-11-20 07:59:36
>> dealing withE5_24h_R1... 2024-11-20 07:59:37
>> dealing withE5_24h_R2... 2024-11-20 07:59:37
>> dealing withE5_48h_R1... 2024-11-20 07:59:37
>> dealing withE5_48h_R2... 2024-11-20 07:59:37
>> dealing withE5_48h_R3... 2024-11-20 07:59:37
>> dealing withE5_72h_R1... 2024-11-20 07:59:37
>> dealing withE5_72h_R2... 2024-11-20 07:59:37
>> dealing withE5_72h_R3... 2024-11-20 07:59:37
>> merging all info together... 2024-11-20 07:59:37
>> done 2024-11-20 07:59:37
>> preparing gene features information... 2024-11-20 07:59:37
>> some scan range may cross Chr bound, trimming... 2024-11-20 07:59:38
>> calculating p-value for each TF, which may be time consuming... 2024-11-20 07:59:38
>> merging all info together... 2024-11-20 07:59:38
>> done 2024-11-20 07:59:38
>> dealing with TF_GR_database... 2024-11-20 07:59:39
>> calculating coef and converting into z-score using INT... 2024-11-20 07:59:39
>> dealing with E5_0h_R1... 2024-11-20 07:59:39
>> dealing with E5_0h_R2... 2024-11-20 07:59:39
>> dealing with E5_4h_R1... 2024-11-20 07:59:39
>> dealing with E5_4h_R2... 2024-11-20 07:59:39
>> dealing with E5_8h_R1... 2024-11-20 07:59:39
>> dealing with E5_8h_R2... 2024-11-20 07:59:39
>> dealing with E5_16h_R1... 2024-11-20 07:59:40
>> dealing with E5_16h_R2... 2024-11-20 07:59:40
>> dealing with E5_24h_R1... 2024-11-20 07:59:40
>> dealing with E5_24h_R2... 2024-11-20 07:59:40
>> dealing with E5_48h_R1... 2024-11-20 07:59:40
>> dealing with E5_48h_R2... 2024-11-20 07:59:40
>> dealing with E5_48h_R3... 2024-11-20 07:59:40
>> dealing with E5_72h_R1... 2024-11-20 07:59:40
>> dealing with E5_72h_R2... 2024-11-20 07:59:40
>> dealing with E5_72h_R3... 2024-11-20 07:59:40
>> merging all info together... 2024-11-20 07:59:40
>> done 2024-11-20 07:59:41
>> checking seqlevels match... 2024-11-20 07:59:41
>> your peak_GR seqlevel:Chr5...
>> your Txdb seqlevel:Chr1 Chr2 Chr3 Chr4 Chr5 ChrM ChrC...
Good, your Chrs in peak_GR is all in Txdb
------------
annotatePeak using geneScan mode begins
>> preparing gene features information and scan region... 2024-11-20 07:59:41
>> some scan range may cross Chr bound, trimming... 2024-11-20 07:59:42
>> finding overlap peak in gene scan region... 2024-11-20 07:59:42
>> dealing with left peak not your gene scan region... 2024-11-20 07:59:42
>> merging two set peaks... 2024-11-20 07:59:42
>> calculating distance and dealing with gene strand... 2024-11-20 07:59:42
>> merging all info together ... 2024-11-20 07:59:42
>> done 2024-11-20 07:59:42
>> calculating peakCenter to TSS using peak-gene pair... 2024-11-20 07:59:42
>> calculating RP using centerToTSS and TF hit 2024-11-20 07:59:43
>> merging all info together 2024-11-20 07:59:43
>> done 2024-11-20 07:59:43
>> checking seqlevels match... 2024-11-20 07:59:44
>> your peak_GR seqlevel:5...
>> your Txdb seqlevel:Chr1 Chr2 Chr3 Chr4 Chr5 ChrM ChrC...
>> checking seqlevels match... 2024-11-20 07:59:44
>> your peak_GR seqlevel:Chr5 Chr6...
>> your Txdb seqlevel:Chr1 Chr2 Chr3 Chr4 Chr5 ChrM ChrC...
>> checking seqlevels match... 2024-11-20 07:59:48
>> your peak_GR seqlevel:Chr5...
>> your Txdb seqlevel:Chr1 Chr2 Chr3 Chr4 Chr5 ChrM ChrC...
Good, your Chrs in peak_GR is all in Txdb
>> checking seqlevels match... 2024-11-20 07:59:48
>> your peak_GR seqlevel:Chr5...
>> your Txdb seqlevel:Chr1 Chr2 Chr3 Chr4 Chr5 ChrM ChrC...
Good, your Chrs in peak_GR is all in Txdb
------------
annotating Peak using nearest gene mode begins
>> preparing gene features information... 2024-11-20 07:59:48
>> finding nearest gene and calculating distance... 2024-11-20 07:59:49
>> dealing with gene strand ... 2024-11-20 07:59:49
>> merging all info together ... 2024-11-20 07:59:49
>> done 2024-11-20 07:59:49
>> checking seqlevels match... 2024-11-20 07:59:50
>> your peak_GR seqlevel:Chr5...
>> your Txdb seqlevel:Chr1 Chr2 Chr3 Chr4 Chr5 ChrM ChrC...
Good, your Chrs in peak_GR is all in Txdb
>> checking seqlevels match... 2024-11-20 07:59:50
>> your peak_GR seqlevel:Chr5...
>> your Txdb seqlevel:Chr1 Chr2 Chr3 Chr4 Chr5 ChrM ChrC...
Good, your Chrs in peak_GR is all in Txdb
------------
annotating Peak using nearest gene mode begins
>> preparing gene features information... 2024-11-20 07:59:50
>> finding nearest gene and calculating distance... 2024-11-20 07:59:51
>> dealing with gene strand ... 2024-11-20 07:59:51
>> merging all info together ... 2024-11-20 07:59:51
>> done 2024-11-20 07:59:51
>> checking seqlevels match... 2024-11-20 07:59:52
>> your peak_GR seqlevel:Chr5...
>> your Txdb seqlevel:Chr1 Chr2 Chr3 Chr4 Chr5 ChrM ChrC...
Good, your Chrs in peak_GR is all in Txdb
>> checking seqlevels match... 2024-11-20 07:59:52
>> your peak_GR seqlevel:Chr5...
>> your Txdb seqlevel:Chr1 Chr2 Chr3 Chr4 Chr5 ChrM ChrC...
Good, your Chrs in peak_GR is all in Txdb
------------
annotating Peak using nearest gene mode begins
>> preparing gene features information... 2024-11-20 07:59:52
>> finding nearest gene and calculating distance... 2024-11-20 07:59:53
>> dealing with gene strand ... 2024-11-20 07:59:53
>> merging all info together ... 2024-11-20 07:59:53
>> done 2024-11-20 07:59:53
>> checking seqlevels match... 2024-11-20 07:59:55
>> your peak_GR seqlevel:Chr5...
>> your Txdb seqlevel:Chr1 Chr2 Chr3 Chr4 Chr5 ChrM ChrC...
Good, your Chrs in peak_GR is all in Txdb
>> checking seqlevels match... 2024-11-20 07:59:55
>> your peak_GR seqlevel:Chr5...
>> your Txdb seqlevel:Chr1 Chr2 Chr3 Chr4 Chr5 ChrM ChrC...
Good, your Chrs in peak_GR is all in Txdb
------------
annotating Peak using nearest gene mode begins
>> preparing gene features information... 2024-11-20 07:59:55
>> finding nearest gene and calculating distance... 2024-11-20 07:59:56
>> dealing with gene strand ... 2024-11-20 07:59:56
>> merging all info together ... 2024-11-20 07:59:56
>> done 2024-11-20 07:59:56
It seems that there 1 genes have not been annotated by nearestGene mode
>> checking seqlevels match... 2024-11-20 07:59:57
>> your peak_GR seqlevel:Chr5...
>> your Txdb seqlevel:Chr1 Chr2 Chr3 Chr4 Chr5 ChrM ChrC...
Good, your Chrs in peak_GR is all in Txdb
>> checking seqlevels match... 2024-11-20 07:59:57
>> your peak_GR seqlevel:Chr5...
>> your Txdb seqlevel:Chr1 Chr2 Chr3 Chr4 Chr5 ChrM ChrC...
Good, your Chrs in peak_GR is all in Txdb
------------
annotating Peak using nearest gene mode begins
>> preparing gene features information... 2024-11-20 07:59:57
>> finding nearest gene and calculating distance... 2024-11-20 07:59:58
>> dealing with gene strand ... 2024-11-20 07:59:58
>> merging all info together ... 2024-11-20 07:59:58
>> done 2024-11-20 07:59:58
It seems that there 1 genes have not been annotated by nearestGene mode
>> checking seqlevels match... 2024-11-20 08:00:00
>> your peak_GR seqlevel:Chr5...
>> your Txdb seqlevel:Chr1 Chr2 Chr3 Chr4 Chr5 ChrM ChrC...
Good, your Chrs in peak_GR is all in Txdb
>> checking seqlevels match... 2024-11-20 08:00:01
>> your peak_GR seqlevel:Chr5...
>> your Txdb seqlevel:Chr1 Chr2 Chr3 Chr4 Chr5 ChrM ChrC...
Good, your Chrs in peak_GR is all in Txdb
>> some scan range may cross Chr bound, trimming... 2024-11-20 08:00:02
>> checking seqlevels match... 2024-11-20 08:00:03
>> your peak_GR seqlevel:Chr5...
>> your Txdb seqlevel:Chr1 Chr2 Chr3 Chr4 Chr5 ChrM ChrC...
Good, your Chrs in peak_GR is all in Txdb
>> some scan range may cross Chr bound, trimming... 2024-11-20 08:00:04
Good, your two matrix colnames matchs
>> calculating cor and pvalue, which may be time consuming... 2024-11-20 08:00:06
>> merging all info together... 2024-11-20 08:00:06
>> done 2024-11-20 08:00:06
>> checking seqlevels match... 2024-11-20 08:00:06
>> your peak_GR seqlevel:Chr5...
>> your Txdb seqlevel:Chr1 Chr2 Chr3 Chr4 Chr5 ChrM ChrC...
Good, your Chrs in peak_GR is all in Txdb
>> using scanPromoter parameter to scan promoter for each gene... 2024-11-20 08:00:06
>> checking seqlevels match... 2024-11-20 08:00:06
>> your peak_GR seqlevel:Chr5...
>> your Txdb seqlevel:Chr1 Chr2 Chr3 Chr4 Chr5 ChrM ChrC...
Good, your Chrs in peak_GR is all in Txdb
>> some scan range may cross Chr bound, trimming... 2024-11-20 08:00:07
>> there are 85 gene have scaned promoter
>> using scanEnhancer parameter to scan Enhancer for each gene... 2024-11-20 08:00:08
>> checking seqlevels match... 2024-11-20 08:00:08
>> your peak_GR seqlevel:Chr5...
>> your Txdb seqlevel:Chr1 Chr2 Chr3 Chr4 Chr5 ChrM ChrC...
Good, your Chrs in peak_GR is all in Txdb
>> some scan range may cross Chr bound, trimming... 2024-11-20 08:00:09
>> calculating cor and pvalue, which may be time consuming... 2024-11-20 08:00:09
>> merging all info together... 2024-11-20 08:00:09
>> done 2024-11-20 08:00:09
Good, your two matrix colnames matchs
>> calculating cor and pvalue, which may be time consuming... 2024-11-20 08:00:09
>> merging all info together... 2024-11-20 08:00:09
>> done 2024-11-20 08:00:09
>> checking seqlevels match... 2024-11-20 08:00:10
>> your peak_GR seqlevel:Chr5...
>> your Txdb seqlevel:Chr1 Chr2 Chr3 Chr4 Chr5 ChrM ChrC...
Good, your Chrs in peak_GR is all in Txdb
------------
annotatePeak using geneScan mode begins
>> preparing gene features information and scan region... 2024-11-20 08:00:10
>> some scan range may cross Chr bound, trimming... 2024-11-20 08:00:11
>> finding overlap peak in gene scan region... 2024-11-20 08:00:11
>> dealing with left peak not your gene scan region... 2024-11-20 08:00:11
>> merging two set peaks... 2024-11-20 08:00:11
>> calculating distance and dealing with gene strand... 2024-11-20 08:00:11
>> merging all info together ... 2024-11-20 08:00:11
>> done 2024-11-20 08:00:11
Good, your two matrix colnames matchs
>> calculating cor and pvalue, which may be time consuming... 2024-11-20 08:00:13
>> merging all info together... 2024-11-20 08:00:13
>> done 2024-11-20 08:00:13
>> checking seqlevels match... 2024-11-20 08:00:13
>> your peak_GR seqlevel:Chr5...
>> your Txdb seqlevel:Chr1 Chr2 Chr3 Chr4 Chr5 ChrM ChrC...
Good, your Chrs in peak_GR is all in Txdb
>> using scanPromoter parameter to scan promoter for each gene... 2024-11-20 08:00:13
>> checking seqlevels match... 2024-11-20 08:00:13
>> your peak_GR seqlevel:Chr5...
>> your Txdb seqlevel:Chr1 Chr2 Chr3 Chr4 Chr5 ChrM ChrC...
Good, your Chrs in peak_GR is all in Txdb
>> some scan range may cross Chr bound, trimming... 2024-11-20 08:00:14
>> there are 85 gene have scaned promoter
>> using scanEnhancer parameter to scan Enhancer for each gene... 2024-11-20 08:00:14
>> checking seqlevels match... 2024-11-20 08:00:14
>> your peak_GR seqlevel:Chr5...
>> your Txdb seqlevel:Chr1 Chr2 Chr3 Chr4 Chr5 ChrM ChrC...
Good, your Chrs in peak_GR is all in Txdb
>> some scan range may cross Chr bound, trimming... 2024-11-20 08:00:15
>> calculating cor and pvalue, which may be time consuming... 2024-11-20 08:00:16
>> merging all info together... 2024-11-20 08:00:16
>> done 2024-11-20 08:00:16
Joining with `by = join_by(feature_id)`
Joining with `by = join_by(feature_id)`
`geom_smooth()` using formula = 'y ~ x'
Joining with `by = join_by(feature_id)`
Joining with `by = join_by(feature_id)`
`geom_smooth()` using formula = 'y ~ x'
[ FAIL 0 | WARN 0 | SKIP 0 | PASS 65 ]
>
> proc.time()
user system elapsed
90.635 1.627 92.420
FindIT2.Rcheck/FindIT2-Ex.timings
| name | user | system | elapsed | |
| TF_target_database | 0 | 0 | 0 | |
| calcRP_TFHit | 3.887 | 0.095 | 4.147 | |
| calcRP_coverage | 10.534 | 0.707 | 11.316 | |
| calcRP_region | 7.399 | 0.184 | 7.643 | |
| enhancerPromoterCor | 3.500 | 0.039 | 3.549 | |
| findIT_MARA | 0.537 | 0.007 | 0.546 | |
| findIT_TFHit | 1.226 | 0.024 | 1.253 | |
| findIT_TTPair | 0.097 | 0.000 | 0.097 | |
| findIT_enrichFisher | 0.193 | 0.024 | 0.218 | |
| findIT_enrichWilcox | 0.254 | 0.000 | 0.255 | |
| findIT_regionRP | 8.202 | 0.072 | 8.297 | |
| getAssocPairNumber | 1.633 | 0.004 | 1.655 | |
| integrate_ChIP_RNA | 2.950 | 0.032 | 3.035 | |
| integrate_replicates | 0.002 | 0.000 | 0.003 | |
| jaccard_findIT_TTpair | 0.123 | 0.004 | 0.128 | |
| jaccard_findIT_enrichFisher | 0.259 | 0.000 | 0.260 | |
| loadPeakFile | 0.073 | 0.004 | 0.078 | |
| mm_geneBound | 1.624 | 0.011 | 1.639 | |
| mm_geneScan | 1.713 | 0.000 | 1.716 | |
| mm_nearestGene | 1.535 | 0.019 | 1.558 | |
| peakGeneCor | 3.232 | 0.019 | 3.257 | |
| plot_annoDistance | 2.070 | 0.032 | 2.106 | |
| plot_peakGeneAlias_summary | 1.799 | 0.024 | 1.826 | |
| plot_peakGeneCor | 4.072 | 0.044 | 4.127 | |
| test_geneSet | 0 | 0 | 0 | |